Workbook

Sheet RESUMEN
A1: MINISTERIO DE SALUD
A2: SERVICIO DE SALUD COQUIMBO
A3: SUBDIRECCION DE GESTION ASISTENCIAL
A4: SUBDEPTO DE ESTADÍSTICA Y GESTIÓN DE LA INFORMACIÓN
A5: COMUNA | B5: RESUMEN DE CUMPLIMIENTO DE METAS A ABRIL 2017
B6: CORTE A MARZO
B8: METAS COMPONENTE ESTRATEGIA RISS, PRODUCCIÓN,COBERTURA EFECTIVA E IMPACTO SANITARIO
B9: META Nº2 | C9: META Nº3.1 | D9: META Nº5 | E9: META Nº6 | F9: META Nº7 | G9: META Nº8.1 | H9: META Nº8.2 | I9: META Nº8.3 | J9: META Nº9 | K9: META Nº10 | L9: META Nº11 | M9: META Nº12 | N9: META Nº13 | O9: META Nº14 | P9: META Nº17 | Q9: META Nº18 | R9: META Nº19 | S9: META Nº20 | T9: META Nº21 | U9: CUMPLIMIENTO GENERAL
B10: Familias Evaluadas según riesgo (*) | C10: Gestion de Reclamos APS | D10: Consultas de Morbilidad y Controles Médicos | E10: SIC derivadas desde la APS al Nivel Secundario | F10: Visita domiciliaria integral | G10: EMP hombres 20 a 64 años | H10: EMP mujeres de 45 a 64 años | I10: EMP 65 y mas años | J10: Evaluación del desarrollo Psicomotor de niños/as de 12 a 23 meses bajo control | K10: Control de salud integral adolescentes de 10 a 14 años | L10: Alta odontologica menores de 20 años | M10: Cobertura de Atención Integral de trastornos mentales en personas de 5 y más años | N10: Cobertura de Atención de Asma en Población general y EPOC en personas de 40 años y más | O10: Capacitación a Cuidadores de personas con Dependencia Severa con Pago de Estipendio (*) | P10: Control embarazada | Q10: Cobertura de Métodos Anticonceptivos en Adolescentes (*) | R10: Cobertura DM2 en personas de 15 y mas años (*) | S10: Cobertutra HTA en personas de 15 y mas años (*) | T10: Proporción de Niñas y Niños de 3 años libre de Caries
A12: LA HIGUERA | B12: N/A | C12: =+'META 3.1'!$C$16 -> #DIV/0! | D12: =+'META 5 '!C16 -> 1.7436725 | E12: =+'META 6'!$C$16 -> 2.5795455 | F12: =+'META 7'!$C$16 -> 0.73784136 | G12: =+'META 8.1'!$C$16 -> 0 | H12: =+'META 8.2'!$C$16 -> 0 | I12: =+'META 8.3'!$C$16 -> 0 | J12: =+'META 9'!$C$16 -> 0.21276596 | K12: =+'META 10'!$C$16 -> 0 | L12: =+'META 11'!$C$16 -> 0 | M12: =+'META 12'!$C$16 -> 1.0155961 | N12: =+'META 13'!$C$16 -> 1.0052189 | O12: =+'META 14'!$C$16 -> 0 | P12: =+'META 17'!$C$16 -> 0.91837672 | Q12: =+'META 18'!$C$16 -> 0 | R12: =+'META 19'!$C$16 -> 0 | S12: =+'META 20'!$C$16 -> 0 | T12: =+'META 21'!$C$16 -> SI | U12: =+'META 3.1'!$C$16 -> #DIV/0!
A13: PAIHUANO | B13: N/A | C13: =+'META 3.1'!$C$21 -> 1.0204082 | D13: =+'META 5 '!C21 -> 1.8316455 | E13: =+'META 6'!$C$21 -> 0.60195313 | F13: =+'META 7'!$C$21 -> 2.2425414 | G13: =+'META 8.1'!$C$21 -> 0 | H13: =+'META 8.2'!$C$21 -> 0.075769286 | I13: =+'META 8.3'!$C$21 -> 0.89177339 | J13: =+'META 9'!$C$21 -> 0.23881893 | K13: =+'META 10'!$C$21 -> 0 | L13: =+'META 11'!$C$21 -> 2.1219136 | M13: =+'META 12'!$C$21 -> 0 | N13: =+'META 13'!$C$21 -> 0.58395711 | O13: =+'META 14'!$C$21 -> 0 | P13: =+'META 17'!$C$21 -> 1.1085246 | Q13: =+'META 18'!$C$21 -> 0 | R13: =+'META 19'!$C$21 -> 0 | S13: =+'META 20'!$C$21 -> 0 | T13: =+'META 21'!$C$21 -> SI | U13: =+'META 3.1'!$C$21 -> 1.0204082
A14: (*) Metas a Evaluar con Serie P de Junio 2017
A17: COMUNA | B17: RESUMEN DE CUMPLIMIENTO DE METAS A MARZO 2016
B19: CORTE A MARZO
B20: METAS COMPONENTE ACTIVIDAD GENERAL
B21: META Nº1 | C21: META Nº2 | D21: META Nº3 | E21: META Nº4 | F21: META Nº5 | G21: META Nº6 | H21: META Nº7 | I21: META Nº8 | J21: META Nº9 | K21: META Nº10 | L21: META Nº11 | M21: META Nº12 | N21: META Nº13
B22: EMP hombres 20 a 44 años | C22: EMP mujeres de 45 a 64 años | D22: EMP 65 y mas años | E22: Control embarazada | F22: Alta odontologica menores de 20 años | G22: Gestion de reclamos | H22: Cobertura DM2 en personas de 15 y mas años | I22: Cobertutra HTA en personas de 15 y mas años | J22: Cobertura de Evaluación del desarrollo Psicomotor de niños/as de 12 a 23 meses bajo control | K22: Visita domiciliaria integral | L22: Cobertura de Atención de Asma en Población general y EPOC en personas de 40 años y más | M22: Cobertura de Atención Integral de trastornos mentales en personas de 5 y más años | N22: Cobertura de control de salud integral a adolescentes de 10 a 14 años
A24: LA HIGUERA | B24: =IF(B12="n/a","n/a",IF(B12="","",IF(B12>1,1,B12))) -> n/a | C24: =IF(C12="n/a","n/a",IF(C12="","",IF(C12>1,1,C12))) -> #DIV/0! | D24: =IF(D12="n/a","n/a",IF(D12="","",IF(D12>1,1,D12))) -> 1 | E24: =IF(E12="n/a","n/a",IF(E12="","",IF(E12>1,1,E12))) -> 1 | F24: =IF(F12="n/a","n/a",IF(F12="","",IF(F12>1,1,F12))) -> 0.73784136 | G24: =IF(G12="n/a","n/a",IF(G12="","",IF(G12>1,1,G12))) -> 0 | H24: =IF(H12="n/a","n/a",IF(H12="","",IF(H12>1,1,H12))) -> 0 | I24: =IF(I12="n/a","n/a",IF(I12="","",IF(I12>1,1,I12))) -> 0 | ... N24: =IF(N12="n/a","n/a",IF(N12="","",IF(N12>1,1,N12))) -> 1
A25: PAIHUANO | B25: =IF(B13="n/a","n/a",IF(B13="","",IF(B13>1,1,B13))) -> n/a | C25: =IF(C13="n/a","n/a",IF(C13="","",IF(C13>1,1,C13))) -> 1 | D25: =IF(D13="n/a","n/a",IF(D13="","",IF(D13>1,1,D13))) -> 1 | E25: =IF(E13="n/a","n/a",IF(E13="","",IF(E13>1,1,E13))) -> 0.60195313 | F25: =IF(F13="n/a","n/a",IF(F13="","",IF(F13>1,1,F13))) -> 1 | G25: =IF(G13="n/a","n/a",IF(G13="","",IF(G13>1,1,G13))) -> 0 | H25: =IF(H13="n/a","n/a",IF(H13="","",IF(H13>1,1,H13))) -> 0.075769286 | I25: =IF(I13="n/a","n/a",IF(I13="","",IF(I13>1,1,I13))) -> 0.89177339 | ... N25: =IF(N13="n/a","n/a",IF(N13="","",IF(N13>1,1,N13))) -> 0.58395711

Sheet META 2
A1: COMUNA | B1: ESTABLECIMIENTO | C1: CUMPLIMIENTO | D1: Indicador | E1: META 2 : FAMILIAS EVALUADAS SEGÚN RIESGO FAMILIAR
E2: NUMERADOR | G2: DENOMINADOR
E10: Nº de familias evaluadas según riesgo familiar | G10: Total de familias Insciritas (población estimada/3,3)
D11: Resultado | E11: A JUNIO | F11: A DICBRE
A12: 04104-LA HIGUERA | B12: 105314-CES. LA HIGUERA
A13: 04104-LA HIGUERA | B13: 105500-P.S.R. CALETA HORNOS
A14: 04104-LA HIGUERA | B14: 105505-P.S.R. LOS CHOROS
A15: 04104-LA HIGUERA | B15: 105506-P.S.R. EL TRAPICHE
A16: TOTAL LA HIGUERA | D16: =+E16/G16 -> 0 | E16: =SUM(E12:E15) -> 0 | F16: =SUM(F12:F15) -> 0 | G16: 1195
A17: 04105-PAIHUANO | B17: 105306-CES. PAIHUANO
A18: 04105-PAIHUANO | B18: 105475-P.S.R. HORCON
A19: 04105-PAIHUANO | B19: 105476-P.S.R. MONTE GRANDE
A20: 04105-PAIHUANO | B20: 105477-P.S.R. PISCO ELQUI
A21: TOTAL PAIHUANO | D21: =+E21/G21 -> 0 | E21: =SUM(E17:E20) -> 0 | F21: =SUM(F17:F20) -> 0 | G21: 1416
B22: TOTAL

Sheet META 3.1
A1: COMUNA | B1: ESTABLECIMIENTO | C1: CUMPLIMIENTO | D1: Indicador | E1: META 3.1: GESTION DE RECLAMOS EN APS
E2: NUMERADOR | R2: DENOMINADOR
E10: Nº total de reclamos respondidos con solución dentro de los plazos legales establecidos (15 días hábiles) | R10: Nº total de reclamos
D11: Resultado | E11: ENERO | F11: FEBRERO | G11: MARZO | H11: ABRIL | I11: MAYO | J11: JUNIO | K11: JULIO | L11: AGOSTO | M11: SEPBRE | N11: OCTBRE | O11: NOVBRE | P11: DICBRE | Q11: TOTAL | R11: ENERO | S11: FEBRERO | T11: MARZO | U11: ABRIL | V11: MAYO | W11: JUNIO | X11: JULIO | Y11: AGOSTO | Z11: SEPBRE | AA11: OCTBRE | AB11: NOVBRE | AC11: DICBRE | AD11: TOTAL
A12: 04104-LA HIGUERA | B12: 105314-CES. LA HIGUERA | E12: =IFERROR(VLOOKUP($B12,[1]NUM3.1!$H$3:$L$64,2,FALSE),0) -> 0 | F12: =IFERROR(VLOOKUP($B12,[1]NUM3.1!$H$3:$L$64,3,FALSE),0) -> 0 | G12: =IFERROR(VLOOKUP($B12,[1]NUM3.1!$H$3:$L$64,4,FALSE),0) -> 0 | Q12: =SUM(E12:P12) -> 0 | R12: =IFERROR(VLOOKUP($B12,[1]DEN3.1!$H$3:$L$64,2,FALSE),0) -> 0 | S12: =IFERROR(VLOOKUP($B12,[1]DEN3.1!$H$3:$L$64,3,FALSE),0) -> 0 | T12: =IFERROR(VLOOKUP($B12,[1]DEN3.1!$H$3:$L$64,4,FALSE),0) -> 0 | AD12: =SUM(R12:AC12) -> 0
A13: 04104-LA HIGUERA | B13: 105500-P.S.R. CALETA HORNOS | E13: =IFERROR(VLOOKUP($B13,[1]NUM3.1!$H$3:$L$64,2,FALSE),0) -> 0 | F13: =IFERROR(VLOOKUP($B13,[1]NUM3.1!$H$3:$L$64,3,FALSE),0) -> 0 | G13: =IFERROR(VLOOKUP($B13,[1]NUM3.1!$H$3:$L$64,4,FALSE),0) -> 0 | Q13: =SUM(E13:P13) -> 0 | R13: =IFERROR(VLOOKUP($B13,[1]DEN3.1!$H$3:$L$64,2,FALSE),0) -> 0 | S13: =IFERROR(VLOOKUP($B13,[1]DEN3.1!$H$3:$L$64,3,FALSE),0) -> 0 | T13: =IFERROR(VLOOKUP($B13,[1]DEN3.1!$H$3:$L$64,4,FALSE),0) -> 0 | AD13: =SUM(R13:AC13) -> 0
A14: 04104-LA HIGUERA | B14: 105505-P.S.R. LOS CHOROS | E14: =IFERROR(VLOOKUP($B14,[1]NUM3.1!$H$3:$L$64,2,FALSE),0) -> 0 | F14: =IFERROR(VLOOKUP($B14,[1]NUM3.1!$H$3:$L$64,3,FALSE),0) -> 0 | G14: =IFERROR(VLOOKUP($B14,[1]NUM3.1!$H$3:$L$64,4,FALSE),0) -> 0 | Q14: =SUM(E14:P14) -> 0 | R14: =IFERROR(VLOOKUP($B14,[1]DEN3.1!$H$3:$L$64,2,FALSE),0) -> 0 | S14: =IFERROR(VLOOKUP($B14,[1]DEN3.1!$H$3:$L$64,3,FALSE),0) -> 0 | T14: =IFERROR(VLOOKUP($B14,[1]DEN3.1!$H$3:$L$64,4,FALSE),0) -> 0 | AD14: =SUM(R14:AC14) -> 0
A15: 04104-LA HIGUERA | B15: 105506-P.S.R. EL TRAPICHE | E15: =IFERROR(VLOOKUP($B15,[1]NUM3.1!$H$3:$L$64,2,FALSE),0) -> 0 | F15: =IFERROR(VLOOKUP($B15,[1]NUM3.1!$H$3:$L$64,3,FALSE),0) -> 0 | G15: =IFERROR(VLOOKUP($B15,[1]NUM3.1!$H$3:$L$64,4,FALSE),0) -> 0 | Q15: =SUM(E15:P15) -> 0 | R15: =IFERROR(VLOOKUP($B15,[1]DEN3.1!$H$3:$L$64,2,FALSE),0) -> 0 | S15: =IFERROR(VLOOKUP($B15,[1]DEN3.1!$H$3:$L$64,3,FALSE),0) -> 0 | T15: =IFERROR(VLOOKUP($B15,[1]DEN3.1!$H$3:$L$64,4,FALSE),0) -> 0 | AD15: =SUM(R15:AC15) -> 0
A16: TOTAL LA HIGUERA | C16: =+D16/Metas!H37 -> #DIV/0! | D16: =+Q16/AD16 -> #DIV/0! | E16: =SUM(E12:E15) -> 0 | F16: =SUM(F12:F15) -> 0 | G16: =SUM(G12:G15) -> 0 | H16: =SUM(H12:H15) -> 0 | I16: =SUM(I12:I15) -> 0 | J16: =SUM(J12:J15) -> 0 | K16: =SUM(K12:K15) -> 0 | L16: =SUM(L12:L15) -> 0 | ... AD16: =SUM(AD12:AD15) -> 0
A17: 04105-PAIHUANO | B17: 105306-CES. PAIHUANO | E17: =IFERROR(VLOOKUP($B17,[1]NUM3.1!$H$3:$L$64,2,FALSE),0) -> 0 | F17: =IFERROR(VLOOKUP($B17,[1]NUM3.1!$H$3:$L$64,3,FALSE),0) -> 0 | G17: =IFERROR(VLOOKUP($B17,[1]NUM3.1!$H$3:$L$64,4,FALSE),0) -> 1 | Q17: =SUM(E17:P17) -> 1 | R17: =IFERROR(VLOOKUP($B17,[1]DEN3.1!$H$3:$L$64,2,FALSE),0) -> 0 | S17: =IFERROR(VLOOKUP($B17,[1]DEN3.1!$H$3:$L$64,3,FALSE),0) -> 0 | T17: =IFERROR(VLOOKUP($B17,[1]DEN3.1!$H$3:$L$64,4,FALSE),0) -> 1 | AD17: =SUM(R17:AC17) -> 1
A18: 04105-PAIHUANO | B18: 105475-P.S.R. HORCON | E18: =IFERROR(VLOOKUP($B18,[1]NUM3.1!$H$3:$L$64,2,FALSE),0) -> 0 | F18: =IFERROR(VLOOKUP($B18,[1]NUM3.1!$H$3:$L$64,3,FALSE),0) -> 0 | G18: =IFERROR(VLOOKUP($B18,[1]NUM3.1!$H$3:$L$64,4,FALSE),0) -> 0 | Q18: =SUM(E18:P18) -> 0 | R18: =IFERROR(VLOOKUP($B18,[1]DEN3.1!$H$3:$L$64,2,FALSE),0) -> 0 | S18: =IFERROR(VLOOKUP($B18,[1]DEN3.1!$H$3:$L$64,3,FALSE),0) -> 0 | T18: =IFERROR(VLOOKUP($B18,[1]DEN3.1!$H$3:$L$64,4,FALSE),0) -> 0 | AD18: =SUM(R18:AC18) -> 0
A19: 04105-PAIHUANO | B19: 105476-P.S.R. MONTE GRANDE | E19: =IFERROR(VLOOKUP($B19,[1]NUM3.1!$H$3:$L$64,2,FALSE),0) -> 0 | F19: =IFERROR(VLOOKUP($B19,[1]NUM3.1!$H$3:$L$64,3,FALSE),0) -> 0 | G19: =IFERROR(VLOOKUP($B19,[1]NUM3.1!$H$3:$L$64,4,FALSE),0) -> 0 | Q19: =SUM(E19:P19) -> 0 | R19: =IFERROR(VLOOKUP($B19,[1]DEN3.1!$H$3:$L$64,2,FALSE),0) -> 0 | S19: =IFERROR(VLOOKUP($B19,[1]DEN3.1!$H$3:$L$64,3,FALSE),0) -> 0 | T19: =IFERROR(VLOOKUP($B19,[1]DEN3.1!$H$3:$L$64,4,FALSE),0) -> 0 | AD19: =SUM(R19:AC19) -> 0
A20: 04105-PAIHUANO | B20: 105477-P.S.R. PISCO ELQUI | E20: =IFERROR(VLOOKUP($B20,[1]NUM3.1!$H$3:$L$64,2,FALSE),0) -> 0 | F20: =IFERROR(VLOOKUP($B20,[1]NUM3.1!$H$3:$L$64,3,FALSE),0) -> 0 | G20: =IFERROR(VLOOKUP($B20,[1]NUM3.1!$H$3:$L$64,4,FALSE),0) -> 0 | Q20: =SUM(E20:P20) -> 0 | R20: =IFERROR(VLOOKUP($B20,[1]DEN3.1!$H$3:$L$64,2,FALSE),0) -> 0 | S20: =IFERROR(VLOOKUP($B20,[1]DEN3.1!$H$3:$L$64,3,FALSE),0) -> 0 | T20: =IFERROR(VLOOKUP($B20,[1]DEN3.1!$H$3:$L$64,4,FALSE),0) -> 0 | AD20: =SUM(R20:AC20) -> 0
A21: TOTAL PAIHUANO | C21: =+D21/Metas!H36 -> 1.0204082 | D21: =+Q21/AD21 -> 1 | E21: =SUM(E17:E20) -> 0 | F21: =SUM(F17:F20) -> 0 | G21: =SUM(G17:G20) -> 1 | H21: =SUM(H17:H20) -> 0 | I21: =SUM(I17:I20) -> 0 | J21: =SUM(J17:J20) -> 0 | K21: =SUM(K17:K20) -> 0 | L21: =SUM(L17:L20) -> 0 | ... AD21: =SUM(AD17:AD20) -> 1
B22: TOTAL

Sheet META 5 
A1: COMUNA | B1: ESTABLECIMIENTO | C1: CUMPLIMIENTO | D1: Indicador | E1: META 5: TASA DE CONSULTAS DE MORBILIDAD Y CONTROLES MEDICOS POR HABITANTE/AÑO
E2: NUMERADOR | R2: DENOMINADOR
E10: Nº de consultas de morbilidad y controles médicos realizadas | R10: Población Estimada
D11: Resultado | E11: ENERO | F11: FEBRERO | G11: MARZO | H11: ABRIL | I11: MAYO | J11: JUNIO | K11: JULIO | L11: AGOSTO | M11: SEPBRE | N11: OCTBRE | O11: NOVBRE | P11: DICBRE | Q11: TOTAL
A12: 04104-LA HIGUERA | B12: 105314-CES. LA HIGUERA | E12: =IFERROR(VLOOKUP($B12,[1]NUM5!$H$3:$L$162,2,FALSE),0) -> 230 | F12: =IFERROR(VLOOKUP($B12,[1]NUM5!$H$3:$L$162,3,FALSE),0) -> 44 | G12: =IFERROR(VLOOKUP($B12,[1]NUM5!$H$3:$L$162,4,FALSE),0) -> 258 | Q12: =SUM(E12:P12) -> 532
A13: 04104-LA HIGUERA | B13: 105500-P.S.R. CALETA HORNOS | E13: =IFERROR(VLOOKUP($B13,[1]NUM5!$H$3:$L$162,2,FALSE),0) -> 72 | F13: =IFERROR(VLOOKUP($B13,[1]NUM5!$H$3:$L$162,3,FALSE),0) -> 26 | G13: =IFERROR(VLOOKUP($B13,[1]NUM5!$H$3:$L$162,4,FALSE),0) -> 71 | Q13: =SUM(E13:P13) -> 169
A14: 04104-LA HIGUERA | B14: 105505-P.S.R. LOS CHOROS | E14: =IFERROR(VLOOKUP($B14,[1]NUM5!$H$3:$L$162,2,FALSE),0) -> 247 | F14: =IFERROR(VLOOKUP($B14,[1]NUM5!$H$3:$L$162,3,FALSE),0) -> 11 | G14: =IFERROR(VLOOKUP($B14,[1]NUM5!$H$3:$L$162,4,FALSE),0) -> 18 | Q14: =SUM(E14:P14) -> 276
A15: 04104-LA HIGUERA | B15: 105506-P.S.R. EL TRAPICHE | E15: =IFERROR(VLOOKUP($B15,[1]NUM5!$H$3:$L$162,2,FALSE),0) -> 75 | F15: =IFERROR(VLOOKUP($B15,[1]NUM5!$H$3:$L$162,3,FALSE),0) -> 26 | G15: =IFERROR(VLOOKUP($B15,[1]NUM5!$H$3:$L$162,4,FALSE),0) -> 57 | Q15: =SUM(E15:P15) -> 158
A16: TOTAL LA HIGUERA | C16: =+D16/Metas!I37 -> 1.7436725 | D16: =+Q16/R16 -> 0.28770596 | E16: =SUM(E12:E15) -> 624 | F16: =SUM(F12:F15) -> 107 | G16: =SUM(G12:G15) -> 404 | H16: =SUM(H12:H15) -> 0 | I16: =SUM(I12:I15) -> 0 | J16: =SUM(J12:J15) -> 0 | K16: =SUM(K12:K15) -> 0 | L16: =SUM(L12:L15) -> 0 | ... Q16: =SUM(Q12:Q15) -> 1135 | R16: 3945
A17: 04105-PAIHUANO | B17: 105306-CES. PAIHUANO | E17: =IFERROR(VLOOKUP($B17,[1]NUM5!$H$3:$L$162,2,FALSE),0) -> 299 | F17: =IFERROR(VLOOKUP($B17,[1]NUM5!$H$3:$L$162,3,FALSE),0) -> 373 | G17: =IFERROR(VLOOKUP($B17,[1]NUM5!$H$3:$L$162,4,FALSE),0) -> 396 | Q17: =SUM(E17:P17) -> 1068
A18: 04105-PAIHUANO | B18: 105475-P.S.R. HORCON | E18: =IFERROR(VLOOKUP($B18,[1]NUM5!$H$3:$L$162,2,FALSE),0) -> 42 | F18: =IFERROR(VLOOKUP($B18,[1]NUM5!$H$3:$L$162,3,FALSE),0) -> 68 | G18: =IFERROR(VLOOKUP($B18,[1]NUM5!$H$3:$L$162,4,FALSE),0) -> 47 | Q18: =SUM(E18:P18) -> 157
A19: 04105-PAIHUANO | B19: 105476-P.S.R. MONTE GRANDE | E19: =IFERROR(VLOOKUP($B19,[1]NUM5!$H$3:$L$162,2,FALSE),0) -> 20 | F19: =IFERROR(VLOOKUP($B19,[1]NUM5!$H$3:$L$162,3,FALSE),0) -> 32 | G19: =IFERROR(VLOOKUP($B19,[1]NUM5!$H$3:$L$162,4,FALSE),0) -> 47 | Q19: =SUM(E19:P19) -> 99
A20: 04105-PAIHUANO | B20: 105477-P.S.R. PISCO ELQUI | E20: =IFERROR(VLOOKUP($B20,[1]NUM5!$H$3:$L$162,2,FALSE),0) -> 39 | F20: =IFERROR(VLOOKUP($B20,[1]NUM5!$H$3:$L$162,3,FALSE),0) -> 82 | G20: =IFERROR(VLOOKUP($B20,[1]NUM5!$H$3:$L$162,4,FALSE),0) -> 96 | Q20: =SUM(E20:P20) -> 217
A21: TOTAL PAIHUANO | C21: =+D21/Metas!I36 -> 1.8316455 | D21: =+Q21/R21 -> 0.32969619 | E21: =SUM(E17:E20) -> 400 | F21: =SUM(F17:F20) -> 555 | G21: =SUM(G17:G20) -> 586 | H21: =SUM(H17:H20) -> 0 | I21: =SUM(I17:I20) -> 0 | J21: =SUM(J17:J20) -> 0 | K21: =SUM(K17:K20) -> 0 | L21: =SUM(L17:L20) -> 0 | ... Q21: =SUM(Q17:Q20) -> 1541 | R21: 4674
B22: TOTAL

Sheet META 6
A1: COMUNA | B1: ESTABLECIMIENTO | C1: CUMPLIMIENTO | D1: Indicador | E1: META 6: SOLICITUDES DE INTERCONSULTAS A ESPECIALIDAD NIVEL SECUNDARIO DESDE LA APS
E2: NUMERADOR | R2: DENOMINADOR
E10: Nº de SIC a especialidad médica en el nivel secundario | R10: N° Total de Consultas y Controles Médicos en APS
D11: Resultado | E11: ENERO | F11: FEBRERO | G11: MARZO | H11: ABRIL | I11: MAYO | J11: JUNIO | K11: JULIO | L11: AGOSTO | M11: SEPBRE | N11: OCTBRE | O11: NOVBRE | P11: DICBRE | Q11: TOTAL | R11: ENERO | S11: FEBRERO | T11: MARZO | U11: ABRIL | V11: MAYO | W11: JUNIO | X11: JULIO | Y11: AGOSTO | Z11: SEPBRE | AA11: OCTBRE | AB11: NOVBRE | AC11: DICBRE | AD11: TOTAL
A12: 04104-LA HIGUERA | B12: 105314-CES. LA HIGUERA | E12: =IFERROR(VLOOKUP($B12,[1]NUM6!$H$3:$L$127,2,FALSE),0) -> 34 | F12: =IFERROR(VLOOKUP($B12,[1]NUM6!$H$3:$L$127,3,FALSE),0) -> 6 | G12: =IFERROR(VLOOKUP($B12,[1]NUM6!$H$3:$L$127,4,FALSE),0) -> 4 | Q12: =SUM(E12:P12) -> 44 | R12: =IFERROR(VLOOKUP($B12,[1]DEN6!$H$3:$L$162,2,FALSE),0) -> 230 | S12: =IFERROR(VLOOKUP($B12,[1]DEN6!$H$3:$L$162,3,FALSE),0) -> 44 | T12: =IFERROR(VLOOKUP($B12,[1]DEN6!$H$3:$L$162,4,FALSE),0) -> 258 | AD12: =SUM(R12:AC12) -> 532
A13: 04104-LA HIGUERA | B13: 105500-P.S.R. CALETA HORNOS | E13: =IFERROR(VLOOKUP($B13,[1]NUM6!$H$3:$L$127,2,FALSE),0) -> 0 | F13: =IFERROR(VLOOKUP($B13,[1]NUM6!$H$3:$L$127,3,FALSE),0) -> 0 | G13: =IFERROR(VLOOKUP($B13,[1]NUM6!$H$3:$L$127,4,FALSE),0) -> 0 | Q13: =SUM(E13:P13) -> 0 | R13: =IFERROR(VLOOKUP($B13,[1]DEN6!$H$3:$L$162,2,FALSE),0) -> 72 | S13: =IFERROR(VLOOKUP($B13,[1]DEN6!$H$3:$L$162,3,FALSE),0) -> 26 | T13: =IFERROR(VLOOKUP($B13,[1]DEN6!$H$3:$L$162,4,FALSE),0) -> 71 | AD13: =SUM(R13:AC13) -> 169
A14: 04104-LA HIGUERA | B14: 105505-P.S.R. LOS CHOROS | E14: =IFERROR(VLOOKUP($B14,[1]NUM6!$H$3:$L$127,2,FALSE),0) -> 0 | F14: =IFERROR(VLOOKUP($B14,[1]NUM6!$H$3:$L$127,3,FALSE),0) -> 0 | G14: =IFERROR(VLOOKUP($B14,[1]NUM6!$H$3:$L$127,4,FALSE),0) -> 0 | Q14: =SUM(E14:P14) -> 0 | R14: =IFERROR(VLOOKUP($B14,[1]DEN6!$H$3:$L$162,2,FALSE),0) -> 247 | S14: =IFERROR(VLOOKUP($B14,[1]DEN6!$H$3:$L$162,3,FALSE),0) -> 11 | T14: =IFERROR(VLOOKUP($B14,[1]DEN6!$H$3:$L$162,4,FALSE),0) -> 18 | AD14: =SUM(R14:AC14) -> 276
A15: 04104-LA HIGUERA | B15: 105506-P.S.R. EL TRAPICHE | E15: =IFERROR(VLOOKUP($B15,[1]NUM6!$H$3:$L$127,2,FALSE),0) -> 0 | F15: =IFERROR(VLOOKUP($B15,[1]NUM6!$H$3:$L$127,3,FALSE),0) -> 0 | G15: =IFERROR(VLOOKUP($B15,[1]NUM6!$H$3:$L$127,4,FALSE),0) -> 0 | Q15: =SUM(E15:P15) -> 0 | R15: =IFERROR(VLOOKUP($B15,[1]DEN6!$H$3:$L$162,2,FALSE),0) -> 75 | S15: =IFERROR(VLOOKUP($B15,[1]DEN6!$H$3:$L$162,3,FALSE),0) -> 26 | T15: =IFERROR(VLOOKUP($B15,[1]DEN6!$H$3:$L$162,4,FALSE),0) -> 57 | AD15: =SUM(R15:AC15) -> 158
A16: TOTAL LA HIGUERA | C16: =Metas!J37/D16 -> 2.5795455 | D16: =+Q16/AD16 -> 0.03876652 | E16: =SUM(E12:E15) -> 34 | F16: =SUM(F12:F15) -> 6 | G16: =SUM(G12:G15) -> 4 | H16: =SUM(H12:H15) -> 0 | I16: =SUM(I12:I15) -> 0 | J16: =SUM(J12:J15) -> 0 | K16: =SUM(K12:K15) -> 0 | L16: =SUM(L12:L15) -> 0 | ... AD16: =SUM(AD12:AD15) -> 1135
A17: 04105-PAIHUANO | B17: 105306-CES. PAIHUANO | E17: =IFERROR(VLOOKUP($B17,[1]NUM6!$H$3:$L$127,2,FALSE),0) -> 74 | F17: =IFERROR(VLOOKUP($B17,[1]NUM6!$H$3:$L$127,3,FALSE),0) -> 75 | G17: =IFERROR(VLOOKUP($B17,[1]NUM6!$H$3:$L$127,4,FALSE),0) -> 107 | Q17: =SUM(E17:P17) -> 256 | R17: =IFERROR(VLOOKUP($B17,[1]DEN6!$H$3:$L$162,2,FALSE),0) -> 299 | S17: =IFERROR(VLOOKUP($B17,[1]DEN6!$H$3:$L$162,3,FALSE),0) -> 373 | T17: =IFERROR(VLOOKUP($B17,[1]DEN6!$H$3:$L$162,4,FALSE),0) -> 396 | AD17: =SUM(R17:AC17) -> 1068
A18: 04105-PAIHUANO | B18: 105475-P.S.R. HORCON | E18: =IFERROR(VLOOKUP($B18,[1]NUM6!$H$3:$L$127,2,FALSE),0) -> 0 | F18: =IFERROR(VLOOKUP($B18,[1]NUM6!$H$3:$L$127,3,FALSE),0) -> 0 | G18: =IFERROR(VLOOKUP($B18,[1]NUM6!$H$3:$L$127,4,FALSE),0) -> 0 | Q18: =SUM(E18:P18) -> 0 | R18: =IFERROR(VLOOKUP($B18,[1]DEN6!$H$3:$L$162,2,FALSE),0) -> 42 | S18: =IFERROR(VLOOKUP($B18,[1]DEN6!$H$3:$L$162,3,FALSE),0) -> 68 | T18: =IFERROR(VLOOKUP($B18,[1]DEN6!$H$3:$L$162,4,FALSE),0) -> 47 | AD18: =SUM(R18:AC18) -> 157
A19: 04105-PAIHUANO | B19: 105476-P.S.R. MONTE GRANDE | E19: =IFERROR(VLOOKUP($B19,[1]NUM6!$H$3:$L$127,2,FALSE),0) -> 0 | F19: =IFERROR(VLOOKUP($B19,[1]NUM6!$H$3:$L$127,3,FALSE),0) -> 0 | G19: =IFERROR(VLOOKUP($B19,[1]NUM6!$H$3:$L$127,4,FALSE),0) -> 0 | Q19: =SUM(E19:P19) -> 0 | R19: =IFERROR(VLOOKUP($B19,[1]DEN6!$H$3:$L$162,2,FALSE),0) -> 20 | S19: =IFERROR(VLOOKUP($B19,[1]DEN6!$H$3:$L$162,3,FALSE),0) -> 32 | T19: =IFERROR(VLOOKUP($B19,[1]DEN6!$H$3:$L$162,4,FALSE),0) -> 47 | AD19: =SUM(R19:AC19) -> 99
A20: 04105-PAIHUANO | B20: 105477-P.S.R. PISCO ELQUI | E20: =IFERROR(VLOOKUP($B20,[1]NUM6!$H$3:$L$127,2,FALSE),0) -> 0 | F20: =IFERROR(VLOOKUP($B20,[1]NUM6!$H$3:$L$127,3,FALSE),0) -> 0 | G20: =IFERROR(VLOOKUP($B20,[1]NUM6!$H$3:$L$127,4,FALSE),0) -> 0 | Q20: =SUM(E20:P20) -> 0 | R20: =IFERROR(VLOOKUP($B20,[1]DEN6!$H$3:$L$162,2,FALSE),0) -> 39 | S20: =IFERROR(VLOOKUP($B20,[1]DEN6!$H$3:$L$162,3,FALSE),0) -> 82 | T20: =IFERROR(VLOOKUP($B20,[1]DEN6!$H$3:$L$162,4,FALSE),0) -> 96 | AD20: =SUM(R20:AC20) -> 217
A21: TOTAL PAIHUANO | C21: =Metas!J36/D21 -> 0.60195313 | D21: =+Q21/AD21 -> 0.16612589 | E21: =SUM(E17:E20) -> 74 | F21: =SUM(F17:F20) -> 75 | G21: =SUM(G17:G20) -> 107 | H21: =SUM(H17:H20) -> 0 | I21: =SUM(I17:I20) -> 0 | J21: =SUM(J17:J20) -> 0 | K21: =SUM(K17:K20) -> 0 | L21: =SUM(L17:L20) -> 0 | ... AD21: =SUM(AD17:AD20) -> 1541
B22: TOTAL

Sheet META 7
A1: COMUNA | B1: ESTABLECIMIENTO | C1: CUMPLIMIENTO | D1: Indicador | E1: META 7: TASA DE VISITA DOMICILIARIA INTEGRAL
E2: NUMERADOR | R2: DENOMINADOR
E10: Nº de visitas domiciliarias integrales realizadas | R10: Nº de familias (población estimada / 3,3)
D11: Resultado | E11: ENERO | F11: FEBRERO | G11: MARZO | H11: ABRIL | I11: MAYO | J11: JUNIO | K11: JULIO | L11: AGOSTO | M11: SEPBRE | N11: OCTBRE | O11: NOVBRE | P11: DICBRE | Q11: TOTAL
A12: 04104-LA HIGUERA | B12: 105314-CES. LA HIGUERA | E12: =VLOOKUP($B12,[1]NUM7!$H$3:$L$144,2,FALSE) -> 5 | F12: =VLOOKUP($B12,[1]NUM7!$H$3:$L$144,3,FALSE) -> 7 | G12: =VLOOKUP($B12,[1]NUM7!$H$3:$L$144,4,FALSE) -> 0 | Q12: =SUM(E12:P12) -> 12
A13: 04104-LA HIGUERA | B13: 105500-P.S.R. CALETA HORNOS | E13: =VLOOKUP($B13,[1]NUM7!$H$3:$L$144,2,FALSE) -> 2 | F13: =VLOOKUP($B13,[1]NUM7!$H$3:$L$144,3,FALSE) -> 0 | G13: =VLOOKUP($B13,[1]NUM7!$H$3:$L$144,4,FALSE) -> 4 | Q13: =SUM(E13:P13) -> 6
A14: 04104-LA HIGUERA | B14: 105505-P.S.R. LOS CHOROS | E14: =VLOOKUP($B14,[1]NUM7!$H$3:$L$144,2,FALSE) -> 1 | F14: =VLOOKUP($B14,[1]NUM7!$H$3:$L$144,3,FALSE) -> 2 | G14: =VLOOKUP($B14,[1]NUM7!$H$3:$L$144,4,FALSE) -> 0 | Q14: =SUM(E14:P14) -> 3
A15: 04104-LA HIGUERA | B15: 105506-P.S.R. EL TRAPICHE | E15: =VLOOKUP($B15,[1]NUM7!$H$3:$L$144,2,FALSE) -> 7 | F15: =VLOOKUP($B15,[1]NUM7!$H$3:$L$144,3,FALSE) -> 10 | G15: =VLOOKUP($B15,[1]NUM7!$H$3:$L$144,4,FALSE) -> 3 | Q15: =SUM(E15:P15) -> 20
A16: TOTAL LA HIGUERA | C16: =+D16/Metas!K37 -> 0.73784136 | D16: =+Q16/R16 -> 0.034309623 | E16: =SUM(E12:E15) -> 15 | F16: =SUM(F12:F15) -> 19 | G16: =SUM(G12:G15) -> 7 | H16: =SUM(H12:H15) -> 0 | I16: =SUM(I12:I15) -> 0 | J16: =SUM(J12:J15) -> 0 | K16: =SUM(K12:K15) -> 0 | L16: =SUM(L12:L15) -> 0 | ... Q16: =SUM(Q12:Q15) -> 41 | R16: 1195
A17: 04105-PAIHUANO | B17: 105306-CES. PAIHUANO | E17: =VLOOKUP($B17,[1]NUM7!$H$3:$L$144,2,FALSE) -> 41 | F17: =VLOOKUP($B17,[1]NUM7!$H$3:$L$144,3,FALSE) -> 39 | G17: =VLOOKUP($B17,[1]NUM7!$H$3:$L$144,4,FALSE) -> 40 | Q17: =SUM(E17:P17) -> 120
A18: 04105-PAIHUANO | B18: 105475-P.S.R. HORCON | E18: =VLOOKUP($B18,[1]NUM7!$H$3:$L$144,2,FALSE) -> 4 | F18: =VLOOKUP($B18,[1]NUM7!$H$3:$L$144,3,FALSE) -> 6 | G18: =VLOOKUP($B18,[1]NUM7!$H$3:$L$144,4,FALSE) -> 10 | Q18: =SUM(E18:P18) -> 20
A19: 04105-PAIHUANO | B19: 105476-P.S.R. MONTE GRANDE | E19: =VLOOKUP($B19,[1]NUM7!$H$3:$L$144,2,FALSE) -> 2 | F19: =VLOOKUP($B19,[1]NUM7!$H$3:$L$144,3,FALSE) -> 5 | G19: =VLOOKUP($B19,[1]NUM7!$H$3:$L$144,4,FALSE) -> 2 | Q19: =SUM(E19:P19) -> 9
A20: 04105-PAIHUANO | B20: 105477-P.S.R. PISCO ELQUI | E20: =VLOOKUP($B20,[1]NUM7!$H$3:$L$144,2,FALSE) -> 3 | F20: =VLOOKUP($B20,[1]NUM7!$H$3:$L$144,3,FALSE) -> 21 | G20: =VLOOKUP($B20,[1]NUM7!$H$3:$L$144,4,FALSE) -> 8 | Q20: =SUM(E20:P20) -> 32
A21: TOTAL PAIHUANO | C21: =+D21/Metas!K36 -> 2.2425414 | D21: =+Q21/R21 -> 0.12782486 | E21: =SUM(E17:E20) -> 50 | F21: =SUM(F17:F20) -> 71 | G21: =SUM(G17:G20) -> 60 | H21: =SUM(H17:H20) -> 0 | I21: =SUM(I17:I20) -> 0 | J21: =SUM(J17:J20) -> 0 | K21: =SUM(K17:K20) -> 0 | L21: =SUM(L17:L20) -> 0 | ... Q21: =SUM(Q17:Q20) -> 181 | R21: 1416
B22: TOTAL

Sheet META 8.1
A1: COMUNA | B1: ESTABLECIMIENTO | C1: CUMPLIMIENTO | D1: Indicador | E1: META 8.1: COBERTURA EXAMEN DE MEDICINA PREVENTIVA (EMP), EN HOMBRES DE 20 A 64 AÑOS
E2: NUMERADOR | R2: DENOMINADOR
E10: Nº Examen de Medicina Preventiva (EMP) realizado en población masculina de 20 a 64 años | R10: Población masculina de 20 a 64 años estimada, menos población bajo control en Programa Salud Cardiovascular | S10: Población masculina de 20 a 64 años bajo control en programa de salud cardiovascular | Y10: Población masculina de 20 a 64 años estimada | Z10: Ingresos de población masculina al PSCV de 20 y 64 años | AM10: Egresos de población masculina al PSCV de 20 y 64 años
D11: Resultado | E11: ENERO | F11: FEBRERO | G11: MARZO | H11: ABRIL | I11: MAYO | J11: JUNIO | K11: JULIO | L11: AGOSTO | M11: SEPBRE | N11: OCTBRE | O11: NOVBRE | P11: DICBRE | Q11: TOTAL | S11: A DIC 2016 | T11: A ABRIL | U11: A JUNIO | V11: A JULIO | W11: A OCTBRE | X11: A DICBRE | Y11: AÑO 2016 | Z11: ENERO | AA11: FEBRERO | AB11: MARZO | AC11: ABRIL | AD11: MAYO | AE11: JUNIO | AF11: JULIO | AG11: AGOSTO | AH11: SEPBRE | AI11: OCTBRE | AJ11: NOVBRE | AK11: DICBRE | AL11: TOTAL | AM11: ENERO | AN11: FEBRERO | AO11: MARZO | AP11: ABRIL | AQ11: MAYO | AR11: JUNIO | AS11: JULIO | AT11: AGOSTO | AU11: SEPBRE | AV11: OCTBRE | AW11: NOVBRE | AX11: DICBRE | AY11: TOTAL
A12: 04104-LA HIGUERA | B12: 105314-CES. LA HIGUERA | E12: =IFERROR(VLOOKUP($B12,[1]NUM8.1!$H$3:$L$154,2,FALSE),0) -> 0 | F12: =IFERROR(VLOOKUP($B12,[1]NUM8.1!$H$3:$L$154,3,FALSE),0) -> 0 | G12: =IFERROR(VLOOKUP($B12,[1]NUM8.1!$H$3:$L$154,4,FALSE),0) -> 0 | Q12: =SUM(E12:P12) -> 0 | S12: =IFERROR(VLOOKUP($B12,[1]DEN8.1!$H$3:$J$159,2,FALSE),0) -> 37 | T12: =+S12+(Z12+AA12+AB12+AC12)-(AM12+AN12+AO12+AP12) -> 37 | V12: =+U12+(AF12)-(AS12) -> 0 | W12: =+U12+(AF12+AG12+AH12+AI12)-(AS12+AT12+AU12+AV12) -> 0 | Z12: =IFERROR(VLOOKUP($B12,'[1]ACT DEN8.1'!$H$3:$L$112,2,FALSE),0) -> 0 | AA12: =IFERROR(VLOOKUP($B12,'[1]ACT DEN8.1'!$H$3:$L$112,3,FALSE),0) -> 0 | AB12: =IFERROR(VLOOKUP($B12,'[1]ACT DEN8.1'!$H$3:$L$112,4,FALSE),0) -> 0 | AL12: =SUM(Z12:AK12) -> 0 | AM12: =IFERROR(VLOOKUP($B12,'[1]ACT DEN8.1'!$AA$3:$AE$83,2,FALSE),0) -> 0 | AN12: =IFERROR(VLOOKUP($B12,'[1]ACT DEN8.1'!$AA$3:$AE$83,3,FALSE),0) -> 0 | AO12: =IFERROR(VLOOKUP($B12,'[1]ACT DEN8.1'!$AA$3:$AE$83,4,FALSE),0) -> 0 | AY12: =SUM(AM12:AX12) -> 0
A13: 04104-LA HIGUERA | B13: 105500-P.S.R. CALETA HORNOS | E13: =IFERROR(VLOOKUP($B13,[1]NUM8.1!$H$3:$L$154,2,FALSE),0) -> 0 | F13: =IFERROR(VLOOKUP($B13,[1]NUM8.1!$H$3:$L$154,3,FALSE),0) -> 0 | G13: =IFERROR(VLOOKUP($B13,[1]NUM8.1!$H$3:$L$154,4,FALSE),0) -> 0 | Q13: =SUM(E13:P13) -> 0 | S13: =IFERROR(VLOOKUP($B13,[1]DEN8.1!$H$3:$J$159,2,FALSE),0) -> 30 | T13: =+S13+(Z13+AA13+AB13+AC13)-(AM13+AN13+AO13+AP13) -> 30 | V13: =+U13+(AF13)-(AS13) -> 0 | W13: =+U13+(AF13+AG13+AH13+AI13)-(AS13+AT13+AU13+AV13) -> 0 | Z13: =IFERROR(VLOOKUP($B13,'[1]ACT DEN8.1'!$H$3:$L$112,2,FALSE),0) -> 0 | AA13: =IFERROR(VLOOKUP($B13,'[1]ACT DEN8.1'!$H$3:$L$112,3,FALSE),0) -> 0 | AB13: =IFERROR(VLOOKUP($B13,'[1]ACT DEN8.1'!$H$3:$L$112,4,FALSE),0) -> 0 | AL13: =SUM(Z13:AK13) -> 0 | AM13: =IFERROR(VLOOKUP($B13,'[1]ACT DEN8.1'!$AA$3:$AE$83,2,FALSE),0) -> 0 | AN13: =IFERROR(VLOOKUP($B13,'[1]ACT DEN8.1'!$AA$3:$AE$83,3,FALSE),0) -> 0 | AO13: =IFERROR(VLOOKUP($B13,'[1]ACT DEN8.1'!$AA$3:$AE$83,4,FALSE),0) -> 0 | AY13: =SUM(AM13:AX13) -> 0
A14: 04104-LA HIGUERA | B14: 105505-P.S.R. LOS CHOROS | E14: =IFERROR(VLOOKUP($B14,[1]NUM8.1!$H$3:$L$154,2,FALSE),0) -> 0 | F14: =IFERROR(VLOOKUP($B14,[1]NUM8.1!$H$3:$L$154,3,FALSE),0) -> 0 | G14: =IFERROR(VLOOKUP($B14,[1]NUM8.1!$H$3:$L$154,4,FALSE),0) -> 0 | Q14: =SUM(E14:P14) -> 0 | S14: =IFERROR(VLOOKUP($B14,[1]DEN8.1!$H$3:$J$159,2,FALSE),0) -> 20 | T14: =+S14+(Z14+AA14+AB14+AC14)-(AM14+AN14+AO14+AP14) -> 20 | V14: =+U14+(AF14)-(AS14) -> 0 | W14: =+U14+(AF14+AG14+AH14+AI14)-(AS14+AT14+AU14+AV14) -> 0 | Z14: =IFERROR(VLOOKUP($B14,'[1]ACT DEN8.1'!$H$3:$L$112,2,FALSE),0) -> 0 | AA14: =IFERROR(VLOOKUP($B14,'[1]ACT DEN8.1'!$H$3:$L$112,3,FALSE),0) -> 0 | AB14: =IFERROR(VLOOKUP($B14,'[1]ACT DEN8.1'!$H$3:$L$112,4,FALSE),0) -> 0 | AL14: =SUM(Z14:AK14) -> 0 | AM14: =IFERROR(VLOOKUP($B14,'[1]ACT DEN8.1'!$AA$3:$AE$83,2,FALSE),0) -> 0 | AN14: =IFERROR(VLOOKUP($B14,'[1]ACT DEN8.1'!$AA$3:$AE$83,3,FALSE),0) -> 0 | AO14: =IFERROR(VLOOKUP($B14,'[1]ACT DEN8.1'!$AA$3:$AE$83,4,FALSE),0) -> 0 | AY14: =SUM(AM14:AX14) -> 0
A15: 04104-LA HIGUERA | B15: 105506-P.S.R. EL TRAPICHE | E15: =IFERROR(VLOOKUP($B15,[1]NUM8.1!$H$3:$L$154,2,FALSE),0) -> 0 | F15: =IFERROR(VLOOKUP($B15,[1]NUM8.1!$H$3:$L$154,3,FALSE),0) -> 0 | G15: =IFERROR(VLOOKUP($B15,[1]NUM8.1!$H$3:$L$154,4,FALSE),0) -> 0 | Q15: =SUM(E15:P15) -> 0 | S15: =IFERROR(VLOOKUP($B15,[1]DEN8.1!$H$3:$J$159,2,FALSE),0) -> 16 | T15: =+S15+(Z15+AA15+AB15+AC15)-(AM15+AN15+AO15+AP15) -> 16 | V15: =+U15+(AF15)-(AS15) -> 0 | W15: =+U15+(AF15+AG15+AH15+AI15)-(AS15+AT15+AU15+AV15) -> 0 | Z15: =IFERROR(VLOOKUP($B15,'[1]ACT DEN8.1'!$H$3:$L$112,2,FALSE),0) -> 0 | AA15: =IFERROR(VLOOKUP($B15,'[1]ACT DEN8.1'!$H$3:$L$112,3,FALSE),0) -> 0 | AB15: =IFERROR(VLOOKUP($B15,'[1]ACT DEN8.1'!$H$3:$L$112,4,FALSE),0) -> 0 | AL15: =SUM(Z15:AK15) -> 0 | AM15: =IFERROR(VLOOKUP($B15,'[1]ACT DEN8.1'!$AA$3:$AE$83,2,FALSE),0) -> 0 | AN15: =IFERROR(VLOOKUP($B15,'[1]ACT DEN8.1'!$AA$3:$AE$83,3,FALSE),0) -> 0 | AO15: =IFERROR(VLOOKUP($B15,'[1]ACT DEN8.1'!$AA$3:$AE$83,4,FALSE),0) -> 0 | AY15: =SUM(AM15:AX15) -> 0
A16: TOTAL LA HIGUERA | C16: =+D16/Metas!L37 -> 0 | D16: =+Q16/R16 -> 0 | E16: =SUM(E12:E15) -> 0 | F16: =SUM(F12:F15) -> 0 | G16: =SUM(G12:G15) -> 0 | H16: =SUM(H12:H15) -> 0 | I16: =SUM(I12:I15) -> 0 | J16: =SUM(J12:J15) -> 0 | K16: =SUM(K12:K15) -> 0 | L16: =SUM(L12:L15) -> 0 | ... Q16: =SUM(Q12:Q15) -> 0 | R16: =+Y16-T16 -> 1206 | S16: =SUM(S12:S15) -> 103 | T16: =SUM(T12:T15) -> 103 | U16: =SUM(U12:U15) -> 0 | V16: =SUM(V12:V15) -> 0 | W16: =SUM(W12:W15) -> 0 | X16: =SUM(X12:X15) -> 0 | Y16: 1309 | Z16: =SUM(Z12:Z15) -> 0 | AA16: =SUM(AA12:AA15) -> 0 | AB16: =SUM(AB12:AB15) -> 0 | AC16: =SUM(AC12:AC15) -> 0 | AD16: =SUM(AD12:AD15) -> 0 | AE16: =SUM(AE12:AE15) -> 0 | AF16: =SUM(AF12:AF15) -> 0 | AG16: =SUM(AG12:AG15) -> 0 | ... AK16: =SUM(AK12:AK15) -> 0 | AL16: =SUM(Z16:AK16) -> 0 | AM16: =SUM(AM12:AM15) -> 0 | AN16: =SUM(AN12:AN15) -> 0 | AO16: =SUM(AO12:AO15) -> 0 | AP16: =SUM(AP12:AP15) -> 0 | AQ16: =SUM(AQ12:AQ15) -> 0 | AR16: =SUM(AR12:AR15) -> 0 | AS16: =SUM(AS12:AS15) -> 0 | AT16: =SUM(AT12:AT15) -> 0 | ... AX16: =SUM(AX12:AX15) -> 0 | AY16: =SUM(AM16:AX16) -> 0
A17: 04105-PAIHUANO | B17: 105306-CES. PAIHUANO | E17: =IFERROR(VLOOKUP($B17,[1]NUM8.1!$H$3:$L$154,2,FALSE),0) -> 0 | F17: =IFERROR(VLOOKUP($B17,[1]NUM8.1!$H$3:$L$154,3,FALSE),0) -> 0 | G17: =IFERROR(VLOOKUP($B17,[1]NUM8.1!$H$3:$L$154,4,FALSE),0) -> 0 | Q17: =SUM(E17:P17) -> 0 | S17: =IFERROR(VLOOKUP($B17,[1]DEN8.1!$H$3:$J$159,2,FALSE),0) -> 63 | T17: =+S17+(Z17+AA17+AB17+AC17)-(AM17+AN17+AO17+AP17) -> 63 | V17: =+U17+(AF17)-(AS17) -> 0 | W17: =+U17+(AF17+AG17+AH17+AI17)-(AS17+AT17+AU17+AV17) -> 0 | Z17: =IFERROR(VLOOKUP($B17,'[1]ACT DEN8.1'!$H$3:$L$112,2,FALSE),0) -> 0 | AA17: =IFERROR(VLOOKUP($B17,'[1]ACT DEN8.1'!$H$3:$L$112,3,FALSE),0) -> 0 | AB17: =IFERROR(VLOOKUP($B17,'[1]ACT DEN8.1'!$H$3:$L$112,4,FALSE),0) -> 0 | AL17: =SUM(Z17:AK17) -> 0 | AM17: =IFERROR(VLOOKUP($B17,'[1]ACT DEN8.1'!$AA$3:$AE$83,2,FALSE),0) -> 0 | AN17: =IFERROR(VLOOKUP($B17,'[1]ACT DEN8.1'!$AA$3:$AE$83,3,FALSE),0) -> 0 | AO17: =IFERROR(VLOOKUP($B17,'[1]ACT DEN8.1'!$AA$3:$AE$83,4,FALSE),0) -> 0 | AY17: =SUM(AM17:AX17) -> 0
A18: 04105-PAIHUANO | B18: 105475-P.S.R. HORCON | E18: =IFERROR(VLOOKUP($B18,[1]NUM8.1!$H$3:$L$154,2,FALSE),0) -> 0 | F18: =IFERROR(VLOOKUP($B18,[1]NUM8.1!$H$3:$L$154,3,FALSE),0) -> 0 | G18: =IFERROR(VLOOKUP($B18,[1]NUM8.1!$H$3:$L$154,4,FALSE),0) -> 0 | Q18: =SUM(E18:P18) -> 0 | S18: =IFERROR(VLOOKUP($B18,[1]DEN8.1!$H$3:$J$159,2,FALSE),0) -> 23 | T18: =+S18+(Z18+AA18+AB18+AC18)-(AM18+AN18+AO18+AP18) -> 23 | V18: =+U18+(AF18)-(AS18) -> 0 | W18: =+U18+(AF18+AG18+AH18+AI18)-(AS18+AT18+AU18+AV18) -> 0 | Z18: =IFERROR(VLOOKUP($B18,'[1]ACT DEN8.1'!$H$3:$L$112,2,FALSE),0) -> 0 | AA18: =IFERROR(VLOOKUP($B18,'[1]ACT DEN8.1'!$H$3:$L$112,3,FALSE),0) -> 0 | AB18: =IFERROR(VLOOKUP($B18,'[1]ACT DEN8.1'!$H$3:$L$112,4,FALSE),0) -> 0 | AL18: =SUM(Z18:AK18) -> 0 | AM18: =IFERROR(VLOOKUP($B18,'[1]ACT DEN8.1'!$AA$3:$AE$83,2,FALSE),0) -> 0 | AN18: =IFERROR(VLOOKUP($B18,'[1]ACT DEN8.1'!$AA$3:$AE$83,3,FALSE),0) -> 0 | AO18: =IFERROR(VLOOKUP($B18,'[1]ACT DEN8.1'!$AA$3:$AE$83,4,FALSE),0) -> 0 | AY18: =SUM(AM18:AX18) -> 0
A19: 04105-PAIHUANO | B19: 105476-P.S.R. MONTE GRANDE | E19: =IFERROR(VLOOKUP($B19,[1]NUM8.1!$H$3:$L$154,2,FALSE),0) -> 0 | F19: =IFERROR(VLOOKUP($B19,[1]NUM8.1!$H$3:$L$154,3,FALSE),0) -> 0 | G19: =IFERROR(VLOOKUP($B19,[1]NUM8.1!$H$3:$L$154,4,FALSE),0) -> 0 | Q19: =SUM(E19:P19) -> 0 | S19: =IFERROR(VLOOKUP($B19,[1]DEN8.1!$H$3:$J$159,2,FALSE),0) -> 20 | T19: =+S19+(Z19+AA19+AB19+AC19)-(AM19+AN19+AO19+AP19) -> 20 | V19: =+U19+(AF19)-(AS19) -> 0 | W19: =+U19+(AF19+AG19+AH19+AI19)-(AS19+AT19+AU19+AV19) -> 0 | Z19: =IFERROR(VLOOKUP($B19,'[1]ACT DEN8.1'!$H$3:$L$112,2,FALSE),0) -> 0 | AA19: =IFERROR(VLOOKUP($B19,'[1]ACT DEN8.1'!$H$3:$L$112,3,FALSE),0) -> 0 | AB19: =IFERROR(VLOOKUP($B19,'[1]ACT DEN8.1'!$H$3:$L$112,4,FALSE),0) -> 0 | AL19: =SUM(Z19:AK19) -> 0 | AM19: =IFERROR(VLOOKUP($B19,'[1]ACT DEN8.1'!$AA$3:$AE$83,2,FALSE),0) -> 0 | AN19: =IFERROR(VLOOKUP($B19,'[1]ACT DEN8.1'!$AA$3:$AE$83,3,FALSE),0) -> 0 | AO19: =IFERROR(VLOOKUP($B19,'[1]ACT DEN8.1'!$AA$3:$AE$83,4,FALSE),0) -> 0 | AY19: =SUM(AM19:AX19) -> 0
A20: 04105-PAIHUANO | B20: 105477-P.S.R. PISCO ELQUI | E20: =IFERROR(VLOOKUP($B20,[1]NUM8.1!$H$3:$L$154,2,FALSE),0) -> 0 | F20: =IFERROR(VLOOKUP($B20,[1]NUM8.1!$H$3:$L$154,3,FALSE),0) -> 0 | G20: =IFERROR(VLOOKUP($B20,[1]NUM8.1!$H$3:$L$154,4,FALSE),0) -> 0 | Q20: =SUM(E20:P20) -> 0 | S20: =IFERROR(VLOOKUP($B20,[1]DEN8.1!$H$3:$J$159,2,FALSE),0) -> 47 | T20: =+S20+(Z20+AA20+AB20+AC20)-(AM20+AN20+AO20+AP20) -> 47 | V20: =+U20+(AF20)-(AS20) -> 0 | W20: =+U20+(AF20+AG20+AH20+AI20)-(AS20+AT20+AU20+AV20) -> 0 | Z20: =IFERROR(VLOOKUP($B20,'[1]ACT DEN8.1'!$H$3:$L$112,2,FALSE),0) -> 0 | AA20: =IFERROR(VLOOKUP($B20,'[1]ACT DEN8.1'!$H$3:$L$112,3,FALSE),0) -> 0 | AB20: =IFERROR(VLOOKUP($B20,'[1]ACT DEN8.1'!$H$3:$L$112,4,FALSE),0) -> 0 | AL20: =SUM(Z20:AK20) -> 0 | AM20: =IFERROR(VLOOKUP($B20,'[1]ACT DEN8.1'!$AA$3:$AE$83,2,FALSE),0) -> 0 | AN20: =IFERROR(VLOOKUP($B20,'[1]ACT DEN8.1'!$AA$3:$AE$83,3,FALSE),0) -> 0 | AO20: =IFERROR(VLOOKUP($B20,'[1]ACT DEN8.1'!$AA$3:$AE$83,4,FALSE),0) -> 0 | AY20: =SUM(AM20:AX20) -> 0
A21: TOTAL PAIHUANO | C21: =+D21/Metas!L36 -> 0 | D21: =+Q21/R21 -> 0 | E21: =SUM(E17:E20) -> 0 | F21: =SUM(F17:F20) -> 0 | G21: =SUM(G17:G20) -> 0 | H21: =SUM(H17:H20) -> 0 | I21: =SUM(I17:I20) -> 0 | J21: =SUM(J17:J20) -> 0 | K21: =SUM(K17:K20) -> 0 | L21: =SUM(L17:L20) -> 0 | ... Q21: =SUM(Q17:Q20) -> 0 | R21: =+Y21-T21 -> 1288 | S21: =SUM(S17:S20) -> 153 | T21: =SUM(T17:T20) -> 153 | U21: =SUM(U17:U20) -> 0 | V21: =SUM(V17:V20) -> 0 | W21: =SUM(W17:W20) -> 0 | X21: =SUM(X17:X20) -> 0 | Y21: 1441 | Z21: =SUM(Z17:Z20) -> 0 | AA21: =SUM(AA17:AA20) -> 0 | AB21: =SUM(AB17:AB20) -> 0 | AC21: =SUM(AC17:AC20) -> 0 | AD21: =SUM(AD17:AD20) -> 0 | AE21: =SUM(AE17:AE20) -> 0 | AF21: =SUM(AF17:AF20) -> 0 | AG21: =SUM(AG17:AG20) -> 0 | ... AY21: =SUM(AY17:AY20) -> 0
B22: TOTAL | E22: =+E16+E21 -> 0 | F22: =+F16+F21 -> 0 | G22: =+G16+G21 -> 0 | H22: =+H16+H21 -> 0 | I22: =+I16+I21 -> 0 | J22: =+J16+J21 -> 0 | K22: =+K16+K21 -> 0 | L22: =+L16+L21 -> 0 | ... AY22: =+AY16+AY21 -> 0

Sheet META 8.2
A1: COMUNA | B1: ESTABLECIMIENTO | C1: CUMPLIMIENTO | D1: Indicador | E1: META 8.2: COBERTURA EXAMEN DE MEDICINA PREVENTIVA (EMP), EN MUJERES DE 45 A 64 AÑOS
E2: NUMERADOR | R2: DENOMINADOR
E10: Nº Examen de Medicina Preventiva (EMP) realizado en población femenina de 45 a 64 años | R10: Población femenina de 45 a 64 años estimada, menos población bajo control en Programa Salud Cardiovascular | S10: Población femenina de 45 a 64 años bajo control en Programa Salud Cardiovascular | Y10: Población femenina de 45 a 64 años estimada | Z10: Ingresos de población femenina al PSCV de 45 y 65 años | AM10: Egresos de población Femenina al PSCV de 45 a 65 años
D11: Resultado | E11: ENERO | F11: FEBRERO | G11: MARZO | H11: ABRIL | I11: MAYO | J11: JUNIO | K11: JULIO | L11: AGOSTO | M11: SEPBRE | N11: OCTBRE | O11: NOVBRE | P11: DICBRE | Q11: TOTAL | S11: A DIC 2016 | T11: A ABRIL | U11: A JUNIO | V11: A JULIO | W11: A OCTBRE | X11: A DICBRE | Y11: AÑO 2016 | Z11: ENERO | AA11: FEBRERO | AB11: MARZO | AC11: ABRIL | AD11: MAYO | AE11: JUNIO | AF11: JULIO | AG11: AGOSTO | AH11: SEPBRE | AI11: OCTBRE | AJ11: NOVBRE | AK11: DICBRE | AL11: TOTAL | AM11: ENERO | AN11: FEBRERO | AO11: MARZO | AP11: ABRIL | AQ11: MAYO | AR11: JUNIO | AS11: JULIO | AT11: AGOSTO | AU11: SEPBRE | AV11: OCTBRE | AW11: NOVBRE | AX11: DICBRE | AY11: TOTAL
A12: 04104-LA HIGUERA | B12: 105314-CES. LA HIGUERA | E12: =IFERROR(VLOOKUP($B12,[1]NUM8.2!$H$3:$L$154,2,FALSE),0) -> 0 | F12: =IFERROR(VLOOKUP($B12,[1]NUM8.2!$H$3:$L$154,3,FALSE),0) -> 0 | G12: =IFERROR(VLOOKUP($B12,[1]NUM8.2!$H$3:$L$154,4,FALSE),0) -> 0 | Q12: =SUM(E12:P12) -> 0 | S12: =IFERROR(VLOOKUP($B12,[1]DEN8.2!$H$3:$J$159,2,FALSE),0) -> 48 | T12: =+S12+(Z12+AA12+AB12+AC12)-(AM12+AN12+AO12+AP12) -> 48 | V12: =+U12+(AF12)-(AS12) -> 0 | W12: =+U12+(AF12+AG12+AH12+AI12)-(AS12+AT12+AU12+AV12) -> 0 | Z12: =IFERROR(VLOOKUP($B12,'[1]ACT DEN8.2'!$H$3:$L$112,2,FALSE),0) -> 0 | AA12: =IFERROR(VLOOKUP($B12,'[1]ACT DEN8.2'!$H$3:$L$112,3,FALSE),0) -> 0 | AB12: =IFERROR(VLOOKUP($B12,'[1]ACT DEN8.2'!$H$3:$L$112,4,FALSE),0) -> 0 | AL12: =SUM(Z12:AK12) -> 0 | AM12: =IFERROR(VLOOKUP($B12,'[1]ACT DEN8.2'!$AA$3:$AE$83,2,FALSE),0) -> 0 | AN12: =IFERROR(VLOOKUP($B12,'[1]ACT DEN8.2'!$AA$3:$AE$83,3,FALSE),0) -> 0 | AO12: =IFERROR(VLOOKUP($B12,'[1]ACT DEN8.2'!$AA$3:$AE$83,4,FALSE),0) -> 0 | AY12: =SUM(AM12:AX12) -> 0
A13: 04104-LA HIGUERA | B13: 105500-P.S.R. CALETA HORNOS | E13: =IFERROR(VLOOKUP($B13,[1]NUM8.2!$H$3:$L$154,2,FALSE),0) -> 0 | F13: =IFERROR(VLOOKUP($B13,[1]NUM8.2!$H$3:$L$154,3,FALSE),0) -> 0 | G13: =IFERROR(VLOOKUP($B13,[1]NUM8.2!$H$3:$L$154,4,FALSE),0) -> 0 | Q13: =SUM(E13:P13) -> 0 | S13: =IFERROR(VLOOKUP($B13,[1]DEN8.2!$H$3:$J$159,2,FALSE),0) -> 39 | T13: =+S13+(Z13+AA13+AB13+AC13)-(AM13+AN13+AO13+AP13) -> 39 | V13: =+U13+(AF13)-(AS13) -> 0 | W13: =+U13+(AF13+AG13+AH13+AI13)-(AS13+AT13+AU13+AV13) -> 0 | Z13: =IFERROR(VLOOKUP($B13,'[1]ACT DEN8.2'!$H$3:$L$112,2,FALSE),0) -> 0 | AA13: =IFERROR(VLOOKUP($B13,'[1]ACT DEN8.2'!$H$3:$L$112,3,FALSE),0) -> 0 | AB13: =IFERROR(VLOOKUP($B13,'[1]ACT DEN8.2'!$H$3:$L$112,4,FALSE),0) -> 0 | AL13: =SUM(Z13:AK13) -> 0 | AM13: =IFERROR(VLOOKUP($B13,'[1]ACT DEN8.2'!$AA$3:$AE$83,2,FALSE),0) -> 0 | AN13: =IFERROR(VLOOKUP($B13,'[1]ACT DEN8.2'!$AA$3:$AE$83,3,FALSE),0) -> 0 | AO13: =IFERROR(VLOOKUP($B13,'[1]ACT DEN8.2'!$AA$3:$AE$83,4,FALSE),0) -> 0 | AY13: =SUM(AM13:AX13) -> 0
A14: 04104-LA HIGUERA | B14: 105505-P.S.R. LOS CHOROS | E14: =IFERROR(VLOOKUP($B14,[1]NUM8.2!$H$3:$L$154,2,FALSE),0) -> 0 | F14: =IFERROR(VLOOKUP($B14,[1]NUM8.2!$H$3:$L$154,3,FALSE),0) -> 0 | G14: =IFERROR(VLOOKUP($B14,[1]NUM8.2!$H$3:$L$154,4,FALSE),0) -> 0 | Q14: =SUM(E14:P14) -> 0 | S14: =IFERROR(VLOOKUP($B14,[1]DEN8.2!$H$3:$J$159,2,FALSE),0) -> 23 | T14: =+S14+(Z14+AA14+AB14+AC14)-(AM14+AN14+AO14+AP14) -> 23 | V14: =+U14+(AF14)-(AS14) -> 0 | W14: =+U14+(AF14+AG14+AH14+AI14)-(AS14+AT14+AU14+AV14) -> 0 | Z14: =IFERROR(VLOOKUP($B14,'[1]ACT DEN8.2'!$H$3:$L$112,2,FALSE),0) -> 0 | AA14: =IFERROR(VLOOKUP($B14,'[1]ACT DEN8.2'!$H$3:$L$112,3,FALSE),0) -> 0 | AB14: =IFERROR(VLOOKUP($B14,'[1]ACT DEN8.2'!$H$3:$L$112,4,FALSE),0) -> 0 | AL14: =SUM(Z14:AK14) -> 0 | AM14: =IFERROR(VLOOKUP($B14,'[1]ACT DEN8.2'!$AA$3:$AE$83,2,FALSE),0) -> 0 | AN14: =IFERROR(VLOOKUP($B14,'[1]ACT DEN8.2'!$AA$3:$AE$83,3,FALSE),0) -> 0 | AO14: =IFERROR(VLOOKUP($B14,'[1]ACT DEN8.2'!$AA$3:$AE$83,4,FALSE),0) -> 0 | AY14: =SUM(AM14:AX14) -> 0
A15: 04104-LA HIGUERA | B15: 105506-P.S.R. EL TRAPICHE | E15: =IFERROR(VLOOKUP($B15,[1]NUM8.2!$H$3:$L$154,2,FALSE),0) -> 0 | F15: =IFERROR(VLOOKUP($B15,[1]NUM8.2!$H$3:$L$154,3,FALSE),0) -> 0 | G15: =IFERROR(VLOOKUP($B15,[1]NUM8.2!$H$3:$L$154,4,FALSE),0) -> 0 | Q15: =SUM(E15:P15) -> 0 | S15: =IFERROR(VLOOKUP($B15,[1]DEN8.2!$H$3:$J$159,2,FALSE),0) -> 33 | T15: =+S15+(Z15+AA15+AB15+AC15)-(AM15+AN15+AO15+AP15) -> 33 | V15: =+U15+(AF15)-(AS15) -> 0 | W15: =+U15+(AF15+AG15+AH15+AI15)-(AS15+AT15+AU15+AV15) -> 0 | Z15: =IFERROR(VLOOKUP($B15,'[1]ACT DEN8.2'!$H$3:$L$112,2,FALSE),0) -> 0 | AA15: =IFERROR(VLOOKUP($B15,'[1]ACT DEN8.2'!$H$3:$L$112,3,FALSE),0) -> 0 | AB15: =IFERROR(VLOOKUP($B15,'[1]ACT DEN8.2'!$H$3:$L$112,4,FALSE),0) -> 0 | AL15: =SUM(Z15:AK15) -> 0 | AM15: =IFERROR(VLOOKUP($B15,'[1]ACT DEN8.2'!$AA$3:$AE$83,2,FALSE),0) -> 0 | AN15: =IFERROR(VLOOKUP($B15,'[1]ACT DEN8.2'!$AA$3:$AE$83,3,FALSE),0) -> 0 | AO15: =IFERROR(VLOOKUP($B15,'[1]ACT DEN8.2'!$AA$3:$AE$83,4,FALSE),0) -> 0 | AY15: =SUM(AM15:AX15) -> 0
A16: TOTAL LA HIGUERA | C16: =+D16/Metas!M37 -> 0 | D16: =+Q16/R16 -> 0 | E16: =SUM(E12:E15) -> 0 | F16: =SUM(F12:F15) -> 0 | G16: =SUM(G12:G15) -> 0 | H16: =SUM(H12:H15) -> 0 | I16: =SUM(I12:I15) -> 0 | J16: =SUM(J12:J15) -> 0 | K16: =SUM(K12:K15) -> 0 | L16: =SUM(L12:L15) -> 0 | ... Q16: =SUM(Q12:Q15) -> 0 | R16: =+Y16-T16 -> 334 | S16: =SUM(S12:S15) -> 143 | T16: =SUM(T12:T15) -> 143 | U16: =SUM(U12:U15) -> 0 | V16: =SUM(V12:V15) -> 0 | W16: =SUM(W12:W15) -> 0 | X16: =SUM(X12:X15) -> 0 | Y16: 477 | Z16: =SUM(Z12:Z15) -> 0 | AA16: =SUM(AA12:AA15) -> 0 | AB16: =SUM(AB12:AB15) -> 0 | AC16: =SUM(AC12:AC15) -> 0 | AD16: =SUM(AD12:AD15) -> 0 | AE16: =SUM(AE12:AE15) -> 0 | AF16: =SUM(AF12:AF15) -> 0 | AG16: =SUM(AG12:AG15) -> 0 | ... AK16: =SUM(AK12:AK15) -> 0 | AL16: =SUM(Z16:AK16) -> 0 | AM16: =SUM(AM12:AM15) -> 0 | AN16: =SUM(AN12:AN15) -> 0 | AO16: =SUM(AO12:AO15) -> 0 | AP16: =SUM(AP12:AP15) -> 0 | AQ16: =SUM(AQ12:AQ15) -> 0 | AR16: =SUM(AR12:AR15) -> 0 | AS16: =SUM(AS12:AS15) -> 0 | AT16: =SUM(AT12:AT15) -> 0 | ... AX16: =SUM(AX12:AX15) -> 0 | AY16: =SUM(AM16:AX16) -> 0
A17: 04105-PAIHUANO | B17: 105306-CES. PAIHUANO | E17: =IFERROR(VLOOKUP($B17,[1]NUM8.2!$H$3:$L$154,2,FALSE),0) -> 0 | F17: =IFERROR(VLOOKUP($B17,[1]NUM8.2!$H$3:$L$154,3,FALSE),0) -> 0 | G17: =IFERROR(VLOOKUP($B17,[1]NUM8.2!$H$3:$L$154,4,FALSE),0) -> 0 | Q17: =SUM(E17:P17) -> 0 | S17: =IFERROR(VLOOKUP($B17,[1]DEN8.2!$H$3:$J$159,2,FALSE),0) -> 124 | T17: =+S17+(Z17+AA17+AB17+AC17)-(AM17+AN17+AO17+AP17) -> 124 | V17: =+U17+(AF17)-(AS17) -> 0 | W17: =+U17+(AF17+AG17+AH17+AI17)-(AS17+AT17+AU17+AV17) -> 0 | Z17: =IFERROR(VLOOKUP($B17,'[1]ACT DEN8.2'!$H$3:$L$112,2,FALSE),0) -> 0 | AA17: =IFERROR(VLOOKUP($B17,'[1]ACT DEN8.2'!$H$3:$L$112,3,FALSE),0) -> 0 | AB17: =IFERROR(VLOOKUP($B17,'[1]ACT DEN8.2'!$H$3:$L$112,4,FALSE),0) -> 0 | AL17: =SUM(Z17:AK17) -> 0 | AM17: =IFERROR(VLOOKUP($B17,'[1]ACT DEN8.2'!$AA$3:$AE$83,2,FALSE),0) -> 0 | AN17: =IFERROR(VLOOKUP($B17,'[1]ACT DEN8.2'!$AA$3:$AE$83,3,FALSE),0) -> 0 | AO17: =IFERROR(VLOOKUP($B17,'[1]ACT DEN8.2'!$AA$3:$AE$83,4,FALSE),0) -> 0 | AY17: =SUM(AM17:AX17) -> 0
A18: 04105-PAIHUANO | B18: 105475-P.S.R. HORCON | E18: =IFERROR(VLOOKUP($B18,[1]NUM8.2!$H$3:$L$154,2,FALSE),0) -> 0 | F18: =IFERROR(VLOOKUP($B18,[1]NUM8.2!$H$3:$L$154,3,FALSE),0) -> 0 | G18: =IFERROR(VLOOKUP($B18,[1]NUM8.2!$H$3:$L$154,4,FALSE),0) -> 1 | Q18: =SUM(E18:P18) -> 1 | S18: =IFERROR(VLOOKUP($B18,[1]DEN8.2!$H$3:$J$159,2,FALSE),0) -> 34 | T18: =+S18+(Z18+AA18+AB18+AC18)-(AM18+AN18+AO18+AP18) -> 34 | V18: =+U18+(AF18)-(AS18) -> 0 | W18: =+U18+(AF18+AG18+AH18+AI18)-(AS18+AT18+AU18+AV18) -> 0 | Z18: =IFERROR(VLOOKUP($B18,'[1]ACT DEN8.2'!$H$3:$L$112,2,FALSE),0) -> 0 | AA18: =IFERROR(VLOOKUP($B18,'[1]ACT DEN8.2'!$H$3:$L$112,3,FALSE),0) -> 0 | AB18: =IFERROR(VLOOKUP($B18,'[1]ACT DEN8.2'!$H$3:$L$112,4,FALSE),0) -> 0 | AL18: =SUM(Z18:AK18) -> 0 | AM18: =IFERROR(VLOOKUP($B18,'[1]ACT DEN8.2'!$AA$3:$AE$83,2,FALSE),0) -> 0 | AN18: =IFERROR(VLOOKUP($B18,'[1]ACT DEN8.2'!$AA$3:$AE$83,3,FALSE),0) -> 0 | AO18: =IFERROR(VLOOKUP($B18,'[1]ACT DEN8.2'!$AA$3:$AE$83,4,FALSE),0) -> 0 | AY18: =SUM(AM18:AX18) -> 0
A19: 04105-PAIHUANO | B19: 105476-P.S.R. MONTE GRANDE | E19: =IFERROR(VLOOKUP($B19,[1]NUM8.2!$H$3:$L$154,2,FALSE),0) -> 0 | F19: =IFERROR(VLOOKUP($B19,[1]NUM8.2!$H$3:$L$154,3,FALSE),0) -> 0 | G19: =IFERROR(VLOOKUP($B19,[1]NUM8.2!$H$3:$L$154,4,FALSE),0) -> 0 | Q19: =SUM(E19:P19) -> 0 | S19: =IFERROR(VLOOKUP($B19,[1]DEN8.2!$H$3:$J$159,2,FALSE),0) -> 25 | T19: =+S19+(Z19+AA19+AB19+AC19)-(AM19+AN19+AO19+AP19) -> 25 | V19: =+U19+(AF19)-(AS19) -> 0 | W19: =+U19+(AF19+AG19+AH19+AI19)-(AS19+AT19+AU19+AV19) -> 0 | Z19: =IFERROR(VLOOKUP($B19,'[1]ACT DEN8.2'!$H$3:$L$112,2,FALSE),0) -> 0 | AA19: =IFERROR(VLOOKUP($B19,'[1]ACT DEN8.2'!$H$3:$L$112,3,FALSE),0) -> 0 | AB19: =IFERROR(VLOOKUP($B19,'[1]ACT DEN8.2'!$H$3:$L$112,4,FALSE),0) -> 0 | AL19: =SUM(Z19:AK19) -> 0 | AM19: =IFERROR(VLOOKUP($B19,'[1]ACT DEN8.2'!$AA$3:$AE$83,2,FALSE),0) -> 0 | AN19: =IFERROR(VLOOKUP($B19,'[1]ACT DEN8.2'!$AA$3:$AE$83,3,FALSE),0) -> 0 | AO19: =IFERROR(VLOOKUP($B19,'[1]ACT DEN8.2'!$AA$3:$AE$83,4,FALSE),0) -> 0 | AY19: =SUM(AM19:AX19) -> 0
A20: 04105-PAIHUANO | B20: 105477-P.S.R. PISCO ELQUI | E20: =IFERROR(VLOOKUP($B20,[1]NUM8.2!$H$3:$L$154,2,FALSE),0) -> 0 | F20: =IFERROR(VLOOKUP($B20,[1]NUM8.2!$H$3:$L$154,3,FALSE),0) -> 0 | G20: =IFERROR(VLOOKUP($B20,[1]NUM8.2!$H$3:$L$154,4,FALSE),0) -> 0 | Q20: =SUM(E20:P20) -> 0 | S20: =IFERROR(VLOOKUP($B20,[1]DEN8.2!$H$3:$J$159,2,FALSE),0) -> 47 | T20: =+S20+(Z20+AA20+AB20+AC20)-(AM20+AN20+AO20+AP20) -> 47 | V20: =+U20+(AF20)-(AS20) -> 0 | W20: =+U20+(AF20+AG20+AH20+AI20)-(AS20+AT20+AU20+AV20) -> 0 | Z20: =IFERROR(VLOOKUP($B20,'[1]ACT DEN8.2'!$H$3:$L$112,2,FALSE),0) -> 0 | AA20: =IFERROR(VLOOKUP($B20,'[1]ACT DEN8.2'!$H$3:$L$112,3,FALSE),0) -> 0 | AB20: =IFERROR(VLOOKUP($B20,'[1]ACT DEN8.2'!$H$3:$L$112,4,FALSE),0) -> 0 | AL20: =SUM(Z20:AK20) -> 0 | AM20: =IFERROR(VLOOKUP($B20,'[1]ACT DEN8.2'!$AA$3:$AE$83,2,FALSE),0) -> 0 | AN20: =IFERROR(VLOOKUP($B20,'[1]ACT DEN8.2'!$AA$3:$AE$83,3,FALSE),0) -> 0 | AO20: =IFERROR(VLOOKUP($B20,'[1]ACT DEN8.2'!$AA$3:$AE$83,4,FALSE),0) -> 0 | AY20: =SUM(AM20:AX20) -> 0
A21: TOTAL PAIHUANO | C21: =+D21/Metas!M36 -> 0.075769286 | D21: =+Q21/R21 -> 0.0027322404 | E21: =SUM(E17:E20) -> 0 | F21: =SUM(F17:F20) -> 0 | G21: =SUM(G17:G20) -> 1 | H21: =SUM(H17:H20) -> 0 | I21: =SUM(I17:I20) -> 0 | J21: =SUM(J17:J20) -> 0 | K21: =SUM(K17:K20) -> 0 | L21: =SUM(L17:L20) -> 0 | ... Q21: =SUM(Q17:Q20) -> 1 | R21: =+Y21-T21 -> 366 | S21: =SUM(S17:S20) -> 230 | T21: =SUM(T17:T20) -> 230 | U21: =SUM(U17:U20) -> 0 | V21: =SUM(V17:V20) -> 0 | W21: =SUM(W17:W20) -> 0 | X21: =SUM(X17:X20) -> 0 | Y21: 596 | Z21: =SUM(Z17:Z20) -> 0 | AA21: =SUM(AA17:AA20) -> 0 | AB21: =SUM(AB17:AB20) -> 0 | AC21: =SUM(AC17:AC20) -> 0 | AD21: =SUM(AD17:AD20) -> 0 | AE21: =SUM(AE17:AE20) -> 0 | AF21: =SUM(AF17:AF20) -> 0 | AG21: =SUM(AG17:AG20) -> 0 | ... AY21: =SUM(AY17:AY20) -> 0
B22: TOTAL | E22: =+E16+E21 -> 0 | F22: =+F16+F21 -> 0 | G22: =+G16+G21 -> 1 | H22: =+H16+H21 -> 0 | I22: =+I16+I21 -> 0 | J22: =+J16+J21 -> 0 | K22: =+K16+K21 -> 0 | L22: =+L16+L21 -> 0 | ... AY22: =+AY16+AY21 -> 0

Sheet META 8.3
A1: COMUNA | B1: ESTABLECIMIENTO | C1: CUMPLIMIENTO | D1: Indicador | E1: META 8.3: COBERTURA EXAMEN DE MEDICINA PREVENTIVA (EMPAM) EN PERSONAS DE 65 AÑOS Y MÁS
E2: NUMERADOR | R2: DENOMINADOR
E10: N° de adultos de 65 y más años con Examen de Medicina Preventiva | R10: Nº de adultos de 65 y más años estimados
D11: Resultado | E11: ENERO | F11: FEBRERO | G11: MARZO | H11: ABRIL | I11: MAYO | J11: JUNIO | K11: JULIO | L11: AGOSTO | M11: SEPBRE | N11: OCTBRE | O11: NOVBRE | P11: DICBRE | Q11: TOTAL
A12: 04104-LA HIGUERA | B12: 105314-CES. LA HIGUERA | E12: =IFERROR(VLOOKUP($B12,[1]NUM8.3!$H$3:$L$154,2,FALSE),0) -> 0 | F12: =IFERROR(VLOOKUP($B12,[1]NUM8.3!$H$3:$L$154,3,FALSE),0) -> 0 | G12: =IFERROR(VLOOKUP($B12,[1]NUM8.3!$H$3:$L$154,4,FALSE),0) -> 0 | Q12: =SUM(E12:P12) -> 0
A13: 04104-LA HIGUERA | B13: 105500-P.S.R. CALETA HORNOS | E13: =IFERROR(VLOOKUP($B13,[1]NUM8.3!$H$3:$L$154,2,FALSE),0) -> 0 | F13: =IFERROR(VLOOKUP($B13,[1]NUM8.3!$H$3:$L$154,3,FALSE),0) -> 0 | G13: =IFERROR(VLOOKUP($B13,[1]NUM8.3!$H$3:$L$154,4,FALSE),0) -> 0 | Q13: =SUM(E13:P13) -> 0
A14: 04104-LA HIGUERA | B14: 105505-P.S.R. LOS CHOROS | E14: =IFERROR(VLOOKUP($B14,[1]NUM8.3!$H$3:$L$154,2,FALSE),0) -> 0 | F14: =IFERROR(VLOOKUP($B14,[1]NUM8.3!$H$3:$L$154,3,FALSE),0) -> 0 | G14: =IFERROR(VLOOKUP($B14,[1]NUM8.3!$H$3:$L$154,4,FALSE),0) -> 0 | Q14: =SUM(E14:P14) -> 0
A15: 04104-LA HIGUERA | B15: 105506-P.S.R. EL TRAPICHE | E15: =IFERROR(VLOOKUP($B15,[1]NUM8.3!$H$3:$L$154,2,FALSE),0) -> 0 | F15: =IFERROR(VLOOKUP($B15,[1]NUM8.3!$H$3:$L$154,3,FALSE),0) -> 0 | G15: =IFERROR(VLOOKUP($B15,[1]NUM8.3!$H$3:$L$154,4,FALSE),0) -> 0 | Q15: =SUM(E15:P15) -> 0
A16: TOTAL LA HIGUERA | C16: =+D16/Metas!N37 -> 0 | D16: =+Q16/R16 -> 0 | E16: =SUM(E12:E15) -> 0 | F16: =SUM(F12:F15) -> 0 | G16: =SUM(G12:G15) -> 0 | H16: =SUM(H12:H15) -> 0 | I16: =SUM(I12:I15) -> 0 | J16: =SUM(J12:J15) -> 0 | K16: =SUM(K12:K15) -> 0 | L16: =SUM(L12:L15) -> 0 | ... Q16: =SUM(Q12:Q15) -> 0 | R16: 282
A17: 04105-PAIHUANO | B17: 105306-CES. PAIHUANO | E17: =IFERROR(VLOOKUP($B17,[1]NUM8.3!$H$3:$L$154,2,FALSE),0) -> 8 | F17: =IFERROR(VLOOKUP($B17,[1]NUM8.3!$H$3:$L$154,3,FALSE),0) -> 10 | G17: =IFERROR(VLOOKUP($B17,[1]NUM8.3!$H$3:$L$154,4,FALSE),0) -> 7 | Q17: =SUM(E17:P17) -> 25
A18: 04105-PAIHUANO | B18: 105475-P.S.R. HORCON | E18: =IFERROR(VLOOKUP($B18,[1]NUM8.3!$H$3:$L$154,2,FALSE),0) -> 1 | F18: =IFERROR(VLOOKUP($B18,[1]NUM8.3!$H$3:$L$154,3,FALSE),0) -> 0 | G18: =IFERROR(VLOOKUP($B18,[1]NUM8.3!$H$3:$L$154,4,FALSE),0) -> 0 | Q18: =SUM(E18:P18) -> 1
A19: 04105-PAIHUANO | B19: 105476-P.S.R. MONTE GRANDE | E19: =IFERROR(VLOOKUP($B19,[1]NUM8.3!$H$3:$L$154,2,FALSE),0) -> 0 | F19: =IFERROR(VLOOKUP($B19,[1]NUM8.3!$H$3:$L$154,3,FALSE),0) -> 0 | G19: =IFERROR(VLOOKUP($B19,[1]NUM8.3!$H$3:$L$154,4,FALSE),0) -> 0 | Q19: =SUM(E19:P19) -> 0
A20: 04105-PAIHUANO | B20: 105477-P.S.R. PISCO ELQUI | E20: =IFERROR(VLOOKUP($B20,[1]NUM8.3!$H$3:$L$154,2,FALSE),0) -> 0 | F20: =IFERROR(VLOOKUP($B20,[1]NUM8.3!$H$3:$L$154,3,FALSE),0) -> 1 | G20: =IFERROR(VLOOKUP($B20,[1]NUM8.3!$H$3:$L$154,4,FALSE),0) -> 0 | Q20: =SUM(E20:P20) -> 1
A21: TOTAL PAIHUANO | C21: =+D21/Metas!N36 -> 0.89177339 | D21: =+Q21/R21 -> 0.073972603 | E21: =SUM(E17:E20) -> 9 | F21: =SUM(F17:F20) -> 11 | G21: =SUM(G17:G20) -> 7 | H21: =SUM(H17:H20) -> 0 | I21: =SUM(I17:I20) -> 0 | J21: =SUM(J17:J20) -> 0 | K21: =SUM(K17:K20) -> 0 | L21: =SUM(L17:L20) -> 0 | ... Q21: =SUM(Q17:Q20) -> 27 | R21: 365
B22: TOTAL | E22: =+E16+E21 -> 9 | F22: =+F16+F21 -> 11 | G22: =+G16+G21 -> 7 | H22: =+H16+H21 -> 0 | I22: =+I16+I21 -> 0 | J22: =+J16+J21 -> 0 | K22: =+K16+K21 -> 0 | L22: =+L16+L21 -> 0 | ... Q22: =+Q16+Q21 -> 27

Sheet META 9
A1: COMUNA | B1: ESTABLECIMIENTO | C1: CUMPLIMIENTO | D1: Indicador | E1: META 9: COBERTURA DE EVALUACIÓN DEL DESARROLLO PSICOMOTOR DE NIÑOS Y NIÑAS DE 12 A 23 MESES BAJO CONTROL
E2: NUMERADOR | R2: DENOMINADOR
E10: Niños y niñas 12 a 23 con Evaluación del Desarrollo Psicomotor | R10: Niños y Niñas entre 12 a 23 meses bajo control
D11: Resultado | E11: ENERO | F11: FEBRERO | G11: MARZO | H11: ABRIL | I11: MAYO | J11: JUNIO | K11: JULIO | L11: AGOSTO | M11: SEPBRE | N11: OCTBRE | O11: NOVBRE | P11: DICBRE | Q11: TOTAL | R11: A DIC 2016 | S11: A ABRIL | T11: A JUNIO | U11: A AGOSTO | V11: A OCTBRE | W11: A DICBRE
A12: 04104-LA HIGUERA | B12: 105314-CES. LA HIGUERA | E12: =IFERROR(VLOOKUP($B12,[1]NUM9!$H$3:$L$145,2,FALSE),0) -> 4 | F12: =IFERROR(VLOOKUP($B12,[1]NUM9!$H$3:$L$145,3,FALSE),0) -> 2 | G12: =IFERROR(VLOOKUP($B12,[1]NUM9!$H$3:$L$145,4,FALSE),0) -> 1 | Q12: =SUM(E12:P12) -> 7 | R12: =IFERROR(VLOOKUP($B12,[1]DEN9!$H$3:$J$158,2,FALSE),0) -> 26
A13: 04104-LA HIGUERA | B13: 105500-P.S.R. CALETA HORNOS | E13: =IFERROR(VLOOKUP($B13,[1]NUM9!$H$3:$L$145,2,FALSE),0) -> 0 | F13: =IFERROR(VLOOKUP($B13,[1]NUM9!$H$3:$L$145,3,FALSE),0) -> 0 | G13: =IFERROR(VLOOKUP($B13,[1]NUM9!$H$3:$L$145,4,FALSE),0) -> 3 | Q13: =SUM(E13:P13) -> 3 | R13: =IFERROR(VLOOKUP($B13,[1]DEN9!$H$3:$J$158,2,FALSE),0) -> 14
A14: 04104-LA HIGUERA | B14: 105505-P.S.R. LOS CHOROS | E14: =IFERROR(VLOOKUP($B14,[1]NUM9!$H$3:$L$145,2,FALSE),0) -> 0 | F14: =IFERROR(VLOOKUP($B14,[1]NUM9!$H$3:$L$145,3,FALSE),0) -> 0 | G14: =IFERROR(VLOOKUP($B14,[1]NUM9!$H$3:$L$145,4,FALSE),0) -> 0 | Q14: =SUM(E14:P14) -> 0 | R14: =IFERROR(VLOOKUP($B14,[1]DEN9!$H$3:$J$158,2,FALSE),0) -> 2
A15: 04104-LA HIGUERA | B15: 105506-P.S.R. EL TRAPICHE | E15: =IFERROR(VLOOKUP($B15,[1]NUM9!$H$3:$L$145,2,FALSE),0) -> 0 | F15: =IFERROR(VLOOKUP($B15,[1]NUM9!$H$3:$L$145,3,FALSE),0) -> 0 | G15: =IFERROR(VLOOKUP($B15,[1]NUM9!$H$3:$L$145,4,FALSE),0) -> 2 | Q15: =SUM(E15:P15) -> 2 | R15: =IFERROR(VLOOKUP($B15,[1]DEN9!$H$3:$J$158,2,FALSE),0) -> 18
A16: TOTAL LA HIGUERA | C16: =+D16/Metas!O37 -> 0.21276596 | D16: =+Q16/R16 -> 0.2 | E16: =SUM(E12:E15) -> 4 | F16: =SUM(F12:F15) -> 2 | G16: =SUM(G12:G15) -> 6 | H16: =SUM(H12:H15) -> 0 | I16: =SUM(I12:I15) -> 0 | J16: =SUM(J12:J15) -> 0 | K16: =SUM(K12:K15) -> 0 | L16: =SUM(L12:L15) -> 0 | ... W16: =SUM(W12:W15) -> 0
A17: 04105-PAIHUANO | B17: 105306-CES. PAIHUANO | E17: =IFERROR(VLOOKUP($B17,[1]NUM9!$H$3:$L$145,2,FALSE),0) -> 3 | F17: =IFERROR(VLOOKUP($B17,[1]NUM9!$H$3:$L$145,3,FALSE),0) -> 2 | G17: =IFERROR(VLOOKUP($B17,[1]NUM9!$H$3:$L$145,4,FALSE),0) -> 1 | Q17: =SUM(E17:P17) -> 6 | R17: =IFERROR(VLOOKUP($B17,[1]DEN9!$H$3:$J$158,2,FALSE),0) -> 16
A18: 04105-PAIHUANO | B18: 105475-P.S.R. HORCON | E18: =IFERROR(VLOOKUP($B18,[1]NUM9!$H$3:$L$145,2,FALSE),0) -> 0 | F18: =IFERROR(VLOOKUP($B18,[1]NUM9!$H$3:$L$145,3,FALSE),0) -> 1 | G18: =IFERROR(VLOOKUP($B18,[1]NUM9!$H$3:$L$145,4,FALSE),0) -> 0 | Q18: =SUM(E18:P18) -> 1 | R18: =IFERROR(VLOOKUP($B18,[1]DEN9!$H$3:$J$158,2,FALSE),0) -> 7
A19: 04105-PAIHUANO | B19: 105476-P.S.R. MONTE GRANDE | E19: =IFERROR(VLOOKUP($B19,[1]NUM9!$H$3:$L$145,2,FALSE),0) -> 0 | F19: =IFERROR(VLOOKUP($B19,[1]NUM9!$H$3:$L$145,3,FALSE),0) -> 0 | G19: =IFERROR(VLOOKUP($B19,[1]NUM9!$H$3:$L$145,4,FALSE),0) -> 1 | Q19: =SUM(E19:P19) -> 1 | R19: =IFERROR(VLOOKUP($B19,[1]DEN9!$H$3:$J$158,2,FALSE),0) -> 9
A20: 04105-PAIHUANO | B20: 105477-P.S.R. PISCO ELQUI | E20: =IFERROR(VLOOKUP($B20,[1]NUM9!$H$3:$L$145,2,FALSE),0) -> 0 | F20: =IFERROR(VLOOKUP($B20,[1]NUM9!$H$3:$L$145,3,FALSE),0) -> 0 | G20: =IFERROR(VLOOKUP($B20,[1]NUM9!$H$3:$L$145,4,FALSE),0) -> 3 | Q20: =SUM(E20:P20) -> 3 | R20: =IFERROR(VLOOKUP($B20,[1]DEN9!$H$3:$J$158,2,FALSE),0) -> 17
A21: TOTAL PAIHUANO | C21: =+D21/Metas!O36 -> 0.23881893 | D21: =+Q21/R21 -> 0.2244898 | E21: =SUM(E17:E20) -> 3 | F21: =SUM(F17:F20) -> 3 | G21: =SUM(G17:G20) -> 5 | H21: =SUM(H17:H20) -> 0 | I21: =SUM(I17:I20) -> 0 | J21: =SUM(J17:J20) -> 0 | K21: =SUM(K17:K20) -> 0 | L21: =SUM(L17:L20) -> 0 | ... W21: =SUM(W17:W20) -> 0
B22: TOTAL | E22: =+E16+E21 -> 7 | F22: =+F16+F21 -> 5 | G22: =+G16+G21 -> 11 | H22: =+H16+H21 -> 0 | I22: =+I16+I21 -> 0 | J22: =+J16+J21 -> 0 | K22: =+K16+K21 -> 0 | L22: =+L16+L21 -> 0 | ... W22: =+W16+W21 -> 0

Sheet META 10
A1: COMUNA | B1: ESTABLECIMIENTO | C1: CUMPLIMIENTO | D1: Indicador | E1: META 10: COBERTURA DE CONTROL DE SALUD INTEGRAL EN ADOLESCENTES DE 10 14 AÑOS
E2: NUMERADOR | R2: DENOMINADOR
E10: Nº de controles de salud integral, realizados a adolescentes de 10 a 14 años | R10: Población adolescente de 10 a 14 años estimada en el establecimiento de salud
D11: Resultado | E11: ENERO | F11: FEBRERO | G11: MARZO | H11: ABRIL | I11: MAYO | J11: JUNIO | K11: JULIO | L11: AGOSTO | M11: SEPBRE | N11: OCTBRE | O11: NOVBRE | P11: DICBRE | Q11: TOTAL
A12: 04104-LA HIGUERA | B12: 105314-CES. LA HIGUERA | E12: =IFERROR(VLOOKUP($B12,[1]NUM10!$H$3:$L$37,2,FALSE),0) -> 0 | F12: =IFERROR(VLOOKUP($B12,[1]NUM10!$H$3:$L$37,3,FALSE),0) -> 0 | G12: =IFERROR(VLOOKUP($B12,[1]NUM10!$H$3:$L$37,4,FALSE),0) -> 0 | Q12: =SUM(E12:P12) -> 0
A13: 04104-LA HIGUERA | B13: 105500-P.S.R. CALETA HORNOS | E13: =IFERROR(VLOOKUP($B13,[1]NUM10!$H$3:$L$37,2,FALSE),0) -> 0 | F13: =IFERROR(VLOOKUP($B13,[1]NUM10!$H$3:$L$37,3,FALSE),0) -> 0 | G13: =IFERROR(VLOOKUP($B13,[1]NUM10!$H$3:$L$37,4,FALSE),0) -> 0 | Q13: =SUM(E13:P13) -> 0
A14: 04104-LA HIGUERA | B14: 105505-P.S.R. LOS CHOROS | E14: =IFERROR(VLOOKUP($B14,[1]NUM10!$H$3:$L$37,2,FALSE),0) -> 0 | F14: =IFERROR(VLOOKUP($B14,[1]NUM10!$H$3:$L$37,3,FALSE),0) -> 0 | G14: =IFERROR(VLOOKUP($B14,[1]NUM10!$H$3:$L$37,4,FALSE),0) -> 0 | Q14: =SUM(E14:P14) -> 0
A15: 04104-LA HIGUERA | B15: 105506-P.S.R. EL TRAPICHE | E15: =IFERROR(VLOOKUP($B15,[1]NUM10!$H$3:$L$37,2,FALSE),0) -> 0 | F15: =IFERROR(VLOOKUP($B15,[1]NUM10!$H$3:$L$37,3,FALSE),0) -> 0 | G15: =IFERROR(VLOOKUP($B15,[1]NUM10!$H$3:$L$37,4,FALSE),0) -> 0 | Q15: =SUM(E15:P15) -> 0
A16: TOTAL LA HIGUERA | C16: =+D16/Metas!P37 -> 0 | D16: =+Q16/R16 -> 0 | E16: =SUM(E12:E15) -> 0 | F16: =SUM(F12:F15) -> 0 | G16: =SUM(G12:G15) -> 0 | H16: =SUM(H12:H15) -> 0 | I16: =SUM(I12:I15) -> 0 | J16: =SUM(J12:J15) -> 0 | K16: =SUM(K12:K15) -> 0 | L16: =SUM(L12:L15) -> 0 | ... Q16: =SUM(Q12:Q15) -> 0 | R16: 247
A17: 04105-PAIHUANO | B17: 105306-CES. PAIHUANO | E17: =IFERROR(VLOOKUP($B17,[1]NUM10!$H$3:$L$37,2,FALSE),0) -> 0 | F17: =IFERROR(VLOOKUP($B17,[1]NUM10!$H$3:$L$37,3,FALSE),0) -> 0 | G17: =IFERROR(VLOOKUP($B17,[1]NUM10!$H$3:$L$37,4,FALSE),0) -> 0 | Q17: =SUM(E17:P17) -> 0
A18: 04105-PAIHUANO | B18: 105475-P.S.R. HORCON | E18: =IFERROR(VLOOKUP($B18,[1]NUM10!$H$3:$L$37,2,FALSE),0) -> 0 | F18: =IFERROR(VLOOKUP($B18,[1]NUM10!$H$3:$L$37,3,FALSE),0) -> 0 | G18: =IFERROR(VLOOKUP($B18,[1]NUM10!$H$3:$L$37,4,FALSE),0) -> 0 | Q18: =SUM(E18:P18) -> 0
A19: 04105-PAIHUANO | B19: 105476-P.S.R. MONTE GRANDE | E19: =IFERROR(VLOOKUP($B19,[1]NUM10!$H$3:$L$37,2,FALSE),0) -> 0 | F19: =IFERROR(VLOOKUP($B19,[1]NUM10!$H$3:$L$37,3,FALSE),0) -> 0 | G19: =IFERROR(VLOOKUP($B19,[1]NUM10!$H$3:$L$37,4,FALSE),0) -> 0 | Q19: =SUM(E19:P19) -> 0
A20: 04105-PAIHUANO | B20: 105477-P.S.R. PISCO ELQUI | E20: =IFERROR(VLOOKUP($B20,[1]NUM10!$H$3:$L$37,2,FALSE),0) -> 0 | F20: =IFERROR(VLOOKUP($B20,[1]NUM10!$H$3:$L$37,3,FALSE),0) -> 0 | G20: =IFERROR(VLOOKUP($B20,[1]NUM10!$H$3:$L$37,4,FALSE),0) -> 0 | Q20: =SUM(E20:P20) -> 0
A21: TOTAL PAIHUANO | C21: =+D21/Metas!P36 -> 0 | D21: =+Q21/R21 -> 0 | E21: =SUM(E17:E20) -> 0 | F21: =SUM(F17:F20) -> 0 | G21: =SUM(G17:G20) -> 0 | H21: =SUM(H17:H20) -> 0 | I21: =SUM(I17:I20) -> 0 | J21: =SUM(J17:J20) -> 0 | K21: =SUM(K17:K20) -> 0 | L21: =SUM(L17:L20) -> 0 | ... Q21: =SUM(Q17:Q20) -> 0 | R21: 279
B22: TOTAL | E22: =+E16+E21 -> 0 | F22: =+F16+F21 -> 0 | G22: =+G16+G21 -> 0 | H22: =+H16+H21 -> 0 | I22: =+I16+I21 -> 0 | J22: =+J16+J21 -> 0 | K22: =+K16+K21 -> 0 | L22: =+L16+L21 -> 0 | ... Q22: =+Q16+Q21 -> 0

Sheet META 11
A1: COMUNA | B1: ESTABLECIMIENTO | C1: CUMPLIMIENTO | D1: Indicador | E1: META 11: PROPORCIÓN DE MENORES DE 20 AÑOS CON ALTA ODONTOLÓGICA TOTAL
E2: NUMERADOR | R2: DENOMINADOR
E10: Nº de altas odontológicas totales en población menor de 20 años | R10: Población estimada menor de 20 años
D11: Resultado | E11: ENERO | F11: FEBRERO | G11: MARZO | H11: ABRIL | I11: MAYO | J11: JUNIO | K11: JULIO | L11: AGOSTO | M11: SEPBRE | N11: OCTBRE | O11: NOVBRE | P11: DICBRE | Q11: TOTAL
A12: 04104-LA HIGUERA | B12: 105314-CES. LA HIGUERA | E12: =IFERROR(VLOOKUP($B12,[1]NUM11!$H$3:$L$109,2,FALSE),0) -> 0 | F12: =IFERROR(VLOOKUP($B12,[1]NUM11!$H$3:$L$109,3,FALSE),0) -> 0 | G12: =IFERROR(VLOOKUP($B12,[1]NUM11!$H$3:$L$109,4,FALSE),0) -> 0 | Q12: =SUM(E12:P12) -> 0
A13: 04104-LA HIGUERA | B13: 105500-P.S.R. CALETA HORNOS | E13: =IFERROR(VLOOKUP($B13,[1]NUM11!$H$3:$L$109,2,FALSE),0) -> 0 | F13: =IFERROR(VLOOKUP($B13,[1]NUM11!$H$3:$L$109,3,FALSE),0) -> 0 | G13: =IFERROR(VLOOKUP($B13,[1]NUM11!$H$3:$L$109,4,FALSE),0) -> 0 | Q13: =SUM(E13:P13) -> 0
A14: 04104-LA HIGUERA | B14: 105505-P.S.R. LOS CHOROS | E14: =IFERROR(VLOOKUP($B14,[1]NUM11!$H$3:$L$109,2,FALSE),0) -> 0 | F14: =IFERROR(VLOOKUP($B14,[1]NUM11!$H$3:$L$109,3,FALSE),0) -> 0 | G14: =IFERROR(VLOOKUP($B14,[1]NUM11!$H$3:$L$109,4,FALSE),0) -> 0 | Q14: =SUM(E14:P14) -> 0
