Workbook

Sheet RESUMEN
A1: MINISTERIO DE SALUD
A2: SERVICIO DE SALUD COQUIMBO
A3: SUBDIRECCION DE GESTION ASISTENCIAL
A4: SUBDEPTO DE ESTADÍSTICA Y GESTIÓN DE LA INFORMACIÓN
A5: COMUNA | B5: RESUMEN DE CUMPLIMIENTO DE METAS A ABRIL 2017
B6: CORTE A MARZO
B8: METAS COMPONENTE ESTRATEGIA RISS, PRODUCCIÓN,COBERTURA EFECTIVA E IMPACTO SANITARIO
B9: META Nº2 | C9: META Nº3.1 | D9: META Nº5 | E9: META Nº6 | F9: META Nº7 | G9: META Nº8.1 | H9: META Nº8.2 | I9: META Nº8.3 | J9: META Nº9 | K9: META Nº10 | L9: META Nº11 | M9: META Nº12 | N9: META Nº13 | O9: META Nº14 | P9: META Nº17 | Q9: META Nº18 | R9: META Nº19 | S9: META Nº20 | T9: META Nº21 | U9: CUMPLIMIENTO GENERAL
B10: Familias Evaluadas según riesgo (*) | C10: Gestion de Reclamos APS | D10: Consultas de Morbilidad y Controles Médicos | E10: SIC derivadas desde la APS al Nivel Secundario | F10: Visita domiciliaria integral | G10: EMP hombres 20 a 64 años | H10: EMP mujeres de 45 a 64 años | I10: EMP 65 y mas años | J10: Evaluación del desarrollo Psicomotor de niños/as de 12 a 23 meses bajo control | K10: Control de salud integral adolescentes de 10 a 14 años | L10: Alta odontologica menores de 20 años | M10: Cobertura de Atención Integral de trastornos mentales en personas de 5 y más años | N10: Cobertura de Atención de Asma en Población general y EPOC en personas de 40 años y más | O10: Capacitación a Cuidadores de personas con Dependencia Severa con Pago de Estipendio (*) | P10: Control embarazada | Q10: Cobertura de Métodos Anticonceptivos en Adolescentes (*) | R10: Cobertura DM2 en personas de 15 y mas años (*) | S10: Cobertutra HTA en personas de 15 y mas años (*) | T10: Proporción de Niñas y Niños de 3 años libre de Caries
A12: LA HIGUERA | B12: N/A | C12: =+'META 3.1'!$C$16 -> #DIV/0! | D12: =+'META 5 '!C16 -> 1.7436725 | E12: =+'META 6'!$C$16 -> 2.5795455 | F12: =+'META 7'!$C$16 -> 0.73784136 | G12: =+'META 8.1'!$C$16 -> 0 | H12: =+'META 8.2'!$C$16 -> 0 | I12: =+'META 8.3'!$C$16 -> 0 | J12: =+'META 9'!$C$16 -> 0.21276596 | K12: =+'META 10'!$C$16 -> 0 | L12: =+'META 11'!$C$16 -> 0 | M12: =+'META 12'!$C$16 -> 1.0155961 | N12: =+'META 13'!$C$16 -> 1.0052189 | O12: =+'META 14'!$C$16 -> 0 | P12: =+'META 17'!$C$16 -> 0.91837672 | Q12: =+'META 18'!$C$16 -> 0 | R12: =+'META 19'!$C$16 -> 0 | S12: =+'META 20'!$C$16 -> 0 | T12: =+'META 21'!$C$16 -> SI | U12: =+'META 3.1'!$C$16 -> #DIV/0!
A13: PAIHUANO | B13: N/A | C13: =+'META 3.1'!$C$21 -> 1.0204082 | D13: =+'META 5 '!C21 -> 1.8316455 | E13: =+'META 6'!$C$21 -> 0.60195313 | F13: =+'META 7'!$C$21 -> 2.2425414 | G13: =+'META 8.1'!$C$21 -> 0 | H13: =+'META 8.2'!$C$21 -> 0.075769286 | I13: =+'META 8.3'!$C$21 -> 0.89177339 | J13: =+'META 9'!$C$21 -> 0.23881893 | K13: =+'META 10'!$C$21 -> 0 | L13: =+'META 11'!$C$21 -> 2.1219136 | M13: =+'META 12'!$C$21 -> 0 | N13: =+'META 13'!$C$21 -> 0.58395711 | O13: =+'META 14'!$C$21 -> 0 | P13: =+'META 17'!$C$21 -> 1.1085246 | Q13: =+'META 18'!$C$21 -> 0 | R13: =+'META 19'!$C$21 -> 0 | S13: =+'META 20'!$C$21 -> 0 | T13: =+'META 21'!$C$21 -> SI | U13: =+'META 3.1'!$C$21 -> 1.0204082
A14: (*) Metas a Evaluar con Serie P de Junio 2017
A17: COMUNA | B17: RESUMEN DE CUMPLIMIENTO DE METAS A MARZO 2016
B19: CORTE A MARZO
B20: METAS COMPONENTE ACTIVIDAD GENERAL
B21: META Nº1 | C21: META Nº2 | D21: META Nº3 | E21: META Nº4 | F21: META Nº5 | G21: META Nº6 | H21: META Nº7 | I21: META Nº8 | J21: META Nº9 | K21: META Nº10 | L21: META Nº11 | M21: META Nº12 | N21: META Nº13
B22: EMP hombres 20 a 44 años | C22: EMP mujeres de 45 a 64 años | D22: EMP 65 y mas años | E22: Control embarazada | F22: Alta odontologica menores de 20 años | G22: Gestion de reclamos | H22: Cobertura DM2 en personas de 15 y mas años | I22: Cobertutra HTA en personas de 15 y mas años | J22: Cobertura de Evaluación del desarrollo Psicomotor de niños/as de 12 a 23 meses bajo control | K22: Visita domiciliaria integral | L22: Cobertura de Atención de Asma en Población general y EPOC en personas de 40 años y más | M22: Cobertura de Atención Integral de trastornos mentales en personas de 5 y más años | N22: Cobertura de control de salud integral a adolescentes de 10 a 14 años
A24: LA HIGUERA | B24: =IF(B12="n/a","n/a",IF(B12="","",IF(B12>1,1,B12))) -> n/a | C24: =IF(C12="n/a","n/a",IF(C12="","",IF(C12>1,1,C12))) -> #DIV/0! | D24: =IF(D12="n/a","n/a",IF(D12="","",IF(D12>1,1,D12))) -> 1 | E24: =IF(E12="n/a","n/a",IF(E12="","",IF(E12>1,1,E12))) -> 1 | F24: =IF(F12="n/a","n/a",IF(F12="","",IF(F12>1,1,F12))) -> 0.73784136 | G24: =IF(G12="n/a","n/a",IF(G12="","",IF(G12>1,1,G12))) -> 0 | H24: =IF(H12="n/a","n/a",IF(H12="","",IF(H12>1,1,H12))) -> 0 | I24: =IF(I12="n/a","n/a",IF(I12="","",IF(I12>1,1,I12))) -> 0 | ... N24: =IF(N12="n/a","n/a",IF(N12="","",IF(N12>1,1,N12))) -> 1
A25: PAIHUANO | B25: =IF(B13="n/a","n/a",IF(B13="","",IF(B13>1,1,B13))) -> n/a | C25: =IF(C13="n/a","n/a",IF(C13="","",IF(C13>1,1,C13))) -> 1 | D25: =IF(D13="n/a","n/a",IF(D13="","",IF(D13>1,1,D13))) -> 1 | E25: =IF(E13="n/a","n/a",IF(E13="","",IF(E13>1,1,E13))) -> 0.60195313 | F25: =IF(F13="n/a","n/a",IF(F13="","",IF(F13>1,1,F13))) -> 1 | G25: =IF(G13="n/a","n/a",IF(G13="","",IF(G13>1,1,G13))) -> 0 | H25: =IF(H13="n/a","n/a",IF(H13="","",IF(H13>1,1,H13))) -> 0.075769286 | I25: =IF(I13="n/a","n/a",IF(I13="","",IF(I13>1,1,I13))) -> 0.89177339 | ... N25: =IF(N13="n/a","n/a",IF(N13="","",IF(N13>1,1,N13))) -> 0.58395711

Sheet META 2
A1: COMUNA | B1: ESTABLECIMIENTO | C1: CUMPLIMIENTO | D1: Indicador | E1: META 2 : FAMILIAS EVALUADAS SEGÚN RIESGO FAMILIAR
E2: NUMERADOR | G2: DENOMINADOR
E10: Nº de familias evaluadas según riesgo familiar | G10: Total de familias Insciritas (población estimada/3,3)
D11: Resultado | E11: A JUNIO | F11: A DICBRE
A12: 04104-LA HIGUERA | B12: 105314-CES. LA HIGUERA
A13: 04104-LA HIGUERA | B13: 105500-P.S.R. CALETA HORNOS
A14: 04104-LA HIGUERA | B14: 105505-P.S.R. LOS CHOROS
A15: 04104-LA HIGUERA | B15: 105506-P.S.R. EL TRAPICHE
A16: TOTAL LA HIGUERA | D16: =+E16/G16 -> 0 | E16: =SUM(E12:E15) -> 0 | F16: =SUM(F12:F15) -> 0 | G16: 1195
A17: 04105-PAIHUANO | B17: 105306-CES. PAIHUANO
A18: 04105-PAIHUANO | B18: 105475-P.S.R. HORCON
A19: 04105-PAIHUANO | B19: 105476-P.S.R. MONTE GRANDE
A20: 04105-PAIHUANO | B20: 105477-P.S.R. PISCO ELQUI
A21: TOTAL PAIHUANO | D21: =+E21/G21 -> 0 | E21: =SUM(E17:E20) -> 0 | F21: =SUM(F17:F20) -> 0 | G21: 1416
B22: TOTAL

Sheet META 3.1
A1: COMUNA | B1: ESTABLECIMIENTO | C1: CUMPLIMIENTO | D1: Indicador | E1: META 3.1: GESTION DE RECLAMOS EN APS
E2: NUMERADOR | R2: DENOMINADOR
E10: Nº total de reclamos respondidos con solución dentro de los plazos legales establecidos (15 días hábiles) | R10: Nº total de reclamos
D11: Resultado | E11: ENERO | F11: FEBRERO | G11: MARZO | H11: ABRIL | I11: MAYO | J11: JUNIO | K11: JULIO | L11: AGOSTO | M11: SEPBRE | N11: OCTBRE | O11: NOVBRE | P11: DICBRE | Q11: TOTAL | R11: ENERO | S11: FEBRERO | T11: MARZO | U11: ABRIL | V11: MAYO | W11: JUNIO | X11: JULIO | Y11: AGOSTO | Z11: SEPBRE | AA11: OCTBRE | AB11: NOVBRE | AC11: DICBRE | AD11: TOTAL
A12: 04104-LA HIGUERA | B12: 105314-CES. LA HIGUERA | E12: =IFERROR(VLOOKUP($B12,[1]NUM3.1!$H$3:$L$64,2,FALSE),0) -> 0 | F12: =IFERROR(VLOOKUP($B12,[1]NUM3.1!$H$3:$L$64,3,FALSE),0) -> 0 | G12: =IFERROR(VLOOKUP($B12,[1]NUM3.1!$H$3:$L$64,4,FALSE),0) -> 0 | Q12: =SUM(E12:P12) -> 0 | R12: =IFERROR(VLOOKUP($B12,[1]DEN3.1!$H$3:$L$64,2,FALSE),0) -> 0 | S12: =IFERROR(VLOOKUP($B12,[1]DEN3.1!$H$3:$L$64,3,FALSE),0) -> 0 | T12: =IFERROR(VLOOKUP($B12,[1]DEN3.1!$H$3:$L$64,4,FALSE),0) -> 0 | AD12: =SUM(R12:AC12) -> 0
A13: 04104-LA HIGUERA | B13: 105500-P.S.R. CALETA HORNOS | E13: =IFERROR(VLOOKUP($B13,[1]NUM3.1!$H$3:$L$64,2,FALSE),0) -> 0 | F13: =IFERROR(VLOOKUP($B13,[1]NUM3.1!$H$3:$L$64,3,FALSE),0) -> 0 | G13: =IFERROR(VLOOKUP($B13,[1]NUM3.1!$H$3:$L$64,4,FALSE),0) -> 0 | Q13: =SUM(E13:P13) -> 0 | R13: =IFERROR(VLOOKUP($B13,[1]DEN3.1!$H$3:$L$64,2,FALSE),0) -> 0 | S13: =IFERROR(VLOOKUP($B13,[1]DEN3.1!$H$3:$L$64,3,FALSE),0) -> 0 | T13: =IFERROR(VLOOKUP($B13,[1]DEN3.1!$H$3:$L$64,4,FALSE),0) -> 0 | AD13: =SUM(R13:AC13) -> 0
A14: 04104-LA HIGUERA | B14: 105505-P.S.R. LOS CHOROS | E14: =IFERROR(VLOOKUP($B14,[1]NUM3.1!$H$3:$L$64,2,FALSE),0) -> 0 | F14: =IFERROR(VLOOKUP($B14,[1]NUM3.1!$H$3:$L$64,3,FALSE),0) -> 0 | G14: =IFERROR(VLOOKUP($B14,[1]NUM3.1!$H$3:$L$64,4,FALSE),0) -> 0 | Q14: =SUM(E14:P14) -> 0 | R14: =IFERROR(VLOOKUP($B14,[1]DEN3.1!$H$3:$L$64,2,FALSE),0) -> 0 | S14: =IFERROR(VLOOKUP($B14,[1]DEN3.1!$H$3:$L$64,3,FALSE),0) -> 0 | T14: =IFERROR(VLOOKUP($B14,[1]DEN3.1!$H$3:$L$64,4,FALSE),0) -> 0 | AD14: =SUM(R14:AC14) -> 0
A15: 04104-LA HIGUERA | B15: 105506-P.S.R. EL TRAPICHE | E15: =IFERROR(VLOOKUP($B15,[1]NUM3.1!$H$3:$L$64,2,FALSE),0) -> 0 | F15: =IFERROR(VLOOKUP($B15,[1]NUM3.1!$H$3:$L$64,3,FALSE),0) -> 0 | G15: =IFERROR(VLOOKUP($B15,[1]NUM3.1!$H$3:$L$64,4,FALSE),0) -> 0 | Q15: =SUM(E15:P15) -> 0 | R15: =IFERROR(VLOOKUP($B15,[1]DEN3.1!$H$3:$L$64,2,FALSE),0) -> 0 | S15: =IFERROR(VLOOKUP($B15,[1]DEN3.1!$H$3:$L$64,3,FALSE),0) -> 0 | T15: =IFERROR(VLOOKUP($B15,[1]DEN3.1!$H$3:$L$64,4,FALSE),0) -> 0 | AD15: =SUM(R15:AC15) -> 0
A16: TOTAL LA HIGUERA | C16: =+D16/Metas!H37 -> #DIV/0! | D16: =+Q16/AD16 -> #DIV/0! | E16: =SUM(E12:E15) -> 0 | F16: =SUM(F12:F15) -> 0 | G16: =SUM(G12:G15) -> 0 | H16: =SUM(H12:H15) -> 0 | I16: =SUM(I12:I15) -> 0 | J16: =SUM(J12:J15) -> 0 | K16: =SUM(K12:K15) -> 0 | L16: =SUM(L12:L15) -> 0 | ... AD16: =SUM(AD12:AD15) -> 0
A17: 04105-PAIHUANO | B17: 105306-CES. PAIHUANO | E17: =IFERROR(VLOOKUP($B17,[1]NUM3.1!$H$3:$L$64,2,FALSE),0) -> 0 | F17: =IFERROR(VLOOKUP($B17,[1]NUM3.1!$H$3:$L$64,3,FALSE),0) -> 0 | G17: =IFERROR(VLOOKUP($B17,[1]NUM3.1!$H$3:$L$64,4,FALSE),0) -> 1 | Q17: =SUM(E17:P17) -> 1 | R17: =IFERROR(VLOOKUP($B17,[1]DEN3.1!$H$3:$L$64,2,FALSE),0) -> 0 | S17: =IFERROR(VLOOKUP($B17,[1]DEN3.1!$H$3:$L$64,3,FALSE),0) -> 0 | T17: =IFERROR(VLOOKUP($B17,[1]DEN3.1!$H$3:$L$64,4,FALSE),0) -> 1 | AD17: =SUM(R17:AC17) -> 1
A18: 04105-PAIHUANO | B18: 105475-P.S.R. HORCON | E18: =IFERROR(VLOOKUP($B18,[1]NUM3.1!$H$3:$L$64,2,FALSE),0) -> 0 | F18: =IFERROR(VLOOKUP($B18,[1]NUM3.1!$H$3:$L$64,3,FALSE),0) -> 0 | G18: =IFERROR(VLOOKUP($B18,[1]NUM3.1!$H$3:$L$64,4,FALSE),0) -> 0 | Q18: =SUM(E18:P18) -> 0 | R18: =IFERROR(VLOOKUP($B18,[1]DEN3.1!$H$3:$L$64,2,FALSE),0) -> 0 | S18: =IFERROR(VLOOKUP($B18,[1]DEN3.1!$H$3:$L$64,3,FALSE),0) -> 0 | T18: =IFERROR(VLOOKUP($B18,[1]DEN3.1!$H$3:$L$64,4,FALSE),0) -> 0 | AD18: =SUM(R18:AC18) -> 0
A19: 04105-PAIHUANO | B19: 105476-P.S.R. MONTE GRANDE | E19: =IFERROR(VLOOKUP($B19,[1]NUM3.1!$H$3:$L$64,2,FALSE),0) -> 0 | F19: =IFERROR(VLOOKUP($B19,[1]NUM3.1!$H$3:$L$64,3,FALSE),0) -> 0 | G19: =IFERROR(VLOOKUP($B19,[1]NUM3.1!$H$3:$L$64,4,FALSE),0) -> 0 | Q19: =SUM(E19:P19) -> 0 | R19: =IFERROR(VLOOKUP($B19,[1]DEN3.1!$H$3:$L$64,2,FALSE),0) -> 0 | S19: =IFERROR(VLOOKUP($B19,[1]DEN3.1!$H$3:$L$64,3,FALSE),0) -> 0 | T19: =IFERROR(VLOOKUP($B19,[1]DEN3.1!$H$3:$L$64,4,FALSE),0) -> 0 | AD19: =SUM(R19:AC19) -> 0
A20: 04105-PAIHUANO | B20: 105477-P.S.R. PISCO ELQUI | E20: =IFERROR(VLOOKUP($B20,[1]NUM3.1!$H$3:$L$64,2,FALSE),0) -> 0 | F20: =IFERROR(VLOOKUP($B20,[1]NUM3.1!$H$3:$L$64,3,FALSE),0) -> 0 | G20: =IFERROR(VLOOKUP($B20,[1]NUM3.1!$H$3:$L$64,4,FALSE),0) -> 0 | Q20: =SUM(E20:P20) -> 0 | R20: =IFERROR(VLOOKUP($B20,[1]DEN3.1!$H$3:$L$64,2,FALSE),0) -> 0 | S20: =IFERROR(VLOOKUP($B20,[1]DEN3.1!$H$3:$L$64,3,FALSE),0) -> 0 | T20: =IFERROR(VLOOKUP($B20,[1]DEN3.1!$H$3:$L$64,4,FALSE),0) -> 0 | AD20: =SUM(R20:AC20) -> 0
A21: TOTAL PAIHUANO | C21: =+D21/Metas!H36 -> 1.0204082 | D21: =+Q21/AD21 -> 1 | E21: =SUM(E17:E20) -> 0 | F21: =SUM(F17:F20) -> 0 | G21: =SUM(G17:G20) -> 1 | H21: =SUM(H17:H20) -> 0 | I21: =SUM(I17:I20) -> 0 | J21: =SUM(J17:J20) -> 0 | K21: =SUM(K17:K20) -> 0 | L21: =SUM(L17:L20) -> 0 | ... AD21: =SUM(AD17:AD20) -> 1
B22: TOTAL

Sheet META 5 
A1: COMUNA | B1: ESTABLECIMIENTO | C1: CUMPLIMIENTO | D1: Indicador | E1: META 5: TASA DE CONSULTAS DE MORBILIDAD Y CONTROLES MEDICOS POR HABITANTE/AÑO
E2: NUMERADOR | R2: DENOMINADOR
E10: Nº de consultas de morbilidad y controles médicos realizadas | R10: Población Estimada
D11: Resultado | E11: ENERO | F11: FEBRERO | G11: MARZO | H11: ABRIL | I11: MAYO | J11: JUNIO | K11: JULIO | L11: AGOSTO | M11: SEPBRE | N11: OCTBRE | O11: NOVBRE | P11: DICBRE | Q11: TOTAL
A12: 04104-LA HIGUERA | B12: 105314-CES. LA HIGUERA | E12: =IFERROR(VLOOKUP($B12,[1]NUM5!$H$3:$L$162,2,FALSE),0) -> 230 | F12: =IFERROR(VLOOKUP($B12,[1]NUM5!$H$3:$L$162,3,FALSE),0) -> 44 | G12: =IFERROR(VLOOKUP($B12,[1]NUM5!$H$3:$L$162,4,FALSE),0) -> 258 | Q12: =SUM(E12:P12) -> 532
A13: 04104-LA HIGUERA | B13: 105500-P.S.R. CALETA HORNOS | E13: =IFERROR(VLOOKUP($B13,[1]NUM5!$H$3:$L$162,2,FALSE),0) -> 72 | F13: =IFERROR(VLOOKUP($B13,[1]NUM5!$H$3:$L$162,3,FALSE),0) -> 26 | G13: =IFERROR(VLOOKUP($B13,[1]NUM5!$H$3:$L$162,4,FALSE),0) -> 71 | Q13: =SUM(E13:P13) -> 169
A14: 04104-LA HIGUERA | B14: 105505-P.S.R. LOS CHOROS | E14: =IFERROR(VLOOKUP($B14,[1]NUM5!$H$3:$L$162,2,FALSE),0) -> 247 | F14: =IFERROR(VLOOKUP($B14,[1]NUM5!$H$3:$L$162,3,FALSE),0) -> 11 | G14: =IFERROR(VLOOKUP($B14,[1]NUM5!$H$3:$L$162,4,FALSE),0) -> 18 | Q14: =SUM(E14:P14) -> 276
A15: 04104-LA HIGUERA | B15: 105506-P.S.R. EL TRAPICHE | E15: =IFERROR(VLOOKUP($B15,[1]NUM5!$H$3:$L$162,2,FALSE),0) -> 75 | F15: =IFERROR(VLOOKUP($B15,[1]NUM5!$H$3:$L$162,3,FALSE),0) -> 26 | G15: =IFERROR(VLOOKUP($B15,[1]NUM5!$H$3:$L$162,4,FALSE),0) -> 57 | Q15: =SUM(E15:P15) -> 158
A16: TOTAL LA HIGUERA | C16: =+D16/Metas!I37 -> 1.7436725 | D16: =+Q16/R16 -> 0.28770596 | E16: =SUM(E12:E15) -> 624 | F16: =SUM(F12:F15) -> 107 | G16: =SUM(G12:G15) -> 404 | H16: =SUM(H12:H15) -> 0 | I16: =SUM(I12:I15) -> 0 | J16: =SUM(J12:J15) -> 0 | K16: =SUM(K12:K15) -> 0 | L16: =SUM(L12:L15) -> 0 | ... Q16: =SUM(Q12:Q15) -> 1135 | R16: 3945
A17: 04105-PAIHUANO | B17: 105306-CES. PAIHUANO | E17: =IFERROR(VLOOKUP($B17,[1]NUM5!$H$3:$L$162,2,FALSE),0) -> 299 | F17: =IFERROR(VLOOKUP($B17,[1]NUM5!$H$3:$L$162,3,FALSE),0) -> 373 | G17: =IFERROR(VLOOKUP($B17,[1]NUM5!$H$3:$L$162,4,FALSE),0) -> 396 | Q17: =SUM(E17:P17) -> 1068
A18: 04105-PAIHUANO | B18: 105475-P.S.R. HORCON | E18: =IFERROR(VLOOKUP($B18,[1]NUM5!$H$3:$L$162,2,FALSE),0) -> 42 | F18: =IFERROR(VLOOKUP($B18,[1]NUM5!$H$3:$L$162,3,FALSE),0) -> 68 | G18: =IFERROR(VLOOKUP($B18,[1]NUM5!$H$3:$L$162,4,FALSE),0) -> 47 | Q18: =SUM(E18:P18) -> 157
A19: 04105-PAIHUANO | B19: 105476-P.S.R. MONTE GRANDE | E19: =IFERROR(VLOOKUP($B19,[1]NUM5!$H$3:$L$162,2,FALSE),0) -> 20 | F19: =IFERROR(VLOOKUP($B19,[1]NUM5!$H$3:$L$162,3,FALSE),0) -> 32 | G19: =IFERROR(VLOOKUP($B19,[1]NUM5!$H$3:$L$162,4,FALSE),0) -> 47 | Q19: =SUM(E19:P19) -> 99
A20: 04105-PAIHUANO | B20: 105477-P.S.R. PISCO ELQUI | E20: =IFERROR(VLOOKUP($B20,[1]NUM5!$H$3:$L$162,2,FALSE),0) -> 39 | F20: =IFERROR(VLOOKUP($B20,[1]NUM5!$H$3:$L$162,3,FALSE),0) -> 82 | G20: =IFERROR(VLOOKUP($B20,[1]NUM5!$H$3:$L$162,4,FALSE),0) -> 96 | Q20: =SUM(E20:P20) -> 217
A21: TOTAL PAIHUANO | C21: =+D21/Metas!I36 -> 1.8316455 | D21: =+Q21/R21 -> 0.32969619 | E21: =SUM(E17:E20) -> 400 | F21: =SUM(F17:F20) -> 555 | G21: =SUM(G17:G20) -> 586 | H21: =SUM(H17:H20) -> 0 | I21: =SUM(I17:I20) -> 0 | J21: =SUM(J17:J20) -> 0 | K21: =SUM(K17:K20) -> 0 | L21: =SUM(L17:L20) -> 0 | ... Q21: =SUM(Q17:Q20) -> 1541 | R21: 4674
B22: TOTAL

Sheet META 6
A1: COMUNA | B1: ESTABLECIMIENTO | C1: CUMPLIMIENTO | D1: Indicador | E1: META 6: SOLICITUDES DE INTERCONSULTAS A ESPECIALIDAD NIVEL SECUNDARIO DESDE LA APS
E2: NUMERADOR | R2: DENOMINADOR
E10: Nº de SIC a especialidad médica en el nivel secundario | R10: N° Total de Consultas y Controles Médicos en APS
D11: Resultado | E11: ENERO | F11: FEBRERO | G11: MARZO | H11: ABRIL | I11: MAYO | J11: JUNIO | K11: JULIO | L11: AGOSTO | M11: SEPBRE | N11: OCTBRE | O11: NOVBRE | P11: DICBRE | Q11: TOTAL | R11: ENERO | S11: FEBRERO | T11: MARZO | U11: ABRIL | V11: MAYO | W11: JUNIO | X11: JULIO | Y11: AGOSTO | Z11: SEPBRE | AA11: OCTBRE | AB11: NOVBRE | AC11: DICBRE | AD11: TOTAL
A12: 04104-LA HIGUERA | B12: 105314-CES. LA HIGUERA | E12: =IFERROR(VLOOKUP($B12,[1]NUM6!$H$3:$L$127,2,FALSE),0) -> 34 | F12: =IFERROR(VLOOKUP($B12,[1]NUM6!$H$3:$L$127,3,FALSE),0) -> 6 | G12: =IFERROR(VLOOKUP($B12,[1]NUM6!$H$3:$L$127,4,FALSE),0) -> 4 | Q12: =SUM(E12:P12) -> 44 | R12: =IFERROR(VLOOKUP($B12,[1]DEN6!$H$3:$L$162,2,FALSE),0) -> 230 | S12: =IFERROR(VLOOKUP($B12,[1]DEN6!$H$3:$L$162,3,FALSE),0) -> 44 | T12: =IFERROR(VLOOKUP($B12,[1]DEN6!$H$3:$L$162,4,FALSE),0) -> 258 | AD12: =SUM(R12:AC12) -> 532
A13: 04104-LA HIGUERA | B13: 105500-P.S.R. CALETA HORNOS | E13: =IFERROR(VLOOKUP($B13,[1]NUM6!$H$3:$L$127,2,FALSE),0) -> 0 | F13: =IFERROR(VLOOKUP($B13,[1]NUM6!$H$3:$L$127,3,FALSE),0) -> 0 | G13: =IFERROR(VLOOKUP($B13,[1]NUM6!$H$3:$L$127,4,FALSE),0) -> 0 | Q13: =SUM(E13:P13) -> 0 | R13: =IFERROR(VLOOKUP($B13,[1]DEN6!$H$3:$L$162,2,FALSE),0) -> 72 | S13: =IFERROR(VLOOKUP($B13,[1]DEN6!$H$3:$L$162,3,FALSE),0) -> 26 | T13: =IFERROR(VLOOKUP($B13,[1]DEN6!$H$3:$L$162,4,FALSE),0) -> 71 | AD13: =SUM(R13:AC13) -> 169
A14: 04104-LA HIGUERA | B14: 105505-P.S.R. LOS CHOROS | E14: =IFERROR(VLOOKUP($B14,[1]NUM6!$H$3:$L$127,2,FALSE),0) -> 0 | F14: =IFERROR(VLOOKUP($B14,[1]NUM6!$H$3:$L$127,3,FALSE),0) -> 0 | G14: =IFERROR(VLOOKUP($B14,[1]NUM6!$H$3:$L$127,4,FALSE),0) -> 0 | Q14: =SUM(E14:P14) -> 0 | R14: =IFERROR(VLOOKUP($B14,[1]DEN6!$H$3:$L$162,2,FALSE),0) -> 247 | S14: =IFERROR(VLOOKUP($B14,[1]DEN6!$H$3:$L$162,3,FALSE),0) -> 11 | T14: =IFERROR(VLOOKUP($B14,[1]DEN6!$H$3:$L$162,4,FALSE),0) -> 18 | AD14: =SUM(R14:AC14) -> 276
A15: 04104-LA HIGUERA | B15: 105506-P.S.R. EL TRAPICHE | E15: =IFERROR(VLOOKUP($B15,[1]NUM6!$H$3:$L$127,2,FALSE),0) -> 0 | F15: =IFERROR(VLOOKUP($B15,[1]NUM6!$H$3:$L$127,3,FALSE),0) -> 0 | G15: =IFERROR(VLOOKUP($B15,[1]NUM6!$H$3:$L$127,4,FALSE),0) -> 0 | Q15: =SUM(E15:P15) -> 0 | R15: =IFERROR(VLOOKUP($B15,[1]DEN6!$H$3:$L$162,2,FALSE),0) -> 75 | S15: =IFERROR(VLOOKUP($B15,[1]DEN6!$H$3:$L$162,3,FALSE),0) -> 26 | T15: =IFERROR(VLOOKUP($B15,[1]DEN6!$H$3:$L$162,4,FALSE),0) -> 57 | AD15: =SUM(R15:AC15) -> 158
A16: TOTAL LA HIGUERA | C16: =Metas!J37/D16 -> 2.5795455 | D16: =+Q16/AD16 -> 0.03876652 | E16: =SUM(E12:E15) -> 34 | F16: =SUM(F12:F15) -> 6 | G16: =SUM(G12:G15) -> 4 | H16: =SUM(H12:H15) -> 0 | I16: =SUM(I12:I15) -> 0 | J16: =SUM(J12:J15) -> 0 | K16: =SUM(K12:K15) -> 0 | L16: =SUM(L12:L15) -> 0 | ... AD16: =SUM(AD12:AD15) -> 1135
A17: 04105-PAIHUANO | B17: 105306-CES. PAIHUANO | E17: =IFERROR(VLOOKUP($B17,[1]NUM6!$H$3:$L$127,2,FALSE),0) -> 74 | F17: =IFERROR(VLOOKUP($B17,[1]NUM6!$H$3:$L$127,3,FALSE),0) -> 75 | G17: =IFERROR(VLOOKUP($B17,[1]NUM6!$H$3:$L$127,4,FALSE),0) -> 107 | Q17: =SUM(E17:P17) -> 256 | R17: =IFERROR(VLOOKUP($B17,[1]DEN6!$H$3:$L$162,2,FALSE),0) -> 299 | S17: =IFERROR(VLOOKUP($B17,[1]DEN6!$H$3:$L$162,3,FALSE),0) -> 373 | T17: =IFERROR(VLOOKUP($B17,[1]DEN6!$H$3:$L$162,4,FALSE),0) -> 396 | AD17: =SUM(R17:AC17) -> 1068
A18: 04105-PAIHUANO | B18: 105475-P.S.R. HORCON | E18: =IFERROR(VLOOKUP($B18,[1]NUM6!$H$3:$L$127,2,FALSE),0) -> 0 | F18: =IFERROR(VLOOKUP($B18,[1]NUM6!$H$3:$L$127,3,FALSE),0) -> 0 | G18: =IFERROR(VLOOKUP($B18,[1]NUM6!$H$3:$L$127,4,FALSE),0) -> 0 | Q18: =SUM(E18:P18) -> 0 | R18: =IFERROR(VLOOKUP($B18,[1]DEN6!$H$3:$L$162,2,FALSE),0) -> 42 | S18: =IFERROR(VLOOKUP($B18,[1]DEN6!$H$3:$L$162,3,FALSE),0) -> 68 | T18: =IFERROR(VLOOKUP($B18,[1]DEN6!$H$3:$L$162,4,FALSE),0) -> 47 | AD18: =SUM(R18:AC18) -> 157
A19: 04105-PAIHUANO | B19: 105476-P.S.R. MONTE GRANDE | E19: =IFERROR(VLOOKUP($B19,[1]NUM6!$H$3:$L$127,2,FALSE),0) -> 0 | F19: =IFERROR(VLOOKUP($B19,[1]NUM6!$H$3:$L$127,3,FALSE),0) -> 0 | G19: =IFERROR(VLOOKUP($B19,[1]NUM6!$H$3:$L$127,4,FALSE),0) -> 0 | Q19: =SUM(E19:P19) -> 0 | R19: =IFERROR(VLOOKUP($B19,[1]DEN6!$H$3:$L$162,2,FALSE),0) -> 20 | S19: =IFERROR(VLOOKUP($B19,[1]DEN6!$H$3:$L$162,3,FALSE),0) -> 32 | T19: =IFERROR(VLOOKUP($B19,[1]DEN6!$H$3:$L$162,4,FALSE),0) -> 47 | AD19: =SUM(R19:AC19) -> 99
A20: 04105-PAIHUANO | B20: 105477-P.S.R. PISCO ELQUI | E20: =IFERROR(VLOOKUP($B20,[1]NUM6!$H$3:$L$127,2,FALSE),0) -> 0 | F20: =IFERROR(VLOOKUP($B20,[1]NUM6!$H$3:$L$127,3,FALSE),0) -> 0 | G20: =IFERROR(VLOOKUP($B20,[1]NUM6!$H$3:$L$127,4,FALSE),0) -> 0 | Q20: =SUM(E20:P20) -> 0 | R20: =IFERROR(VLOOKUP($B20,[1]DEN6!$H$3:$L$162,2,FALSE),0) -> 39 | S20: =IFERROR(VLOOKUP($B20,[1]DEN6!$H$3:$L$162,3,FALSE),0) -> 82 | T20: =IFERROR(VLOOKUP($B20,[1]DEN6!$H$3:$L$162,4,FALSE),0) -> 96 | AD20: =SUM(R20:AC20) -> 217
A21: TOTAL PAIHUANO | C21: =Metas!J36/D21 -> 0.60195313 | D21: =+Q21/AD21 -> 0.16612589 | E21: =SUM(E17:E20) -> 74 | F21: =SUM(F17:F20) -> 75 | G21: =SUM(G17:G20) -> 107 | H21: =SUM(H17:H20) -> 0 | I21: =SUM(I17:I20) -> 0 | J21: =SUM(J17:J20) -> 0 | K21: =SUM(K17:K20) -> 0 | L21: =SUM(L17:L20) -> 0 | ... AD21: =SUM(AD17:AD20) -> 1541
B22: TOTAL

Sheet META 7
A1: COMUNA | B1: ESTABLECIMIENTO | C1: CUMPLIMIENTO | D1: Indicador | E1: META 7: TASA DE VISITA DOMICILIARIA INTEGRAL
E2: NUMERADOR | R2: DENOMINADOR
E10: Nº de visitas domiciliarias integrales realizadas | R10: Nº de familias (población estimada / 3,3)
D11: Resultado | E11: ENERO | F11: FEBRERO | G11: MARZO | H11: ABRIL | I11: MAYO | J11: JUNIO | K11: JULIO | L11: AGOSTO | M11: SEPBRE | N11: OCTBRE | O11: NOVBRE | P11: DICBRE | Q11: TOTAL
A12: 04104-LA HIGUERA | B12: 105314-CES. LA HIGUERA | E12: =VLOOKUP($B12,[1]NUM7!$H$3:$L$144,2,FALSE) -> 5 | F12: =VLOOKUP($B12,[1]NUM7!$H$3:$L$144,3,FALSE) -> 7 | G12: =VLOOKUP($B12,[1]NUM7!$H$3:$L$144,4,FALSE) -> 0 | Q12: =SUM(E12:P12) -> 12
A13: 04104-LA HIGUERA | B13: 105500-P.S.R. CALETA HORNOS | E13: =VLOOKUP($B13,[1]NUM7!$H$3:$L$144,2,FALSE) -> 2 | F13: =VLOOKUP($B13,[1]NUM7!$H$3:$L$144,3,FALSE) -> 0 | G13: =VLOOKUP($B13,[1]NUM7!$H$3:$L$144,4,FALSE) -> 4 | Q13: =SUM(E13:P13) -> 6
A14: 04104-LA HIGUERA | B14: 105505-P.S.R. LOS CHOROS | E14: =VLOOKUP($B14,[1]NUM7!$H$3:$L$144,2,FALSE) -> 1 | F14: =VLOOKUP($B14,[1]NUM7!$H$3:$L$144,3,FALSE) -> 2 | G14: =VLOOKUP($B14,[1]NUM7!$H$3:$L$144,4,FALSE) -> 0 | Q14: =SUM(E14:P14) -> 3
A15: 04104-LA HIGUERA | B15: 105506-P.S.R. EL TRAPICHE | E15: =VLOOKUP($B15,[1]NUM7!$H$3:$L$144,2,FALSE) -> 7 | F15: =VLOOKUP($B15,[1]NUM7!$H$3:$L$144,3,FALSE) -> 10 | G15: =VLOOKUP($B15,[1]NUM7!$H$3:$L$144,4,FALSE) -> 3 | Q15: =SUM(E15:P15) -> 20
A16: TOTAL LA HIGUERA | C16: =+D16/Metas!K37 -> 0.73784136 | D16: =+Q16/R16 -> 0.034309623 | E16: =SUM(E12:E15) -> 15 | F16: =SUM(F12:F15) -> 19 | G16: =SUM(G12:G15) -> 7 | H16: =SUM(H12:H15) -> 0 | I16: =SUM(I12:I15) -> 0 | J16: =SUM(J12:J15) -> 0 | K16: =SUM(K12:K15) -> 0 | L16: =SUM(L12:L15) -> 0 | ... Q16: =SUM(Q12:Q15) -> 41 | R16: 1195
A17: 04105-PAIHUANO | B17: 105306-CES. PAIHUANO | E17: =VLOOKUP($B17,[1]NUM7!$H$3:$L$144,2,FALSE) -> 41 | F17: =VLOOKUP($B17,[1]NUM7!$H$3:$L$144,3,FALSE) -> 39 | G17: =VLOOKUP($B17,[1]NUM7!$H$3:$L$144,4,FALSE) -> 40 | Q17: =SUM(E17:P17) -> 120
A18: 04105-PAIHUANO | B18: 105475-P.S.R. HORCON | E18: =VLOOKUP($B18,[1]NUM7!$H$3:$L$144,2,FALSE) -> 4 | F18: =VLOOKUP($B18,[1]NUM7!$H$3:$L$144,3,FALSE) -> 6 | G18: =VLOOKUP($B18,[1]NUM7!$H$3:$L$144,4,FALSE) -> 10 | Q18: =SUM(E18:P18) -> 20
A19: 04105-PAIHUANO | B19: 105476-P.S.R. MONTE GRANDE | E19: =VLOOKUP($B19,[1]NUM7!$H$3:$L$144,2,FALSE) -> 2 | F19: =VLOOKUP($B19,[1]NUM7!$H$3:$L$144,3,FALSE) -> 5 | G19: =VLOOKUP($B19,[1]NUM7!$H$3:$L$144,4,FALSE) -> 2 | Q19: =SUM(E19:P19) -> 9
A20: 04105-PAIHUANO | B20: 105477-P.S.R. PISCO ELQUI | E20: =VLOOKUP($B20,[1]NUM7!$H$3:$L$144,2,FALSE) -> 3 | F20: =VLOOKUP($B20,[1]NUM7!$H$3:$L$144,3,FALSE) -> 21 | G20: =VLOOKUP($B20,[1]NUM7!$H$3:$L$144,4,FALSE) -> 8 | Q20: =SUM(E20:P20) -> 32
A21: TOTAL PAIHUANO | C21: =+D21/Metas!K36 -> 2.2425414 | D21: =+Q21/R21 -> 0.12782486 | E21: =SUM(E17:E20) -> 50 | F21: =SUM(F17:F20) -> 71 | G21: =SUM(G17:G20) -> 60 | H21: =SUM(H17:H20) -> 0 | I21: =SUM(I17:I20) -> 0 | J21: =SUM(J17:J20) -> 0 | K21: =SUM(K17:K20) -> 0 | L21: =SUM(L17:L20) -> 0 | ... Q21: =SUM(Q17:Q20) -> 181 | R21: 1416
B22: TOTAL

Sheet META 8.1
A1: COMUNA | B1: ESTABLECIMIENTO | C1: CUMPLIMIENTO | D1: Indicador | E1: META 8.1: COBERTURA EXAMEN DE MEDICINA PREVENTIVA (EMP), EN HOMBRES DE 20 A 64 AÑOS
E2: NUMERADOR | R2: DENOMINADOR
E10: Nº Examen de Medicina Preventiva (EMP) realizado en población masculina de 20 a 64 años | R10: Población masculina de 20 a 64 años estimada, menos población bajo control en Programa Salud Cardiovascular | S10: Población masculina de 20 a 64 años bajo control en programa de salud cardiovascular | Y10: Población masculina de 20 a 64 años estimada | Z10: Ingresos de población masculina al PSCV de 20 y 64 años | AM10: Egresos de población masculina al PSCV de 20 y 64 años
D11: Resultado | E11: ENERO | F11: FEBRERO | G11: MARZO | H11: ABRIL | I11: MAYO | J11: JUNIO | K11: JULIO | L11: AGOSTO | M11: SEPBRE | N11: OCTBRE | O11: NOVBRE | P11: DICBRE | Q11: TOTAL | S11: A DIC 2016 | T11: A ABRIL | U11: A JUNIO | V11: A JULIO | W11: A OCTBRE | X11: A DICBRE | Y11: AÑO 2016 | Z11: ENERO | AA11: FEBRERO | AB11: MARZO | AC11: ABRIL | AD11: MAYO | AE11: JUNIO | AF11: JULIO | AG11: AGOSTO | AH11: SEPBRE | AI11: OCTBRE | AJ11: NOVBRE | AK11: DICBRE | AL11: TOTAL | AM11: ENERO | AN11: FEBRERO | AO11: MARZO | AP11: ABRIL | AQ11: MAYO | AR11: JUNIO | AS11: JULIO | AT11: AGOSTO | AU11: SEPBRE | AV11: OCTBRE | AW11: NOVBRE | AX11: DICBRE | AY11: TOTAL
A12: 04104-LA HIGUERA | B12: 105314-CES. LA HIGUERA | E12: =IFERROR(VLOOKUP($B12,[1]NUM8.1!$H$3:$L$154,2,FALSE),0) -> 0 | F12: =IFERROR(VLOOKUP($B12,[1]NUM8.1!$H$3:$L$154,3,FALSE),0) -> 0 | G12: =IFERROR(VLOOKUP($B12,[1]NUM8.1!$H$3:$L$154,4,FALSE),0) -> 0 | Q12: =SUM(E12:P12) -> 0 | S12: =IFERROR(VLOOKUP($B12,[1]DEN8.1!$H$3:$J$159,2,FALSE),0) -> 37 | T12: =+S12+(Z12+AA12+AB12+AC12)-(AM12+AN12+AO12+AP12) -> 37 | V12: =+U12+(AF12)-(AS12) -> 0 | W12: =+U12+(AF12+AG12+AH12+AI12)-(AS12+AT12+AU12+AV12) -> 0 | Z12: =IFERROR(VLOOKUP($B12,'[1]ACT DEN8.1'!$H$3:$L$112,2,FALSE),0) -> 0 | AA12: =IFERROR(VLOOKUP($B12,'[1]ACT DEN8.1'!$H$3:$L$112,3,FALSE),0) -> 0 | AB12: =IFERROR(VLOOKUP($B12,'[1]ACT DEN8.1'!$H$3:$L$112,4,FALSE),0) -> 0 | AL12: =SUM(Z12:AK12) -> 0 | AM12: =IFERROR(VLOOKUP($B12,'[1]ACT DEN8.1'!$AA$3:$AE$83,2,FALSE),0) -> 0 | AN12: =IFERROR(VLOOKUP($B12,'[1]ACT DEN8.1'!$AA$3:$AE$83,3,FALSE),0) -> 0 | AO12: =IFERROR(VLOOKUP($B12,'[1]ACT DEN8.1'!$AA$3:$AE$83,4,FALSE),0) -> 0 | AY12: =SUM(AM12:AX12) -> 0
A13: 04104-LA HIGUERA | B13: 105500-P.S.R. CALETA HORNOS | E13: =IFERROR(VLOOKUP($B13,[1]NUM8.1!$H$3:$L$154,2,FALSE),0) -> 0 | F13: =IFERROR(VLOOKUP($B13,[1]NUM8.1!$H$3:$L$154,3,FALSE),0) -> 0 | G13: =IFERROR(VLOOKUP($B13,[1]NUM8.1!$H$3:$L$154,4,FALSE),0) -> 0 | Q13: =SUM(E13:P13) -> 0 | S13: =IFERROR(VLOOKUP($B13,[1]DEN8.1!$H$3:$J$159,2,FALSE),0) -> 30 | T13: =+S13+(Z13+AA13+AB13+AC13)-(AM13+AN13+AO13+AP13) -> 30 | V13: =+U13+(AF13)-(AS13) -> 0 | W13: =+U13+(AF13+AG13+AH13+AI13)-(AS13+AT13+AU13+AV13) -> 0 | Z13: =IFERROR(VLOOKUP($B13,'[1]ACT DEN8.1'!$H$3:$L$112,2,FALSE),0) -> 0 | AA13: =IFERROR(VLOOKUP($B13,'[1]ACT DEN8.1'!$H$3:$L$112,3,FALSE),0) -> 0 | AB13: =IFERROR(VLOOKUP($B13,'[1]ACT DEN8.1'!$H$3:$L$112,4,FALSE),0) -> 0 | AL13: =SUM(Z13:AK13) -> 0 | AM13: =IFERROR(VLOOKUP($B13,'[1]ACT DEN8.1'!$AA$3:$AE$83,2,FALSE),0) -> 0 | AN13: =IFERROR(VLOOKUP($B13,'[1]ACT DEN8.1'!$AA$3:$AE$83,3,FALSE),0) -> 0 | AO13: =IFERROR(VLOOKUP($B13,'[1]ACT DEN8.1'!$AA$3:$AE$83,4,FALSE),0) -> 0 | AY13: =SUM(AM13:AX13) -> 0
A14: 04104-LA HIGUERA | B14: 105505-P.S.R. LOS CHOROS | E14: =IFERROR(VLOOKUP($B14,[1]NUM8.1!$H$3:$L$154,2,FALSE),0) -> 0 | F14: =IFERROR(VLOOKUP($B14,[1]NUM8.1!$H$3:$L$154,3,FALSE),0) -> 0 | G14: =IFERROR(VLOOKUP($B14,[1]NUM8.1!$H$3:$L$154,4,FALSE),0) -> 0 | Q14: =SUM(E14:P14) -> 0 | S14: =IFERROR(VLOOKUP($B14,[1]DEN8.1!$H$3:$J$159,2,FALSE),0) -> 20 | T14: =+S14+(Z14+AA14+AB14+AC14)-(AM14+AN14+AO14+AP14) -> 20 | V14: =+U14+(AF14)-(AS14) -> 0 | W14: =+U14+(AF14+AG14+AH14+AI14)-(AS14+AT14+AU14+AV14) -> 0 | Z14: =IFERROR(VLOOKUP($B14,'[1]ACT DEN8.1'!$H$3:$L$112,2,FALSE),0) -> 0 | AA14: =IFERROR(VLOOKUP($B14,'[1]ACT DEN8.1'!$H$3:$L$112,3,FALSE),0) -> 0 | AB14: =IFERROR(VLOOKUP($B14,'[1]ACT DEN8.1'!$H$3:$L$112,4,FALSE),0) -> 0 | AL14: =SUM(Z14:AK14) -> 0 | AM14: =IFERROR(VLOOKUP($B14,'[1]ACT DEN8.1'!$AA$3:$AE$83,2,FALSE),0) -> 0 | AN14: =IFERROR(VLOOKUP($B14,'[1]ACT DEN8.1'!$AA$3:$AE$83,3,FALSE),0) -> 0 | AO14: =IFERROR(VLOOKUP($B14,'[1]ACT DEN8.1'!$AA$3:$AE$83,4,FALSE),0) -> 0 | AY14: =SUM(AM14:AX14) -> 0
A15: 04104-LA HIGUERA | B15: 105506-P.S.R. EL TRAPICHE | E15: =IFERROR(VLOOKUP($B15,[1]NUM8.1!$H$3:$L$154,2,FALSE),0) -> 0 | F15: =IFERROR(VLOOKUP($B15,[1]NUM8.1!$H$3:$L$154,3,FALSE),0) -> 0 | G15: =IFERROR(VLOOKUP($B15,[1]NUM8.1!$H$3:$L$154,4,FALSE),0) -> 0 | Q15: =SUM(E15:P15) -> 0 | S15: =IFERROR(VLOOKUP($B15,[1]DEN8.1!$H$3:$J$159,2,FALSE),0) -> 16 | T15: =+S15+(Z15+AA15+AB15+AC15)-(AM15+AN15+AO15+AP15) -> 16 | V15: =+U15+(AF15)-(AS15) -> 0 | W15: =+U15+(AF15+AG15+AH15+AI15)-(AS15+AT15+AU15+AV15) -> 0 | Z15: =IFERROR(VLOOKUP($B15,'[1]ACT DEN8.1'!$H$3:$L$112,2,FALSE),0) -> 0 | AA15: =IFERROR(VLOOKUP($B15,'[1]ACT DEN8.1'!$H$3:$L$112,3,FALSE),0) -> 0 | AB15: =IFERROR(VLOOKUP($B15,'[1]ACT DEN8.1'!$H$3:$L$112,4,FALSE),0) -> 0 | AL15: =SUM(Z15:AK15) -> 0 | AM15: =IFERROR(VLOOKUP($B15,'[1]ACT DEN8.1'!$AA$3:$AE$83,2,FALSE),0) -> 0 | AN15: =IFERROR(VLOOKUP($B15,'[1]ACT DEN8.1'!$AA$3:$AE$83,3,FALSE),0) -> 0 | AO15: =IFERROR(VLOOKUP($B15,'[1]ACT DEN8.1'!$AA$3:$AE$83,4,FALSE),0) -> 0 | AY15: =SUM(AM15:AX15) -> 0
A16: TOTAL LA HIGUERA | C16: =+D16/Metas!L37 -> 0 | D16: =+Q16/R16 -> 0 | E16: =SUM(E12:E15) -> 0 | F16: =SUM(F12:F15) -> 0 | G16: =SUM(G12:G15) -> 0 | H16: =SUM(H12:H15) -> 0 | I16: =SUM(I12:I15) -> 0 | J16: =SUM(J12:J15) -> 0 | K16: =SUM(K12:K15) -> 0 | L16: =SUM(L12:L15) -> 0 | ... Q16: =SUM(Q12:Q15) -> 0 | R16: =+Y16-T16 -> 1206 | S16: =SUM(S12:S15) -> 103 | T16: =SUM(T12:T15) -> 103 | U16: =SUM(U12:U15) -> 0 | V16: =SUM(V12:V15) -> 0 | W16: =SUM(W12:W15) -> 0 | X16: =SUM(X12:X15) -> 0 | Y16: 1309 | Z16: =SUM(Z12:Z15) -> 0 | AA16: =SUM(AA12:AA15) -> 0 | AB16: =SUM(AB12:AB15) -> 0 | AC16: =SUM(AC12:AC15) -> 0 | AD16: =SUM(AD12:AD15) -> 0 | AE16: =SUM(AE12:AE15) -> 0 | AF16: =SUM(AF12:AF15) -> 0 | AG16: =SUM(AG12:AG15) -> 0 | ... AK16: =SUM(AK12:AK15) -> 0 | AL16: =SUM(Z16:AK16) -> 0 | AM16: =SUM(AM12:AM15) -> 0 | AN16: =SUM(AN12:AN15) -> 0 | AO16: =SUM(AO12:AO15) -> 0 | AP16: =SUM(AP12:AP15) -> 0 | AQ16: =SUM(AQ12:AQ15) -> 0 | AR16: =SUM(AR12:AR15) -> 0 | AS16: =SUM(AS12:AS15) -> 0 | AT16: =SUM(AT12:AT15) -> 0 | ... AX16: =SUM(AX12:AX15) -> 0 | AY16: =SUM(AM16:AX16) -> 0
A17: 04105-PAIHUANO | B17: 105306-CES. PAIHUANO | E17: =IFERROR(VLOOKUP($B17,[1]NUM8.1!$H$3:$L$154,2,FALSE),0) -> 0 | F17: =IFERROR(VLOOKUP($B17,[1]NUM8.1!$H$3:$L$154,3,FALSE),0) -> 0 | G17: =IFERROR(VLOOKUP($B17,[1]NUM8.1!$H$3:$L$154,4,FALSE),0) -> 0 | Q17: =SUM(E17:P17) -> 0 | S17: =IFERROR(VLOOKUP($B17,[1]DEN8.1!$H$3:$J$159,2,FALSE),0) -> 63 | T17: =+S17+(Z17+AA17+AB17+AC17)-(AM17+AN17+AO17+AP17) -> 63 | V17: =+U17+(AF17)-(AS17) -> 0 | W17: =+U17+(AF17+AG17+AH17+AI17)-(AS17+AT17+AU17+AV17) -> 0 | Z17: =IFERROR(VLOOKUP($B17,'[1]ACT DEN8.1'!$H$3:$L$112,2,FALSE),0) -> 0 | AA17: =IFERROR(VLOOKUP($B17,'[1]ACT DEN8.1'!$H$3:$L$112,3,FALSE),0) -> 0 | AB17: =IFERROR(VLOOKUP($B17,'[1]ACT DEN8.1'!$H$3:$L$112,4,FALSE),0) -> 0 | AL17: =SUM(Z17:AK17) -> 0 | AM17: =IFERROR(VLOOKUP($B17,'[1]ACT DEN8.1'!$AA$3:$AE$83,2,FALSE),0) -> 0 | AN17: =IFERROR(VLOOKUP($B17,'[1]ACT DEN8.1'!$AA$3:$AE$83,3,FALSE),0) -> 0 | AO17: =IFERROR(VLOOKUP($B17,'[1]ACT DEN8.1'!$AA$3:$AE$83,4,FALSE),0) -> 0 | AY17: =SUM(AM17:AX17) -> 0
A18: 04105-PAIHUANO | B18: 105475-P.S.R. HORCON | E18: =IFERROR(VLOOKUP($B18,[1]NUM8.1!$H$3:$L$154,2,FALSE),0) -> 0 | F18: =IFERROR(VLOOKUP($B18,[1]NUM8.1!$H$3:$L$154,3,FALSE),0) -> 0 | G18: =IFERROR(VLOOKUP($B18,[1]NUM8.1!$H$3:$L$154,4,FALSE),0) -> 0 | Q18: =SUM(E18:P18) -> 0 | S18: =IFERROR(VLOOKUP($B18,[1]DEN8.1!$H$3:$J$159,2,FALSE),0) -> 23 | T18: =+S18+(Z18+AA18+AB18+AC18)-(AM18+AN18+AO18+AP18) -> 23 | V18: =+U18+(AF18)-(AS18) -> 0 | W18: =+U18+(AF18+AG18+AH18+AI18)-(AS18+AT18+AU18+AV18) -> 0 | Z18: =IFERROR(VLOOKUP($B18,'[1]ACT DEN8.1'!$H$3:$L$112,2,FALSE),0) -> 0 | AA18: =IFERROR(VLOOKUP($B18,'[1]ACT DEN8.1'!$H$3:$L$112,3,FALSE),0) -> 0 | AB18: =IFERROR(VLOOKUP($B18,'[1]ACT DEN8.1'!$H$3:$L$112,4,FALSE),0) -> 0 | AL18: =SUM(Z18:AK18) -> 0 | AM18: =IFERROR(VLOOKUP($B18,'[1]ACT DEN8.1'!$AA$3:$AE$83,2,FALSE),0) -> 0 | AN18: =IFERROR(VLOOKUP($B18,'[1]ACT DEN8.1'!$AA$3:$AE$83,3,FALSE),0) -> 0 | AO18: =IFERROR(VLOOKUP($B18,'[1]ACT DEN8.1'!$AA$3:$AE$83,4,FALSE),0) -> 0 | AY18: =SUM(AM18:AX18) -> 0
A19: 04105-PAIHUANO | B19: 105476-P.S.R. MONTE GRANDE | E19: =IFERROR(VLOOKUP($B19,[1]NUM8.1!$H$3:$L$154,2,FALSE),0) -> 0 | F19: =IFERROR(VLOOKUP($B19,[1]NUM8.1!$H$3:$L$154,3,FALSE),0) -> 0 | G19: =IFERROR(VLOOKUP($B19,[1]NUM8.1!$H$3:$L$154,4,FALSE),0) -> 0 | Q19: =SUM(E19:P19) -> 0 | S19: =IFERROR(VLOOKUP($B19,[1]DEN8.1!$H$3:$J$159,2,FALSE),0) -> 20 | T19: =+S19+(Z19+AA19+AB19+AC19)-(AM19+AN19+AO19+AP19) -> 20 | V19: =+U19+(AF19)-(AS19) -> 0 | W19: =+U19+(AF19+AG19+AH19+AI19)-(AS19+AT19+AU19+AV19) -> 0 | Z19: =IFERROR(VLOOKUP($B19,'[1]ACT DEN8.1'!$H$3:$L$112,2,FALSE),0) -> 0 | AA19: =IFERROR(VLOOKUP($B19,'[1]ACT DEN8.1'!$H$3:$L$112,3,FALSE),0) -> 0 | AB19: =IFERROR(VLOOKUP($B19,'[1]ACT DEN8.1'!$H$3:$L$112,4,FALSE),0) -> 0 | AL19: =SUM(Z19:AK19) -> 0 | AM19: =IFERROR(VLOOKUP($B19,'[1]ACT DEN8.1'!$AA$3:$AE$83,2,FALSE),0) -> 0 | AN19: =IFERROR(VLOOKUP($B19,'[1]ACT DEN8.1'!$AA$3:$AE$83,3,FALSE),0) -> 0 | AO19: =IFERROR(VLOOKUP($B19,'[1]ACT DEN8.1'!$AA$3:$AE$83,4,FALSE),0) -> 0 | AY19: =SUM(AM19:AX19) -> 0
A20: 04105-PAIHUANO | B20: 105477-P.S.R. PISCO ELQUI | E20: =IFERROR(VLOOKUP($B20,[1]NUM8.1!$H$3:$L$154,2,FALSE),0) -> 0 | F20: =IFERROR(VLOOKUP($B20,[1]NUM8.1!$H$3:$L$154,3,FALSE),0) -> 0 | G20: =IFERROR(VLOOKUP($B20,[1]NUM8.1!$H$3:$L$154,4,FALSE),0) -> 0 | Q20: =SUM(E20:P20) -> 0 | S20: =IFERROR(VLOOKUP($B20,[1]DEN8.1!$H$3:$J$159,2,FALSE),0) -> 47 | T20: =+S20+(Z20+AA20+AB20+AC20)-(AM20+AN20+AO20+AP20) -> 47 | V20: =+U20+(AF20)-(AS20) -> 0 | W20: =+U20+(AF20+AG20+AH20+AI20)-(AS20+AT20+AU20+AV20) -> 0 | Z20: =IFERROR(VLOOKUP($B20,'[1]ACT DEN8.1'!$H$3:$L$112,2,FALSE),0) -> 0 | AA20: =IFERROR(VLOOKUP($B20,'[1]ACT DEN8.1'!$H$3:$L$112,3,FALSE),0) -> 0 | AB20: =IFERROR(VLOOKUP($B20,'[1]ACT DEN8.1'!$H$3:$L$112,4,FALSE),0) -> 0 | AL20: =SUM(Z20:AK20) -> 0 | AM20: =IFERROR(VLOOKUP($B20,'[1]ACT DEN8.1'!$AA$3:$AE$83,2,FALSE),0) -> 0 | AN20: =IFERROR(VLOOKUP($B20,'[1]ACT DEN8.1'!$AA$3:$AE$83,3,FALSE),0) -> 0 | AO20: =IFERROR(VLOOKUP($B20,'[1]ACT DEN8.1'!$AA$3:$AE$83,4,FALSE),0) -> 0 | AY20: =SUM(AM20:AX20) -> 0
A21: TOTAL PAIHUANO | C21: =+D21/Metas!L36 -> 0 | D21: =+Q21/R21 -> 0 | E21: =SUM(E17:E20) -> 0 | F21: =SUM(F17:F20) -> 0 | G21: =SUM(G17:G20) -> 0 | H21: =SUM(H17:H20) -> 0 | I21: =SUM(I17:I20) -> 0 | J21: =SUM(J17:J20) -> 0 | K21: =SUM(K17:K20) -> 0 | L21: =SUM(L17:L20) -> 0 | ... Q21: =SUM(Q17:Q20) -> 0 | R21: =+Y21-T21 -> 1288 | S21: =SUM(S17:S20) -> 153 | T21: =SUM(T17:T20) -> 153 | U21: =SUM(U17:U20) -> 0 | V21: =SUM(V17:V20) -> 0 | W21: =SUM(W17:W20) -> 0 | X21: =SUM(X17:X20) -> 0 | Y21: 1441 | Z21: =SUM(Z17:Z20) -> 0 | AA21: =SUM(AA17:AA20) -> 0 | AB21: =SUM(AB17:AB20) -> 0 | AC21: =SUM(AC17:AC20) -> 0 | AD21: =SUM(AD17:AD20) -> 0 | AE21: =SUM(AE17:AE20) -> 0 | AF21: =SUM(AF17:AF20) -> 0 | AG21: =SUM(AG17:AG20) -> 0 | ... AY21: =SUM(AY17:AY20) -> 0
B22: TOTAL | E22: =+E16+E21 -> 0 | F22: =+F16+F21 -> 0 | G22: =+G16+G21 -> 0 | H22: =+H16+H21 -> 0 | I22: =+I16+I21 -> 0 | J22: =+J16+J21 -> 0 | K22: =+K16+K21 -> 0 | L22: =+L16+L21 -> 0 | ... AY22: =+AY16+AY21 -> 0

Sheet META 8.2
A1: COMUNA | B1: ESTABLECIMIENTO | C1: CUMPLIMIENTO | D1: Indicador | E1: META 8.2: COBERTURA EXAMEN DE MEDICINA PREVENTIVA (EMP), EN MUJERES DE 45 A 64 AÑOS
E2: NUMERADOR | R2: DENOMINADOR
E10: Nº Examen de Medicina Preventiva (EMP) realizado en población femenina de 45 a 64 años | R10: Población femenina de 45 a 64 años estimada, menos población bajo control en Programa Salud Cardiovascular | S10: Población femenina de 45 a 64 años bajo control en Programa Salud Cardiovascular | Y10: Población femenina de 45 a 64 años estimada | Z10: Ingresos de población femenina al PSCV de 45 y 65 años | AM10: Egresos de población Femenina al PSCV de 45 a 65 años
D11: Resultado | E11: ENERO | F11: FEBRERO | G11: MARZO | H11: ABRIL | I11: MAYO | J11: JUNIO | K11: JULIO | L11: AGOSTO | M11: SEPBRE | N11: OCTBRE | O11: NOVBRE | P11: DICBRE | Q11: TOTAL | S11: A DIC 2016 | T11: A ABRIL | U11: A JUNIO | V11: A JULIO | W11: A OCTBRE | X11: A DICBRE | Y11: AÑO 2016 | Z11: ENERO | AA11: FEBRERO | AB11: MARZO | AC11: ABRIL | AD11: MAYO | AE11: JUNIO | AF11: JULIO | AG11: AGOSTO | AH11: SEPBRE | AI11: OCTBRE | AJ11: NOVBRE | AK11: DICBRE | AL11: TOTAL | AM11: ENERO | AN11: FEBRERO | AO11: MARZO | AP11: ABRIL | AQ11: MAYO | AR11: JUNIO | AS11: JULIO | AT11: AGOSTO | AU11: SEPBRE | AV11: OCTBRE | AW11: NOVBRE | AX11: DICBRE | AY11: TOTAL
A12: 04104-LA HIGUERA | B12: 105314-CES. LA HIGUERA | E12: =IFERROR(VLOOKUP($B12,[1]NUM8.2!$H$3:$L$154,2,FALSE),0) -> 0 | F12: =IFERROR(VLOOKUP($B12,[1]NUM8.2!$H$3:$L$154,3,FALSE),0) -> 0 | G12: =IFERROR(VLOOKUP($B12,[1]NUM8.2!$H$3:$L$154,4,FALSE),0) -> 0 | Q12: =SUM(E12:P12) -> 0 | S12: =IFERROR(VLOOKUP($B12,[1]DEN8.2!$H$3:$J$159,2,FALSE),0) -> 48 | T12: =+S12+(Z12+AA12+AB12+AC12)-(AM12+AN12+AO12+AP12) -> 48 | V12: =+U12+(AF12)-(AS12) -> 0 | W12: =+U12+(AF12+AG12+AH12+AI12)-(AS12+AT12+AU12+AV12) -> 0 | Z12: =IFERROR(VLOOKUP($B12,'[1]ACT DEN8.2'!$H$3:$L$112,2,FALSE),0) -> 0 | AA12: =IFERROR(VLOOKUP($B12,'[1]ACT DEN8.2'!$H$3:$L$112,3,FALSE),0) -> 0 | AB12: =IFERROR(VLOOKUP($B12,'[1]ACT DEN8.2'!$H$3:$L$112,4,FALSE),0) -> 0 | AL12: =SUM(Z12:AK12) -> 0 | AM12: =IFERROR(VLOOKUP($B12,'[1]ACT DEN8.2'!$AA$3:$AE$83,2,FALSE),0) -> 0 | AN12: =IFERROR(VLOOKUP($B12,'[1]ACT DEN8.2'!$AA$3:$AE$83,3,FALSE),0) -> 0 | AO12: =IFERROR(VLOOKUP($B12,'[1]ACT DEN8.2'!$AA$3:$AE$83,4,FALSE),0) -> 0 | AY12: =SUM(AM12:AX12) -> 0
A13: 04104-LA HIGUERA | B13: 105500-P.S.R. CALETA HORNOS | E13: =IFERROR(VLOOKUP($B13,[1]NUM8.2!$H$3:$L$154,2,FALSE),0) -> 0 | F13: =IFERROR(VLOOKUP($B13,[1]NUM8.2!$H$3:$L$154,3,FALSE),0) -> 0 | G13: =IFERROR(VLOOKUP($B13,[1]NUM8.2!$H$3:$L$154,4,FALSE),0) -> 0 | Q13: =SUM(E13:P13) -> 0 | S13: =IFERROR(VLOOKUP($B13,[1]DEN8.2!$H$3:$J$159,2,FALSE),0) -> 39 | T13: =+S13+(Z13+AA13+AB13+AC13)-(AM13+AN13+AO13+AP13) -> 39 | V13: =+U13+(AF13)-(AS13) -> 0 | W13: =+U13+(AF13+AG13+AH13+AI13)-(AS13+AT13+AU13+AV13) -> 0 | Z13: =IFERROR(VLOOKUP($B13,'[1]ACT DEN8.2'!$H$3:$L$112,2,FALSE),0) -> 0 | AA13: =IFERROR(VLOOKUP($B13,'[1]ACT DEN8.2'!$H$3:$L$112,3,FALSE),0) -> 0 | AB13: =IFERROR(VLOOKUP($B13,'[1]ACT DEN8.2'!$H$3:$L$112,4,FALSE),0) -> 0 | AL13: =SUM(Z13:AK13) -> 0 | AM13: =IFERROR(VLOOKUP($B13,'[1]ACT DEN8.2'!$AA$3:$AE$83,2,FALSE),0) -> 0 | AN13: =IFERROR(VLOOKUP($B13,'[1]ACT DEN8.2'!$AA$3:$AE$83,3,FALSE),0) -> 0 | AO13: =IFERROR(VLOOKUP($B13,'[1]ACT DEN8.2'!$AA$3:$AE$83,4,FALSE),0) -> 0 | AY13: =SUM(AM13:AX13) -> 0
A14: 04104-LA HIGUERA | B14: 105505-P.S.R. LOS CHOROS | E14: =IFERROR(VLOOKUP($B14,[1]NUM8.2!$H$3:$L$154,2,FALSE),0) -> 0 | F14: =IFERROR(VLOOKUP($B14,[1]NUM8.2!$H$3:$L$154,3,FALSE),0) -> 0 | G14: =IFERROR(VLOOKUP($B14,[1]NUM8.2!$H$3:$L$154,4,FALSE),0) -> 0 | Q14: =SUM(E14:P14) -> 0 | S14: =IFERROR(VLOOKUP($B14,[1]DEN8.2!$H$3:$J$159,2,FALSE),0) -> 23 | T14: =+S14+(Z14+AA14+AB14+AC14)-(AM14+AN14+AO14+AP14) -> 23 | V14: =+U14+(AF14)-(AS14) -> 0 | W14: =+U14+(AF14+AG14+AH14+AI14)-(AS14+AT14+AU14+AV14) -> 0 | Z14: =IFERROR(VLOOKUP($B14,'[1]ACT DEN8.2'!$H$3:$L$112,2,FALSE),0) -> 0 | AA14: =IFERROR(VLOOKUP($B14,'[1]ACT DEN8.2'!$H$3:$L$112,3,FALSE),0) -> 0 | AB14: =IFERROR(VLOOKUP($B14,'[1]ACT DEN8.2'!$H$3:$L$112,4,FALSE),0) -> 0 | AL14: =SUM(Z14:AK14) -> 0 | AM14: =IFERROR(VLOOKUP($B14,'[1]ACT DEN8.2'!$AA$3:$AE$83,2,FALSE),0) -> 0 | AN14: =IFERROR(VLOOKUP($B14,'[1]ACT DEN8.2'!$AA$3:$AE$83,3,FALSE),0) -> 0 | AO14: =IFERROR(VLOOKUP($B14,'[1]ACT DEN8.2'!$AA$3:$AE$83,4,FALSE),0) -> 0 | AY14: =SUM(AM14:AX14) -> 0
A15: 04104-LA HIGUERA | B15: 105506-P.S.R. EL TRAPICHE | E15: =IFERROR(VLOOKUP($B15,[1]NUM8.2!$H$3:$L$154,2,FALSE),0) -> 0 | F15: =IFERROR(VLOOKUP($B15,[1]NUM8.2!$H$3:$L$154,3,FALSE),0) -> 0 | G15: =IFERROR(VLOOKUP($B15,[1]NUM8.2!$H$3:$L$154,4,FALSE),0) -> 0 | Q15: =SUM(E15:P15) -> 0 | S15: =IFERROR(VLOOKUP($B15,[1]DEN8.2!$H$3:$J$159,2,FALSE),0) -> 33 | T15: =+S15+(Z15+AA15+AB15+AC15)-(AM15+AN15+AO15+AP15) -> 33 | V15: =+U15+(AF15)-(AS15) -> 0 | W15: =+U15+(AF15+AG15+AH15+AI15)-(AS15+AT15+AU15+AV15) -> 0 | Z15: =IFERROR(VLOOKUP($B15,'[1]ACT DEN8.2'!$H$3:$L$112,2,FALSE),0) -> 0 | AA15: =IFERROR(VLOOKUP($B15,'[1]ACT DEN8.2'!$H$3:$L$112,3,FALSE),0) -> 0 | AB15: =IFERROR(VLOOKUP($B15,'[1]ACT DEN8.2'!$H$3:$L$112,4,FALSE),0) -> 0 | AL15: =SUM(Z15:AK15) -> 0 | AM15: =IFERROR(VLOOKUP($B15,'[1]ACT DEN8.2'!$AA$3:$AE$83,2,FALSE),0) -> 0 | AN15: =IFERROR(VLOOKUP($B15,'[1]ACT DEN8.2'!$AA$3:$AE$83,3,FALSE),0) -> 0 | AO15: =IFERROR(VLOOKUP($B15,'[1]ACT DEN8.2'!$AA$3:$AE$83,4,FALSE),0) -> 0 | AY15: =SUM(AM15:AX15) -> 0
A16: TOTAL LA HIGUERA | C16: =+D16/Metas!M37 -> 0 | D16: =+Q16/R16 -> 0 | E16: =SUM(E12:E15) -> 0 | F16: =SUM(F12:F15) -> 0 | G16: =SUM(G12:G15) -> 0 | H16: =SUM(H12:H15) -> 0 | I16: =SUM(I12:I15) -> 0 | J16: =SUM(J12:J15) -> 0 | K16: =SUM(K12:K15) -> 0 | L16: =SUM(L12:L15) -> 0 | ... Q16: =SUM(Q12:Q15) -> 0 | R16: =+Y16-T16 -> 334 | S16: =SUM(S12:S15) -> 143 | T16: =SUM(T12:T15) -> 143 | U16: =SUM(U12:U15) -> 0 | V16: =SUM(V12:V15) -> 0 | W16: =SUM(W12:W15) -> 0 | X16: =SUM(X12:X15) -> 0 | Y16: 477 | Z16: =SUM(Z12:Z15) -> 0 | AA16: =SUM(AA12:AA15) -> 0 | AB16: =SUM(AB12:AB15) -> 0 | AC16: =SUM(AC12:AC15) -> 0 | AD16: =SUM(AD12:AD15) -> 0 | AE16: =SUM(AE12:AE15) -> 0 | AF16: =SUM(AF12:AF15) -> 0 | AG16: =SUM(AG12:AG15) -> 0 | ... AK16: =SUM(AK12:AK15) -> 0 | AL16: =SUM(Z16:AK16) -> 0 | AM16: =SUM(AM12:AM15) -> 0 | AN16: =SUM(AN12:AN15) -> 0 | AO16: =SUM(AO12:AO15) -> 0 | AP16: =SUM(AP12:AP15) -> 0 | AQ16: =SUM(AQ12:AQ15) -> 0 | AR16: =SUM(AR12:AR15) -> 0 | AS16: =SUM(AS12:AS15) -> 0 | AT16: =SUM(AT12:AT15) -> 0 | ... AX16: =SUM(AX12:AX15) -> 0 | AY16: =SUM(AM16:AX16) -> 0
A17: 04105-PAIHUANO | B17: 105306-CES. PAIHUANO | E17: =IFERROR(VLOOKUP($B17,[1]NUM8.2!$H$3:$L$154,2,FALSE),0) -> 0 | F17: =IFERROR(VLOOKUP($B17,[1]NUM8.2!$H$3:$L$154,3,FALSE),0) -> 0 | G17: =IFERROR(VLOOKUP($B17,[1]NUM8.2!$H$3:$L$154,4,FALSE),0) -> 0 | Q17: =SUM(E17:P17) -> 0 | S17: =IFERROR(VLOOKUP($B17,[1]DEN8.2!$H$3:$J$159,2,FALSE),0) -> 124 | T17: =+S17+(Z17+AA17+AB17+AC17)-(AM17+AN17+AO17+AP17) -> 124 | V17: =+U17+(AF17)-(AS17) -> 0 | W17: =+U17+(AF17+AG17+AH17+AI17)-(AS17+AT17+AU17+AV17) -> 0 | Z17: =IFERROR(VLOOKUP($B17,'[1]ACT DEN8.2'!$H$3:$L$112,2,FALSE),0) -> 0 | AA17: =IFERROR(VLOOKUP($B17,'[1]ACT DEN8.2'!$H$3:$L$112,3,FALSE),0) -> 0 | AB17: =IFERROR(VLOOKUP($B17,'[1]ACT DEN8.2'!$H$3:$L$112,4,FALSE),0) -> 0 | AL17: =SUM(Z17:AK17) -> 0 | AM17: =IFERROR(VLOOKUP($B17,'[1]ACT DEN8.2'!$AA$3:$AE$83,2,FALSE),0) -> 0 | AN17: =IFERROR(VLOOKUP($B17,'[1]ACT DEN8.2'!$AA$3:$AE$83,3,FALSE),0) -> 0 | AO17: =IFERROR(VLOOKUP($B17,'[1]ACT DEN8.2'!$AA$3:$AE$83,4,FALSE),0) -> 0 | AY17: =SUM(AM17:AX17) -> 0
A18: 04105-PAIHUANO | B18: 105475-P.S.R. HORCON | E18: =IFERROR(VLOOKUP($B18,[1]NUM8.2!$H$3:$L$154,2,FALSE),0) -> 0 | F18: =IFERROR(VLOOKUP($B18,[1]NUM8.2!$H$3:$L$154,3,FALSE),0) -> 0 | G18: =IFERROR(VLOOKUP($B18,[1]NUM8.2!$H$3:$L$154,4,FALSE),0) -> 1 | Q18: =SUM(E18:P18) -> 1 | S18: =IFERROR(VLOOKUP($B18,[1]DEN8.2!$H$3:$J$159,2,FALSE),0) -> 34 | T18: =+S18+(Z18+AA18+AB18+AC18)-(AM18+AN18+AO18+AP18) -> 34 | V18: =+U18+(AF18)-(AS18) -> 0 | W18: =+U18+(AF18+AG18+AH18+AI18)-(AS18+AT18+AU18+AV18) -> 0 | Z18: =IFERROR(VLOOKUP($B18,'[1]ACT DEN8.2'!$H$3:$L$112,2,FALSE),0) -> 0 | AA18: =IFERROR(VLOOKUP($B18,'[1]ACT DEN8.2'!$H$3:$L$112,3,FALSE),0) -> 0 | AB18: =IFERROR(VLOOKUP($B18,'[1]ACT DEN8.2'!$H$3:$L$112,4,FALSE),0) -> 0 | AL18: =SUM(Z18:AK18) -> 0 | AM18: =IFERROR(VLOOKUP($B18,'[1]ACT DEN8.2'!$AA$3:$AE$83,2,FALSE),0) -> 0 | AN18: =IFERROR(VLOOKUP($B18,'[1]ACT DEN8.2'!$AA$3:$AE$83,3,FALSE),0) -> 0 | AO18: =IFERROR(VLOOKUP($B18,'[1]ACT DEN8.2'!$AA$3:$AE$83,4,FALSE),0) -> 0 | AY18: =SUM(AM18:AX18) -> 0
A19: 04105-PAIHUANO | B19: 105476-P.S.R. MONTE GRANDE | E19: =IFERROR(VLOOKUP($B19,[1]NUM8.2!$H$3:$L$154,2,FALSE),0) -> 0 | F19: =IFERROR(VLOOKUP($B19,[1]NUM8.2!$H$3:$L$154,3,FALSE),0) -> 0 | G19: =IFERROR(VLOOKUP($B19,[1]NUM8.2!$H$3:$L$154,4,FALSE),0) -> 0 | Q19: =SUM(E19:P19) -> 0 | S19: =IFERROR(VLOOKUP($B19,[1]DEN8.2!$H$3:$J$159,2,FALSE),0) -> 25 | T19: =+S19+(Z19+AA19+AB19+AC19)-(AM19+AN19+AO19+AP19) -> 25 | V19: =+U19+(AF19)-(AS19) -> 0 | W19: =+U19+(AF19+AG19+AH19+AI19)-(AS19+AT19+AU19+AV19) -> 0 | Z19: =IFERROR(VLOOKUP($B19,'[1]ACT DEN8.2'!$H$3:$L$112,2,FALSE),0) -> 0 | AA19: =IFERROR(VLOOKUP($B19,'[1]ACT DEN8.2'!$H$3:$L$112,3,FALSE),0) -> 0 | AB19: =IFERROR(VLOOKUP($B19,'[1]ACT DEN8.2'!$H$3:$L$112,4,FALSE),0) -> 0 | AL19: =SUM(Z19:AK19) -> 0 | AM19: =IFERROR(VLOOKUP($B19,'[1]ACT DEN8.2'!$AA$3:$AE$83,2,FALSE),0) -> 0 | AN19: =IFERROR(VLOOKUP($B19,'[1]ACT DEN8.2'!$AA$3:$AE$83,3,FALSE),0) -> 0 | AO19: =IFERROR(VLOOKUP($B19,'[1]ACT DEN8.2'!$AA$3:$AE$83,4,FALSE),0) -> 0 | AY19: =SUM(AM19:AX19) -> 0
A20: 04105-PAIHUANO | B20: 105477-P.S.R. PISCO ELQUI | E20: =IFERROR(VLOOKUP($B20,[1]NUM8.2!$H$3:$L$154,2,FALSE),0) -> 0 | F20: =IFERROR(VLOOKUP($B20,[1]NUM8.2!$H$3:$L$154,3,FALSE),0) -> 0 | G20: =IFERROR(VLOOKUP($B20,[1]NUM8.2!$H$3:$L$154,4,FALSE),0) -> 0 | Q20: =SUM(E20:P20) -> 0 | S20: =IFERROR(VLOOKUP($B20,[1]DEN8.2!$H$3:$J$159,2,FALSE),0) -> 47 | T20: =+S20+(Z20+AA20+AB20+AC20)-(AM20+AN20+AO20+AP20) -> 47 | V20: =+U20+(AF20)-(AS20) -> 0 | W20: =+U20+(AF20+AG20+AH20+AI20)-(AS20+AT20+AU20+AV20) -> 0 | Z20: =IFERROR(VLOOKUP($B20,'[1]ACT DEN8.2'!$H$3:$L$112,2,FALSE),0) -> 0 | AA20: =IFERROR(VLOOKUP($B20,'[1]ACT DEN8.2'!$H$3:$L$112,3,FALSE),0) -> 0 | AB20: =IFERROR(VLOOKUP($B20,'[1]ACT DEN8.2'!$H$3:$L$112,4,FALSE),0) -> 0 | AL20: =SUM(Z20:AK20) -> 0 | AM20: =IFERROR(VLOOKUP($B20,'[1]ACT DEN8.2'!$AA$3:$AE$83,2,FALSE),0) -> 0 | AN20: =IFERROR(VLOOKUP($B20,'[1]ACT DEN8.2'!$AA$3:$AE$83,3,FALSE),0) -> 0 | AO20: =IFERROR(VLOOKUP($B20,'[1]ACT DEN8.2'!$AA$3:$AE$83,4,FALSE),0) -> 0 | AY20: =SUM(AM20:AX20) -> 0
A21: TOTAL PAIHUANO | C21: =+D21/Metas!M36 -> 0.075769286 | D21: =+Q21/R21 -> 0.0027322404 | E21: =SUM(E17:E20) -> 0 | F21: =SUM(F17:F20) -> 0 | G21: =SUM(G17:G20) -> 1 | H21: =SUM(H17:H20) -> 0 | I21: =SUM(I17:I20) -> 0 | J21: =SUM(J17:J20) -> 0 | K21: =SUM(K17:K20) -> 0 | L21: =SUM(L17:L20) -> 0 | ... Q21: =SUM(Q17:Q20) -> 1 | R21: =+Y21-T21 -> 366 | S21: =SUM(S17:S20) -> 230 | T21: =SUM(T17:T20) -> 230 | U21: =SUM(U17:U20) -> 0 | V21: =SUM(V17:V20) -> 0 | W21: =SUM(W17:W20) -> 0 | X21: =SUM(X17:X20) -> 0 | Y21: 596 | Z21: =SUM(Z17:Z20) -> 0 | AA21: =SUM(AA17:AA20) -> 0 | AB21: =SUM(AB17:AB20) -> 0 | AC21: =SUM(AC17:AC20) -> 0 | AD21: =SUM(AD17:AD20) -> 0 | AE21: =SUM(AE17:AE20) -> 0 | AF21: =SUM(AF17:AF20) -> 0 | AG21: =SUM(AG17:AG20) -> 0 | ... AY21: =SUM(AY17:AY20) -> 0
B22: TOTAL | E22: =+E16+E21 -> 0 | F22: =+F16+F21 -> 0 | G22: =+G16+G21 -> 1 | H22: =+H16+H21 -> 0 | I22: =+I16+I21 -> 0 | J22: =+J16+J21 -> 0 | K22: =+K16+K21 -> 0 | L22: =+L16+L21 -> 0 | ... AY22: =+AY16+AY21 -> 0

Sheet META 8.3
A1: COMUNA | B1: ESTABLECIMIENTO | C1: CUMPLIMIENTO | D1: Indicador | E1: META 8.3: COBERTURA EXAMEN DE MEDICINA PREVENTIVA (EMPAM) EN PERSONAS DE 65 AÑOS Y MÁS
E2: NUMERADOR | R2: DENOMINADOR
E10: N° de adultos de 65 y más años con Examen de Medicina Preventiva | R10: Nº de adultos de 65 y más años estimados
D11: Resultado | E11: ENERO | F11: FEBRERO | G11: MARZO | H11: ABRIL | I11: MAYO | J11: JUNIO | K11: JULIO | L11: AGOSTO | M11: SEPBRE | N11: OCTBRE | O11: NOVBRE | P11: DICBRE | Q11: TOTAL
A12: 04104-LA HIGUERA | B12: 105314-CES. LA HIGUERA | E12: =IFERROR(VLOOKUP($B12,[1]NUM8.3!$H$3:$L$154,2,FALSE),0) -> 0 | F12: =IFERROR(VLOOKUP($B12,[1]NUM8.3!$H$3:$L$154,3,FALSE),0) -> 0 | G12: =IFERROR(VLOOKUP($B12,[1]NUM8.3!$H$3:$L$154,4,FALSE),0) -> 0 | Q12: =SUM(E12:P12) -> 0
A13: 04104-LA HIGUERA | B13: 105500-P.S.R. CALETA HORNOS | E13: =IFERROR(VLOOKUP($B13,[1]NUM8.3!$H$3:$L$154,2,FALSE),0) -> 0 | F13: =IFERROR(VLOOKUP($B13,[1]NUM8.3!$H$3:$L$154,3,FALSE),0) -> 0 | G13: =IFERROR(VLOOKUP($B13,[1]NUM8.3!$H$3:$L$154,4,FALSE),0) -> 0 | Q13: =SUM(E13:P13) -> 0
A14: 04104-LA HIGUERA | B14: 105505-P.S.R. LOS CHOROS | E14: =IFERROR(VLOOKUP($B14,[1]NUM8.3!$H$3:$L$154,2,FALSE),0) -> 0 | F14: =IFERROR(VLOOKUP($B14,[1]NUM8.3!$H$3:$L$154,3,FALSE),0) -> 0 | G14: =IFERROR(VLOOKUP($B14,[1]NUM8.3!$H$3:$L$154,4,FALSE),0) -> 0 | Q14: =SUM(E14:P14) -> 0
A15: 04104-LA HIGUERA | B15: 105506-P.S.R. EL TRAPICHE | E15: =IFERROR(VLOOKUP($B15,[1]NUM8.3!$H$3:$L$154,2,FALSE),0) -> 0 | F15: =IFERROR(VLOOKUP($B15,[1]NUM8.3!$H$3:$L$154,3,FALSE),0) -> 0 | G15: =IFERROR(VLOOKUP($B15,[1]NUM8.3!$H$3:$L$154,4,FALSE),0) -> 0 | Q15: =SUM(E15:P15) -> 0
A16: TOTAL LA HIGUERA | C16: =+D16/Metas!N37 -> 0 | D16: =+Q16/R16 -> 0 | E16: =SUM(E12:E15) -> 0 | F16: =SUM(F12:F15) -> 0 | G16: =SUM(G12:G15) -> 0 | H16: =SUM(H12:H15) -> 0 | I16: =SUM(I12:I15) -> 0 | J16: =SUM(J12:J15) -> 0 | K16: =SUM(K12:K15) -> 0 | L16: =SUM(L12:L15) -> 0 | ... Q16: =SUM(Q12:Q15) -> 0 | R16: 282
A17: 04105-PAIHUANO | B17: 105306-CES. PAIHUANO | E17: =IFERROR(VLOOKUP($B17,[1]NUM8.3!$H$3:$L$154,2,FALSE),0) -> 8 | F17: =IFERROR(VLOOKUP($B17,[1]NUM8.3!$H$3:$L$154,3,FALSE),0) -> 10 | G17: =IFERROR(VLOOKUP($B17,[1]NUM8.3!$H$3:$L$154,4,FALSE),0) -> 7 | Q17: =SUM(E17:P17) -> 25
A18: 04105-PAIHUANO | B18: 105475-P.S.R. HORCON | E18: =IFERROR(VLOOKUP($B18,[1]NUM8.3!$H$3:$L$154,2,FALSE),0) -> 1 | F18: =IFERROR(VLOOKUP($B18,[1]NUM8.3!$H$3:$L$154,3,FALSE),0) -> 0 | G18: =IFERROR(VLOOKUP($B18,[1]NUM8.3!$H$3:$L$154,4,FALSE),0) -> 0 | Q18: =SUM(E18:P18) -> 1
A19: 04105-PAIHUANO | B19: 105476-P.S.R. MONTE GRANDE | E19: =IFERROR(VLOOKUP($B19,[1]NUM8.3!$H$3:$L$154,2,FALSE),0) -> 0 | F19: =IFERROR(VLOOKUP($B19,[1]NUM8.3!$H$3:$L$154,3,FALSE),0) -> 0 | G19: =IFERROR(VLOOKUP($B19,[1]NUM8.3!$H$3:$L$154,4,FALSE),0) -> 0 | Q19: =SUM(E19:P19) -> 0
A20: 04105-PAIHUANO | B20: 105477-P.S.R. PISCO ELQUI | E20: =IFERROR(VLOOKUP($B20,[1]NUM8.3!$H$3:$L$154,2,FALSE),0) -> 0 | F20: =IFERROR(VLOOKUP($B20,[1]NUM8.3!$H$3:$L$154,3,FALSE),0) -> 1 | G20: =IFERROR(VLOOKUP($B20,[1]NUM8.3!$H$3:$L$154,4,FALSE),0) -> 0 | Q20: =SUM(E20:P20) -> 1
A21: TOTAL PAIHUANO | C21: =+D21/Metas!N36 -> 0.89177339 | D21: =+Q21/R21 -> 0.073972603 | E21: =SUM(E17:E20) -> 9 | F21: =SUM(F17:F20) -> 11 | G21: =SUM(G17:G20) -> 7 | H21: =SUM(H17:H20) -> 0 | I21: =SUM(I17:I20) -> 0 | J21: =SUM(J17:J20) -> 0 | K21: =SUM(K17:K20) -> 0 | L21: =SUM(L17:L20) -> 0 | ... Q21: =SUM(Q17:Q20) -> 27 | R21: 365
B22: TOTAL | E22: =+E16+E21 -> 9 | F22: =+F16+F21 -> 11 | G22: =+G16+G21 -> 7 | H22: =+H16+H21 -> 0 | I22: =+I16+I21 -> 0 | J22: =+J16+J21 -> 0 | K22: =+K16+K21 -> 0 | L22: =+L16+L21 -> 0 | ... Q22: =+Q16+Q21 -> 27

Sheet META 9
A1: COMUNA | B1: ESTABLECIMIENTO | C1: CUMPLIMIENTO | D1: Indicador | E1: META 9: COBERTURA DE EVALUACIÓN DEL DESARROLLO PSICOMOTOR DE NIÑOS Y NIÑAS DE 12 A 23 MESES BAJO CONTROL
E2: NUMERADOR | R2: DENOMINADOR
E10: Niños y niñas 12 a 23 con Evaluación del Desarrollo Psicomotor | R10: Niños y Niñas entre 12 a 23 meses bajo control
D11: Resultado | E11: ENERO | F11: FEBRERO | G11: MARZO | H11: ABRIL | I11: MAYO | J11: JUNIO | K11: JULIO | L11: AGOSTO | M11: SEPBRE | N11: OCTBRE | O11: NOVBRE | P11: DICBRE | Q11: TOTAL | R11: A DIC 2016 | S11: A ABRIL | T11: A JUNIO | U11: A AGOSTO | V11: A OCTBRE | W11: A DICBRE
A12: 04104-LA HIGUERA | B12: 105314-CES. LA HIGUERA | E12: =IFERROR(VLOOKUP($B12,[1]NUM9!$H$3:$L$145,2,FALSE),0) -> 4 | F12: =IFERROR(VLOOKUP($B12,[1]NUM9!$H$3:$L$145,3,FALSE),0) -> 2 | G12: =IFERROR(VLOOKUP($B12,[1]NUM9!$H$3:$L$145,4,FALSE),0) -> 1 | Q12: =SUM(E12:P12) -> 7 | R12: =IFERROR(VLOOKUP($B12,[1]DEN9!$H$3:$J$158,2,FALSE),0) -> 26
A13: 04104-LA HIGUERA | B13: 105500-P.S.R. CALETA HORNOS | E13: =IFERROR(VLOOKUP($B13,[1]NUM9!$H$3:$L$145,2,FALSE),0) -> 0 | F13: =IFERROR(VLOOKUP($B13,[1]NUM9!$H$3:$L$145,3,FALSE),0) -> 0 | G13: =IFERROR(VLOOKUP($B13,[1]NUM9!$H$3:$L$145,4,FALSE),0) -> 3 | Q13: =SUM(E13:P13) -> 3 | R13: =IFERROR(VLOOKUP($B13,[1]DEN9!$H$3:$J$158,2,FALSE),0) -> 14
A14: 04104-LA HIGUERA | B14: 105505-P.S.R. LOS CHOROS | E14: =IFERROR(VLOOKUP($B14,[1]NUM9!$H$3:$L$145,2,FALSE),0) -> 0 | F14: =IFERROR(VLOOKUP($B14,[1]NUM9!$H$3:$L$145,3,FALSE),0) -> 0 | G14: =IFERROR(VLOOKUP($B14,[1]NUM9!$H$3:$L$145,4,FALSE),0) -> 0 | Q14: =SUM(E14:P14) -> 0 | R14: =IFERROR(VLOOKUP($B14,[1]DEN9!$H$3:$J$158,2,FALSE),0) -> 2
A15: 04104-LA HIGUERA | B15: 105506-P.S.R. EL TRAPICHE | E15: =IFERROR(VLOOKUP($B15,[1]NUM9!$H$3:$L$145,2,FALSE),0) -> 0 | F15: =IFERROR(VLOOKUP($B15,[1]NUM9!$H$3:$L$145,3,FALSE),0) -> 0 | G15: =IFERROR(VLOOKUP($B15,[1]NUM9!$H$3:$L$145,4,FALSE),0) -> 2 | Q15: =SUM(E15:P15) -> 2 | R15: =IFERROR(VLOOKUP($B15,[1]DEN9!$H$3:$J$158,2,FALSE),0) -> 18
A16: TOTAL LA HIGUERA | C16: =+D16/Metas!O37 -> 0.21276596 | D16: =+Q16/R16 -> 0.2 | E16: =SUM(E12:E15) -> 4 | F16: =SUM(F12:F15) -> 2 | G16: =SUM(G12:G15) -> 6 | H16: =SUM(H12:H15) -> 0 | I16: =SUM(I12:I15) -> 0 | J16: =SUM(J12:J15) -> 0 | K16: =SUM(K12:K15) -> 0 | L16: =SUM(L12:L15) -> 0 | ... W16: =SUM(W12:W15) -> 0
A17: 04105-PAIHUANO | B17: 105306-CES. PAIHUANO | E17: =IFERROR(VLOOKUP($B17,[1]NUM9!$H$3:$L$145,2,FALSE),0) -> 3 | F17: =IFERROR(VLOOKUP($B17,[1]NUM9!$H$3:$L$145,3,FALSE),0) -> 2 | G17: =IFERROR(VLOOKUP($B17,[1]NUM9!$H$3:$L$145,4,FALSE),0) -> 1 | Q17: =SUM(E17:P17) -> 6 | R17: =IFERROR(VLOOKUP($B17,[1]DEN9!$H$3:$J$158,2,FALSE),0) -> 16
A18: 04105-PAIHUANO | B18: 105475-P.S.R. HORCON | E18: =IFERROR(VLOOKUP($B18,[1]NUM9!$H$3:$L$145,2,FALSE),0) -> 0 | F18: =IFERROR(VLOOKUP($B18,[1]NUM9!$H$3:$L$145,3,FALSE),0) -> 1 | G18: =IFERROR(VLOOKUP($B18,[1]NUM9!$H$3:$L$145,4,FALSE),0) -> 0 | Q18: =SUM(E18:P18) -> 1 | R18: =IFERROR(VLOOKUP($B18,[1]DEN9!$H$3:$J$158,2,FALSE),0) -> 7
A19: 04105-PAIHUANO | B19: 105476-P.S.R. MONTE GRANDE | E19: =IFERROR(VLOOKUP($B19,[1]NUM9!$H$3:$L$145,2,FALSE),0) -> 0 | F19: =IFERROR(VLOOKUP($B19,[1]NUM9!$H$3:$L$145,3,FALSE),0) -> 0 | G19: =IFERROR(VLOOKUP($B19,[1]NUM9!$H$3:$L$145,4,FALSE),0) -> 1 | Q19: =SUM(E19:P19) -> 1 | R19: =IFERROR(VLOOKUP($B19,[1]DEN9!$H$3:$J$158,2,FALSE),0) -> 9
A20: 04105-PAIHUANO | B20: 105477-P.S.R. PISCO ELQUI | E20: =IFERROR(VLOOKUP($B20,[1]NUM9!$H$3:$L$145,2,FALSE),0) -> 0 | F20: =IFERROR(VLOOKUP($B20,[1]NUM9!$H$3:$L$145,3,FALSE),0) -> 0 | G20: =IFERROR(VLOOKUP($B20,[1]NUM9!$H$3:$L$145,4,FALSE),0) -> 3 | Q20: =SUM(E20:P20) -> 3 | R20: =IFERROR(VLOOKUP($B20,[1]DEN9!$H$3:$J$158,2,FALSE),0) -> 17
A21: TOTAL PAIHUANO | C21: =+D21/Metas!O36 -> 0.23881893 | D21: =+Q21/R21 -> 0.2244898 | E21: =SUM(E17:E20) -> 3 | F21: =SUM(F17:F20) -> 3 | G21: =SUM(G17:G20) -> 5 | H21: =SUM(H17:H20) -> 0 | I21: =SUM(I17:I20) -> 0 | J21: =SUM(J17:J20) -> 0 | K21: =SUM(K17:K20) -> 0 | L21: =SUM(L17:L20) -> 0 | ... W21: =SUM(W17:W20) -> 0
B22: TOTAL | E22: =+E16+E21 -> 7 | F22: =+F16+F21 -> 5 | G22: =+G16+G21 -> 11 | H22: =+H16+H21 -> 0 | I22: =+I16+I21 -> 0 | J22: =+J16+J21 -> 0 | K22: =+K16+K21 -> 0 | L22: =+L16+L21 -> 0 | ... W22: =+W16+W21 -> 0

Sheet META 10
A1: COMUNA | B1: ESTABLECIMIENTO | C1: CUMPLIMIENTO | D1: Indicador | E1: META 10: COBERTURA DE CONTROL DE SALUD INTEGRAL EN ADOLESCENTES DE 10 14 AÑOS
E2: NUMERADOR | R2: DENOMINADOR
E10: Nº de controles de salud integral, realizados a adolescentes de 10 a 14 años | R10: Población adolescente de 10 a 14 años estimada en el establecimiento de salud
D11: Resultado | E11: ENERO | F11: FEBRERO | G11: MARZO | H11: ABRIL | I11: MAYO | J11: JUNIO | K11: JULIO | L11: AGOSTO | M11: SEPBRE | N11: OCTBRE | O11: NOVBRE | P11: DICBRE | Q11: TOTAL
A12: 04104-LA HIGUERA | B12: 105314-CES. LA HIGUERA | E12: =IFERROR(VLOOKUP($B12,[1]NUM10!$H$3:$L$37,2,FALSE),0) -> 0 | F12: =IFERROR(VLOOKUP($B12,[1]NUM10!$H$3:$L$37,3,FALSE),0) -> 0 | G12: =IFERROR(VLOOKUP($B12,[1]NUM10!$H$3:$L$37,4,FALSE),0) -> 0 | Q12: =SUM(E12:P12) -> 0
A13: 04104-LA HIGUERA | B13: 105500-P.S.R. CALETA HORNOS | E13: =IFERROR(VLOOKUP($B13,[1]NUM10!$H$3:$L$37,2,FALSE),0) -> 0 | F13: =IFERROR(VLOOKUP($B13,[1]NUM10!$H$3:$L$37,3,FALSE),0) -> 0 | G13: =IFERROR(VLOOKUP($B13,[1]NUM10!$H$3:$L$37,4,FALSE),0) -> 0 | Q13: =SUM(E13:P13) -> 0
A14: 04104-LA HIGUERA | B14: 105505-P.S.R. LOS CHOROS | E14: =IFERROR(VLOOKUP($B14,[1]NUM10!$H$3:$L$37,2,FALSE),0) -> 0 | F14: =IFERROR(VLOOKUP($B14,[1]NUM10!$H$3:$L$37,3,FALSE),0) -> 0 | G14: =IFERROR(VLOOKUP($B14,[1]NUM10!$H$3:$L$37,4,FALSE),0) -> 0 | Q14: =SUM(E14:P14) -> 0
A15: 04104-LA HIGUERA | B15: 105506-P.S.R. EL TRAPICHE | E15: =IFERROR(VLOOKUP($B15,[1]NUM10!$H$3:$L$37,2,FALSE),0) -> 0 | F15: =IFERROR(VLOOKUP($B15,[1]NUM10!$H$3:$L$37,3,FALSE),0) -> 0 | G15: =IFERROR(VLOOKUP($B15,[1]NUM10!$H$3:$L$37,4,FALSE),0) -> 0 | Q15: =SUM(E15:P15) -> 0
A16: TOTAL LA HIGUERA | C16: =+D16/Metas!P37 -> 0 | D16: =+Q16/R16 -> 0 | E16: =SUM(E12:E15) -> 0 | F16: =SUM(F12:F15) -> 0 | G16: =SUM(G12:G15) -> 0 | H16: =SUM(H12:H15) -> 0 | I16: =SUM(I12:I15) -> 0 | J16: =SUM(J12:J15) -> 0 | K16: =SUM(K12:K15) -> 0 | L16: =SUM(L12:L15) -> 0 | ... Q16: =SUM(Q12:Q15) -> 0 | R16: 247
A17: 04105-PAIHUANO | B17: 105306-CES. PAIHUANO | E17: =IFERROR(VLOOKUP($B17,[1]NUM10!$H$3:$L$37,2,FALSE),0) -> 0 | F17: =IFERROR(VLOOKUP($B17,[1]NUM10!$H$3:$L$37,3,FALSE),0) -> 0 | G17: =IFERROR(VLOOKUP($B17,[1]NUM10!$H$3:$L$37,4,FALSE),0) -> 0 | Q17: =SUM(E17:P17) -> 0
A18: 04105-PAIHUANO | B18: 105475-P.S.R. HORCON | E18: =IFERROR(VLOOKUP($B18,[1]NUM10!$H$3:$L$37,2,FALSE),0) -> 0 | F18: =IFERROR(VLOOKUP($B18,[1]NUM10!$H$3:$L$37,3,FALSE),0) -> 0 | G18: =IFERROR(VLOOKUP($B18,[1]NUM10!$H$3:$L$37,4,FALSE),0) -> 0 | Q18: =SUM(E18:P18) -> 0
A19: 04105-PAIHUANO | B19: 105476-P.S.R. MONTE GRANDE | E19: =IFERROR(VLOOKUP($B19,[1]NUM10!$H$3:$L$37,2,FALSE),0) -> 0 | F19: =IFERROR(VLOOKUP($B19,[1]NUM10!$H$3:$L$37,3,FALSE),0) -> 0 | G19: =IFERROR(VLOOKUP($B19,[1]NUM10!$H$3:$L$37,4,FALSE),0) -> 0 | Q19: =SUM(E19:P19) -> 0
A20: 04105-PAIHUANO | B20: 105477-P.S.R. PISCO ELQUI | E20: =IFERROR(VLOOKUP($B20,[1]NUM10!$H$3:$L$37,2,FALSE),0) -> 0 | F20: =IFERROR(VLOOKUP($B20,[1]NUM10!$H$3:$L$37,3,FALSE),0) -> 0 | G20: =IFERROR(VLOOKUP($B20,[1]NUM10!$H$3:$L$37,4,FALSE),0) -> 0 | Q20: =SUM(E20:P20) -> 0
A21: TOTAL PAIHUANO | C21: =+D21/Metas!P36 -> 0 | D21: =+Q21/R21 -> 0 | E21: =SUM(E17:E20) -> 0 | F21: =SUM(F17:F20) -> 0 | G21: =SUM(G17:G20) -> 0 | H21: =SUM(H17:H20) -> 0 | I21: =SUM(I17:I20) -> 0 | J21: =SUM(J17:J20) -> 0 | K21: =SUM(K17:K20) -> 0 | L21: =SUM(L17:L20) -> 0 | ... Q21: =SUM(Q17:Q20) -> 0 | R21: 279
B22: TOTAL | E22: =+E16+E21 -> 0 | F22: =+F16+F21 -> 0 | G22: =+G16+G21 -> 0 | H22: =+H16+H21 -> 0 | I22: =+I16+I21 -> 0 | J22: =+J16+J21 -> 0 | K22: =+K16+K21 -> 0 | L22: =+L16+L21 -> 0 | ... Q22: =+Q16+Q21 -> 0

Sheet META 11
A1: COMUNA | B1: ESTABLECIMIENTO | C1: CUMPLIMIENTO | D1: Indicador | E1: META 11: PROPORCIÓN DE MENORES DE 20 AÑOS CON ALTA ODONTOLÓGICA TOTAL
E2: NUMERADOR | R2: DENOMINADOR
E10: Nº de altas odontológicas totales en población menor de 20 años | R10: Población estimada menor de 20 años
D11: Resultado | E11: ENERO | F11: FEBRERO | G11: MARZO | H11: ABRIL | I11: MAYO | J11: JUNIO | K11: JULIO | L11: AGOSTO | M11: SEPBRE | N11: OCTBRE | O11: NOVBRE | P11: DICBRE | Q11: TOTAL
A12: 04104-LA HIGUERA | B12: 105314-CES. LA HIGUERA | E12: =IFERROR(VLOOKUP($B12,[1]NUM11!$H$3:$L$109,2,FALSE),0) -> 0 | F12: =IFERROR(VLOOKUP($B12,[1]NUM11!$H$3:$L$109,3,FALSE),0) -> 0 | G12: =IFERROR(VLOOKUP($B12,[1]NUM11!$H$3:$L$109,4,FALSE),0) -> 0 | Q12: =SUM(E12:P12) -> 0
A13: 04104-LA HIGUERA | B13: 105500-P.S.R. CALETA HORNOS | E13: =IFERROR(VLOOKUP($B13,[1]NUM11!$H$3:$L$109,2,FALSE),0) -> 0 | F13: =IFERROR(VLOOKUP($B13,[1]NUM11!$H$3:$L$109,3,FALSE),0) -> 0 | G13: =IFERROR(VLOOKUP($B13,[1]NUM11!$H$3:$L$109,4,FALSE),0) -> 0 | Q13: =SUM(E13:P13) -> 0
A14: 04104-LA HIGUERA | B14: 105505-P.S.R. LOS CHOROS | E14: =IFERROR(VLOOKUP($B14,[1]NUM11!$H$3:$L$109,2,FALSE),0) -> 0 | F14: =IFERROR(VLOOKUP($B14,[1]NUM11!$H$3:$L$109,3,FALSE),0) -> 0 | G14: =IFERROR(VLOOKUP($B14,[1]NUM11!$H$3:$L$109,4,FALSE),0) -> 0 | Q14: =SUM(E14:P14) -> 0
A15: 04104-LA HIGUERA | B15: 105506-P.S.R. EL TRAPICHE | E15: =IFERROR(VLOOKUP($B15,[1]NUM11!$H$3:$L$109,2,FALSE),0) -> 0 | F15: =IFERROR(VLOOKUP($B15,[1]NUM11!$H$3:$L$109,3,FALSE),0) -> 0 | G15: =IFERROR(VLOOKUP($B15,[1]NUM11!$H$3:$L$109,4,FALSE),0) -> 0 | Q15: =SUM(E15:P15) -> 0
A16: TOTAL LA HIGUERA | C16: =+D16/Metas!Q37 -> 0 | D16: =+Q16/R16 -> 0 | E16: =SUM(E12:E15) -> 0 | F16: =SUM(F12:F15) -> 0 | G16: =SUM(G12:G15) -> 0 | H16: =SUM(H12:H15) -> 0 | I16: =SUM(I12:I15) -> 0 | J16: =SUM(J12:J15) -> 0 | K16: =SUM(K12:K15) -> 0 | L16: =SUM(L12:L15) -> 0 | ... Q16: =SUM(Q12:Q15) -> 0 | R16: 249
A17: 04105-PAIHUANO | B17: 105306-CES. PAIHUANO | E17: =IFERROR(VLOOKUP($B17,[1]NUM11!$H$3:$L$109,2,FALSE),0) -> 4 | F17: =IFERROR(VLOOKUP($B17,[1]NUM11!$H$3:$L$109,3,FALSE),0) -> 2 | G17: =IFERROR(VLOOKUP($B17,[1]NUM11!$H$3:$L$109,4,FALSE),0) -> 8 | Q17: =SUM(E17:P17) -> 14
A18: 04105-PAIHUANO | B18: 105475-P.S.R. HORCON | E18: =IFERROR(VLOOKUP($B18,[1]NUM11!$H$3:$L$109,2,FALSE),0) -> 0 | F18: =IFERROR(VLOOKUP($B18,[1]NUM11!$H$3:$L$109,3,FALSE),0) -> 0 | G18: =IFERROR(VLOOKUP($B18,[1]NUM11!$H$3:$L$109,4,FALSE),0) -> 0 | Q18: =SUM(E18:P18) -> 0
A19: 04105-PAIHUANO | B19: 105476-P.S.R. MONTE GRANDE | E19: =IFERROR(VLOOKUP($B19,[1]NUM11!$H$3:$L$109,2,FALSE),0) -> 1 | F19: =IFERROR(VLOOKUP($B19,[1]NUM11!$H$3:$L$109,3,FALSE),0) -> 1 | G19: =IFERROR(VLOOKUP($B19,[1]NUM11!$H$3:$L$109,4,FALSE),0) -> 2 | Q19: =SUM(E19:P19) -> 4
A20: 04105-PAIHUANO | B20: 105477-P.S.R. PISCO ELQUI | E20: =IFERROR(VLOOKUP($B20,[1]NUM11!$H$3:$L$109,2,FALSE),0) -> 0 | F20: =IFERROR(VLOOKUP($B20,[1]NUM11!$H$3:$L$109,3,FALSE),0) -> 2 | G20: =IFERROR(VLOOKUP($B20,[1]NUM11!$H$3:$L$109,4,FALSE),0) -> 2 | Q20: =SUM(E20:P20) -> 4
A21: TOTAL PAIHUANO | C21: =+D21/Metas!Q36 -> 2.1219136 | D21: =+Q21/R21 -> 0.076388889 | E21: =SUM(E17:E20) -> 5 | F21: =SUM(F17:F20) -> 5 | G21: =SUM(G17:G20) -> 12 | H21: =SUM(H17:H20) -> 0 | I21: =SUM(I17:I20) -> 0 | J21: =SUM(J17:J20) -> 0 | K21: =SUM(K17:K20) -> 0 | L21: =SUM(L17:L20) -> 0 | ... Q21: =SUM(Q17:Q20) -> 22 | R21: 288
B22: TOTAL

Sheet META 12
A1: COMUNA | B1: ESTABLECIMIENTO | C1: CUMPLIMIENTO | D1: CUMPLIMIENTO | E1: META 12: COBERTURA DE ATENCIÓN INTEGRAL A PERSONAS DE 5 AÑOS Y MAS CON TRASTORNOS MENTALES
E2: NUMERADOR | AK2: DENOMINADOR
E10: Nº de personas de 5 años y más con trastorno mental bajo control | K10: Ingresos de personas con trastorno mental de 5 años y más | X10: Egresos de personas con trastorno mental de 5 años y más | AK10: Nº de personas con trastorno mental estimada según prevalencia de 5 años y más (población estimada Fonasa de 5 y más años x 22%)
E11: A DIC 2016 | F11: A ABRIL | G11: A JUNIO | H11: A AGOSTO | I11: A OCTBRE | J11: A DICBRE | K11: ENERO | L11: FEBRERO | M11: MARZO | N11: ABRIL | O11: MAYO | P11: JUNIO | Q11: JULIO | R11: AGOSTO | S11: SEPBRE | T11: OCTBRE | U11: NOVBRE | V11: DICBRE | W11: TOTAL | X11: ENERO | Y11: FEBRERO | Z11: MARZO | AA11: ABRIL | AB11: MAYO | AC11: JUNIO | AD11: JULIO | AE11: AGOSTO | AF11: SEPBRE | AG11: OCTBRE | AH11: NOVBRE | AI11: DICBRE | AJ11: TOTAL
A12: 04104-LA HIGUERA | B12: 105314-CES. LA HIGUERA | E12: =IFERROR(VLOOKUP($B12,[1]NUM12!$H$3:$J$151,2,FALSE),0) -> 71 | F12: =+E12+(K12+L12+M12+N12)-(X12+Y12+Z12+AA12) -> 72 | H12: =+G12+(Q12+R12)-(AD12+AE12) -> 0 | I12: =+G12+(Q12+R12+S12+T12)-(AD12+AE12+AF12+AG12) -> 0 | K12: =IFERROR(VLOOKUP($B12,'[1]ACT NUM12'!$H$3:$L$109,2,FALSE),0) -> 0 | L12: =IFERROR(VLOOKUP($B12,'[1]ACT NUM12'!$H$3:$L$109,3,FALSE),0) -> 1 | M12: =IFERROR(VLOOKUP($B12,'[1]ACT NUM12'!$H$3:$L$109,4,FALSE),0) -> 0 | W12: =SUM(K12:V12) -> 1 | X12: =IFERROR(VLOOKUP($B12,'[1]ACT NUM12'!$AA$3:$AE$69,2,FALSE),0) -> 0 | Y12: =IFERROR(VLOOKUP($B12,'[1]ACT NUM12'!$AA$3:$AE$69,3,FALSE),0) -> 0 | Z12: =IFERROR(VLOOKUP($B12,'[1]ACT NUM12'!$AA$3:$AE$69,4,FALSE),0) -> 0 | AJ12: =SUM(X12:AI12) -> 0
A13: 04104-LA HIGUERA | B13: 105500-P.S.R. CALETA HORNOS | E13: =IFERROR(VLOOKUP($B13,[1]NUM12!$H$3:$J$151,2,FALSE),0) -> 74 | F13: =+E13+(K13+L13+M13+N13)-(X13+Y13+Z13+AA13) -> 77 | H13: =+G13+(Q13+R13)-(AD13+AE13) -> 0 | I13: =+G13+(Q13+R13+S13+T13)-(AD13+AE13+AF13+AG13) -> 0 | K13: =IFERROR(VLOOKUP($B13,'[1]ACT NUM12'!$H$3:$L$109,2,FALSE),0) -> 1 | L13: =IFERROR(VLOOKUP($B13,'[1]ACT NUM12'!$H$3:$L$109,3,FALSE),0) -> 0 | M13: =IFERROR(VLOOKUP($B13,'[1]ACT NUM12'!$H$3:$L$109,4,FALSE),0) -> 2 | W13: =SUM(K13:V13) -> 3 | X13: =IFERROR(VLOOKUP($B13,'[1]ACT NUM12'!$AA$3:$AE$69,2,FALSE),0) -> 0 | Y13: =IFERROR(VLOOKUP($B13,'[1]ACT NUM12'!$AA$3:$AE$69,3,FALSE),0) -> 0 | Z13: =IFERROR(VLOOKUP($B13,'[1]ACT NUM12'!$AA$3:$AE$69,4,FALSE),0) -> 0 | AJ13: =SUM(X13:AI13) -> 0
A14: 04104-LA HIGUERA | B14: 105505-P.S.R. LOS CHOROS | E14: =IFERROR(VLOOKUP($B14,[1]NUM12!$H$3:$J$151,2,FALSE),0) -> 43 | F14: =+E14+(K14+L14+M14+N14)-(X14+Y14+Z14+AA14) -> 43 | H14: =+G14+(Q14+R14)-(AD14+AE14) -> 0 | I14: =+G14+(Q14+R14+S14+T14)-(AD14+AE14+AF14+AG14) -> 0 | K14: =IFERROR(VLOOKUP($B14,'[1]ACT NUM12'!$H$3:$L$109,2,FALSE),0) -> 0 | L14: =IFERROR(VLOOKUP($B14,'[1]ACT NUM12'!$H$3:$L$109,3,FALSE),0) -> 0 | M14: =IFERROR(VLOOKUP($B14,'[1]ACT NUM12'!$H$3:$L$109,4,FALSE),0) -> 0 | W14: =SUM(K14:V14) -> 0 | X14: =IFERROR(VLOOKUP($B14,'[1]ACT NUM12'!$AA$3:$AE$69,2,FALSE),0) -> 0 | Y14: =IFERROR(VLOOKUP($B14,'[1]ACT NUM12'!$AA$3:$AE$69,3,FALSE),0) -> 0 | Z14: =IFERROR(VLOOKUP($B14,'[1]ACT NUM12'!$AA$3:$AE$69,4,FALSE),0) -> 0 | AJ14: =SUM(X14:AI14) -> 0
A15: 04104-LA HIGUERA | B15: 105506-P.S.R. EL TRAPICHE | E15: =IFERROR(VLOOKUP($B15,[1]NUM12!$H$3:$J$151,2,FALSE),0) -> 37 | F15: =+E15+(K15+L15+M15+N15)-(X15+Y15+Z15+AA15) -> 43 | H15: =+G15+(Q15+R15)-(AD15+AE15) -> 0 | I15: =+G15+(Q15+R15+S15+T15)-(AD15+AE15+AF15+AG15) -> 0 | K15: =IFERROR(VLOOKUP($B15,'[1]ACT NUM12'!$H$3:$L$109,2,FALSE),0) -> 4 | L15: =IFERROR(VLOOKUP($B15,'[1]ACT NUM12'!$H$3:$L$109,3,FALSE),0) -> 0 | M15: =IFERROR(VLOOKUP($B15,'[1]ACT NUM12'!$H$3:$L$109,4,FALSE),0) -> 2 | W15: =SUM(K15:V15) -> 6 | X15: =IFERROR(VLOOKUP($B15,'[1]ACT NUM12'!$AA$3:$AE$69,2,FALSE),0) -> 0 | Y15: =IFERROR(VLOOKUP($B15,'[1]ACT NUM12'!$AA$3:$AE$69,3,FALSE),0) -> 0 | Z15: =IFERROR(VLOOKUP($B15,'[1]ACT NUM12'!$AA$3:$AE$69,4,FALSE),0) -> 0 | AJ15: =SUM(X15:AI15) -> 0
A16: TOTAL LA HIGUERA | C16: =+D16/Metas!R37 -> 1.0155961 | D16: =F16/AK16 -> 0.29228856 | E16: =SUM(E12:E15) -> 225 | F16: =SUM(F12:F15) -> 235 | G16: =SUM(G12:G15) -> 0 | H16: =SUM(H12:H15) -> 0 | I16: =SUM(I12:I15) -> 0 | J16: =SUM(J12:J15) -> 0 | K16: =SUM(K12:K15) -> 5 | L16: =SUM(L12:L15) -> 1 | ... V16: =SUM(V12:V15) -> 0 | W16: =SUM(K16:V16) -> 10 | X16: =SUM(X12:X15) -> 0 | Y16: =SUM(Y12:Y15) -> 0 | Z16: =SUM(Z12:Z15) -> 0 | AA16: =SUM(AA12:AA15) -> 0 | AB16: =SUM(AB12:AB15) -> 0 | AC16: =SUM(AC12:AC15) -> 0 | AD16: =SUM(AD12:AD15) -> 0 | AE16: =SUM(AE12:AE15) -> 0 | ... AI16: =SUM(AI12:AI15) -> 0 | AJ16: =SUM(X16:AI16) -> 0 | AK16: 804
A17: 04105-PAIHUANO | B17: 105306-CES. PAIHUANO | E17: =IFERROR(VLOOKUP($B17,[1]NUM12!$H$3:$J$151,2,FALSE),0) -> 250 | F17: =+E17+(K17+L17+M17+N17)-(X17+Y17+Z17+AA17) -> 297 | H17: =+G17+(Q17+R17)-(AD17+AE17) -> 0 | I17: =+G17+(Q17+R17+S17+T17)-(AD17+AE17+AF17+AG17) -> 0 | K17: =IFERROR(VLOOKUP($B17,'[1]ACT NUM12'!$H$3:$L$109,2,FALSE),0) -> 15 | L17: =IFERROR(VLOOKUP($B17,'[1]ACT NUM12'!$H$3:$L$109,3,FALSE),0) -> 14 | M17: =IFERROR(VLOOKUP($B17,'[1]ACT NUM12'!$H$3:$L$109,4,FALSE),0) -> 18 | W17: =SUM(K17:V17) -> 47 | X17: =IFERROR(VLOOKUP($B17,'[1]ACT NUM12'!$AA$3:$AE$69,2,FALSE),0) -> 0 | Y17: =IFERROR(VLOOKUP($B17,'[1]ACT NUM12'!$AA$3:$AE$69,3,FALSE),0) -> 0 | Z17: =IFERROR(VLOOKUP($B17,'[1]ACT NUM12'!$AA$3:$AE$69,4,FALSE),0) -> 0 | AJ17: =SUM(X17:AI17) -> 0
A18: 04105-PAIHUANO | B18: 105475-P.S.R. HORCON | E18: =IFERROR(VLOOKUP($B18,[1]NUM12!$H$3:$J$151,2,FALSE),0) -> 0 | F18: =+E18+(K18+L18+M18+N18)-(X18+Y18+Z18+AA18) -> 1 | H18: =+G18+(Q18+R18)-(AD18+AE18) -> 0 | I18: =+G18+(Q18+R18+S18+T18)-(AD18+AE18+AF18+AG18) -> 0 | K18: =IFERROR(VLOOKUP($B18,'[1]ACT NUM12'!$H$3:$L$109,2,FALSE),0) -> 1 | L18: =IFERROR(VLOOKUP($B18,'[1]ACT NUM12'!$H$3:$L$109,3,FALSE),0) -> 0 | M18: =IFERROR(VLOOKUP($B18,'[1]ACT NUM12'!$H$3:$L$109,4,FALSE),0) -> 1 | W18: =SUM(K18:V18) -> 2 | X18: =IFERROR(VLOOKUP($B18,'[1]ACT NUM12'!$AA$3:$AE$69,2,FALSE),0) -> 0 | Y18: =IFERROR(VLOOKUP($B18,'[1]ACT NUM12'!$AA$3:$AE$69,3,FALSE),0) -> 1 | Z18: =IFERROR(VLOOKUP($B18,'[1]ACT NUM12'!$AA$3:$AE$69,4,FALSE),0) -> 0 | AJ18: =SUM(X18:AI18) -> 1
A19: 04105-PAIHUANO | B19: 105476-P.S.R. MONTE GRANDE | E19: =IFERROR(VLOOKUP($B19,[1]NUM12!$H$3:$J$151,2,FALSE),0) -> 0 | F19: =+E19+(K19+L19+M19+N19)-(X19+Y19+Z19+AA19) -> 6 | H19: =+G19+(Q19+R19)-(AD19+AE19) -> 0 | I19: =+G19+(Q19+R19+S19+T19)-(AD19+AE19+AF19+AG19) -> 0 | K19: =IFERROR(VLOOKUP($B19,'[1]ACT NUM12'!$H$3:$L$109,2,FALSE),0) -> 2 | L19: =IFERROR(VLOOKUP($B19,'[1]ACT NUM12'!$H$3:$L$109,3,FALSE),0) -> 1 | M19: =IFERROR(VLOOKUP($B19,'[1]ACT NUM12'!$H$3:$L$109,4,FALSE),0) -> 3 | W19: =SUM(K19:V19) -> 6 | X19: =IFERROR(VLOOKUP($B19,'[1]ACT NUM12'!$AA$3:$AE$69,2,FALSE),0) -> 0 | Y19: =IFERROR(VLOOKUP($B19,'[1]ACT NUM12'!$AA$3:$AE$69,3,FALSE),0) -> 0 | Z19: =IFERROR(VLOOKUP($B19,'[1]ACT NUM12'!$AA$3:$AE$69,4,FALSE),0) -> 0 | AJ19: =SUM(X19:AI19) -> 0
A20: 04105-PAIHUANO | B20: 105477-P.S.R. PISCO ELQUI | E20: =IFERROR(VLOOKUP($B20,[1]NUM12!$H$3:$J$151,2,FALSE),0) -> 0 | F20: =+E20+(K20+L20+M20+N20)-(X20+Y20+Z20+AA20) -> 4 | H20: =+G20+(Q20+R20)-(AD20+AE20) -> 0 | I20: =+G20+(Q20+R20+S20+T20)-(AD20+AE20+AF20+AG20) -> 0 | K20: =IFERROR(VLOOKUP($B20,'[1]ACT NUM12'!$H$3:$L$109,2,FALSE),0) -> 0 | L20: =IFERROR(VLOOKUP($B20,'[1]ACT NUM12'!$H$3:$L$109,3,FALSE),0) -> 4 | M20: =IFERROR(VLOOKUP($B20,'[1]ACT NUM12'!$H$3:$L$109,4,FALSE),0) -> 1 | W20: =SUM(K20:V20) -> 5 | X20: =IFERROR(VLOOKUP($B20,'[1]ACT NUM12'!$AA$3:$AE$69,2,FALSE),0) -> 1 | Y20: =IFERROR(VLOOKUP($B20,'[1]ACT NUM12'!$AA$3:$AE$69,3,FALSE),0) -> 0 | Z20: =IFERROR(VLOOKUP($B20,'[1]ACT NUM12'!$AA$3:$AE$69,4,FALSE),0) -> 0 | AJ20: =SUM(X20:AI20) -> 1
A21: TOTAL PAIHUANO | D21: =F21/AK21 -> 0.32318993 | E21: =SUM(E17:E20) -> 250 | F21: =SUM(F17:F20) -> 308 | G21: =SUM(G17:G20) -> 0 | H21: =SUM(H17:H20) -> 0 | I21: =SUM(I17:I20) -> 0 | J21: =SUM(J17:J20) -> 0 | K21: =SUM(K17:K20) -> 18 | L21: =SUM(L17:L20) -> 19 | ... AJ21: =SUM(AJ17:AJ20) -> 2 | AK21: 953
B22: TOTAL | E22: =+E16+E21 -> 475 | F22: =+F16+F21 -> 543 | G22: =+G16+G21 -> 0 | H22: =+H16+H21 -> 0 | I22: =+I16+I21 -> 0 | J22: =+J16+J21 -> 0 | K22: =+K16+K21 -> 23 | L22: =+L16+L21 -> 20 | ... AK22: =+AK16+AK21 -> 1757

Sheet META 13
A1: COMUNA | B1: ESTABLECIMIENTO | C1: CUMPLIMIENTO | D1: Indicador | E1: META 13: COBERTURA DE ATENCIÓN DE ASMA EN POBLACIÓN estimada Y EPOC EN PERSONAS DE 40 AÑOS Y MÁS
E2: NUMERADOR | AK2: DENOMINADOR
E10: Nº de personas con diagnóstico de Asma Bajo Control y de personas con EPOC de 40 años y más bajo control | K10: Ingresos de personas con Asma y EPOC de 40 años en Sala IRA-ERA | X10: Egresos de personas con Asma y EPOC de 40 años en Sala IRA-ERA | AK10: Nº de personas con Asma y EPOC estimada según prevalencia
D11: Resultado | E11: A DIC 2016 | F11: A ABRIL | G11: A JUNIO | H11: A AGOSTO | I11: A OCTBRE | J11: A DICBRE | K11: ENERO | L11: FEBRERO | M11: MARZO | N11: ABRIL | O11: MAYO | P11: JUNIO | Q11: JULIO | R11: AGOSTO | S11: SEPBRE | T11: OCTBRE | U11: NOVBRE | V11: DICBRE | W11: TOTAL | X11: ENERO | Y11: FEBRERO | Z11: MARZO | AA11: ABRIL | AB11: MAYO | AC11: JUNIO | AD11: JULIO | AE11: AGOSTO | AF11: SEPBRE | AG11: OCTBRE | AH11: NOVBRE | AI11: DICBRE | AJ11: TOTAL
A12: 04104-LA HIGUERA | B12: 105314-CES. LA HIGUERA | E12: =IFERROR(VLOOKUP($B12,[1]NUM13!$H$3:$J$144,2,FALSE),0) -> 64 | F12: =+E12+(K12+L12+M12)-(X12+Y12+Z12) -> 64 | H12: =+G12+(Q12+R12)-(AD12+AE12) -> 0 | I12: =+G12+(Q12+R12+S12+T12)-(AD12+AE12+AF12+AG12) -> 0 | K12: =IFERROR(VLOOKUP($B12,'[1]ACT NUM13'!$H$3:$L$66,2,FALSE),0) -> 0 | L12: =IFERROR(VLOOKUP($B12,'[1]ACT NUM13'!$H$3:$L$66,3,FALSE),0) -> 0 | M12: =IFERROR(VLOOKUP($B12,'[1]ACT NUM13'!$H$3:$L$66,4,FALSE),0) -> 0 | W12: =SUM(K12:V12) -> 0 | X12: =IFERROR(VLOOKUP($B12,'[1]ACT NUM13'!$AA$3:$AE$36,2,FALSE),0) -> 0 | Y12: =IFERROR(VLOOKUP($B12,'[1]ACT NUM13'!$AA$3:$AE$36,3,FALSE),0) -> 0 | Z12: =IFERROR(VLOOKUP($B12,'[1]ACT NUM13'!$AA$3:$AE$36,4,FALSE),0) -> 0 | AJ12: =SUM(X12:AI12) -> 0
A13: 04104-LA HIGUERA | B13: 105500-P.S.R. CALETA HORNOS | E13: =IFERROR(VLOOKUP($B13,[1]NUM13!$H$3:$J$144,2,FALSE),0) -> 47 | F13: =+E13+(K13+L13+M13)-(X13+Y13+Z13) -> 48 | H13: =+G13+(Q13+R13)-(AD13+AE13) -> 0 | I13: =+G13+(Q13+R13+S13+T13)-(AD13+AE13+AF13+AG13) -> 0 | K13: =IFERROR(VLOOKUP($B13,'[1]ACT NUM13'!$H$3:$L$66,2,FALSE),0) -> 0 | L13: =IFERROR(VLOOKUP($B13,'[1]ACT NUM13'!$H$3:$L$66,3,FALSE),0) -> 1 | M13: =IFERROR(VLOOKUP($B13,'[1]ACT NUM13'!$H$3:$L$66,4,FALSE),0) -> 0 | W13: =SUM(K13:V13) -> 1 | X13: =IFERROR(VLOOKUP($B13,'[1]ACT NUM13'!$AA$3:$AE$36,2,FALSE),0) -> 0 | Y13: =IFERROR(VLOOKUP($B13,'[1]ACT NUM13'!$AA$3:$AE$36,3,FALSE),0) -> 0 | Z13: =IFERROR(VLOOKUP($B13,'[1]ACT NUM13'!$AA$3:$AE$36,4,FALSE),0) -> 0 | AJ13: =SUM(X13:AI13) -> 0
A14: 04104-LA HIGUERA | B14: 105505-P.S.R. LOS CHOROS | E14: =IFERROR(VLOOKUP($B14,[1]NUM13!$H$3:$J$144,2,FALSE),0) -> 29 | F14: =+E14+(K14+L14+M14)-(X14+Y14+Z14) -> 29 | H14: =+G14+(Q14+R14)-(AD14+AE14) -> 0 | I14: =+G14+(Q14+R14+S14+T14)-(AD14+AE14+AF14+AG14) -> 0 | K14: =IFERROR(VLOOKUP($B14,'[1]ACT NUM13'!$H$3:$L$66,2,FALSE),0) -> 0 | L14: =IFERROR(VLOOKUP($B14,'[1]ACT NUM13'!$H$3:$L$66,3,FALSE),0) -> 0 | M14: =IFERROR(VLOOKUP($B14,'[1]ACT NUM13'!$H$3:$L$66,4,FALSE),0) -> 0 | W14: =SUM(K14:V14) -> 0 | X14: =IFERROR(VLOOKUP($B14,'[1]ACT NUM13'!$AA$3:$AE$36,2,FALSE),0) -> 0 | Y14: =IFERROR(VLOOKUP($B14,'[1]ACT NUM13'!$AA$3:$AE$36,3,FALSE),0) -> 0 | Z14: =IFERROR(VLOOKUP($B14,'[1]ACT NUM13'!$AA$3:$AE$36,4,FALSE),0) -> 0 | AJ14: =SUM(X14:AI14) -> 0
A15: 04104-LA HIGUERA | B15: 105506-P.S.R. EL TRAPICHE | E15: =IFERROR(VLOOKUP($B15,[1]NUM13!$H$3:$J$144,2,FALSE),0) -> 41 | F15: =+E15+(K15+L15+M15)-(X15+Y15+Z15) -> 41 | H15: =+G15+(Q15+R15)-(AD15+AE15) -> 0 | I15: =+G15+(Q15+R15+S15+T15)-(AD15+AE15+AF15+AG15) -> 0 | K15: =IFERROR(VLOOKUP($B15,'[1]ACT NUM13'!$H$3:$L$66,2,FALSE),0) -> 0 | L15: =IFERROR(VLOOKUP($B15,'[1]ACT NUM13'!$H$3:$L$66,3,FALSE),0) -> 0 | M15: =IFERROR(VLOOKUP($B15,'[1]ACT NUM13'!$H$3:$L$66,4,FALSE),0) -> 0 | W15: =SUM(K15:V15) -> 0 | X15: =IFERROR(VLOOKUP($B15,'[1]ACT NUM13'!$AA$3:$AE$36,2,FALSE),0) -> 0 | Y15: =IFERROR(VLOOKUP($B15,'[1]ACT NUM13'!$AA$3:$AE$36,3,FALSE),0) -> 0 | Z15: =IFERROR(VLOOKUP($B15,'[1]ACT NUM13'!$AA$3:$AE$36,4,FALSE),0) -> 0 | AJ15: =SUM(X15:AI15) -> 0
A16: TOTAL LA HIGUERA | C16: =+D16/Metas!S37 -> 1.0052189 | D16: =+F16/AK16 -> 0.34732824 | E16: =SUM(E12:E15) -> 181 | F16: =SUM(F12:F15) -> 182 | G16: =SUM(G12:G15) -> 0 | H16: =SUM(H12:H15) -> 0 | I16: =SUM(I12:I15) -> 0 | J16: =SUM(J12:J15) -> 0 | K16: =SUM(K12:K15) -> 0 | L16: =SUM(L12:L15) -> 1 | ... V16: =SUM(V12:V15) -> 0 | W16: =SUM(K16:V16) -> 1 | X16: =SUM(X12:X15) -> 0 | Y16: =SUM(Y12:Y15) -> 0 | Z16: =SUM(Z12:Z15) -> 0 | AA16: =SUM(AA12:AA15) -> 0 | AB16: =SUM(AB12:AB15) -> 0 | AC16: =SUM(AC12:AC15) -> 0 | AD16: =SUM(AD12:AD15) -> 0 | AE16: =SUM(AE12:AE15) -> 0 | ... AI16: =SUM(AI12:AI15) -> 0 | AJ16: =SUM(X16:AI16) -> 0 | AK16: 524
A17: 04105-PAIHUANO | B17: 105306-CES. PAIHUANO | E17: =IFERROR(VLOOKUP($B17,[1]NUM13!$H$3:$J$144,2,FALSE),0) -> 24 | F17: =+E17+(K17+L17+M17)-(X17+Y17+Z17) -> 27 | H17: =+G17+(Q17+R17)-(AD17+AE17) -> 0 | I17: =+G17+(Q17+R17+S17+T17)-(AD17+AE17+AF17+AG17) -> 0 | K17: =IFERROR(VLOOKUP($B17,'[1]ACT NUM13'!$H$3:$L$66,2,FALSE),0) -> 1 | L17: =IFERROR(VLOOKUP($B17,'[1]ACT NUM13'!$H$3:$L$66,3,FALSE),0) -> 1 | M17: =IFERROR(VLOOKUP($B17,'[1]ACT NUM13'!$H$3:$L$66,4,FALSE),0) -> 1 | W17: =SUM(K17:V17) -> 3 | X17: =IFERROR(VLOOKUP($B17,'[1]ACT NUM13'!$AA$3:$AE$36,2,FALSE),0) -> 0 | Y17: =IFERROR(VLOOKUP($B17,'[1]ACT NUM13'!$AA$3:$AE$36,3,FALSE),0) -> 0 | Z17: =IFERROR(VLOOKUP($B17,'[1]ACT NUM13'!$AA$3:$AE$36,4,FALSE),0) -> 0 | AJ17: =SUM(X17:AI17) -> 0
A18: 04105-PAIHUANO | B18: 105475-P.S.R. HORCON | E18: =IFERROR(VLOOKUP($B18,[1]NUM13!$H$3:$J$144,2,FALSE),0) -> 2 | F18: =+E18+(K18+L18+M18)-(X18+Y18+Z18) -> 2 | H18: =+G18+(Q18+R18)-(AD18+AE18) -> 0 | I18: =+G18+(Q18+R18+S18+T18)-(AD18+AE18+AF18+AG18) -> 0 | K18: =IFERROR(VLOOKUP($B18,'[1]ACT NUM13'!$H$3:$L$66,2,FALSE),0) -> 0 | L18: =IFERROR(VLOOKUP($B18,'[1]ACT NUM13'!$H$3:$L$66,3,FALSE),0) -> 0 | M18: =IFERROR(VLOOKUP($B18,'[1]ACT NUM13'!$H$3:$L$66,4,FALSE),0) -> 0 | W18: =SUM(K18:V18) -> 0 | X18: =IFERROR(VLOOKUP($B18,'[1]ACT NUM13'!$AA$3:$AE$36,2,FALSE),0) -> 0 | Y18: =IFERROR(VLOOKUP($B18,'[1]ACT NUM13'!$AA$3:$AE$36,3,FALSE),0) -> 0 | Z18: =IFERROR(VLOOKUP($B18,'[1]ACT NUM13'!$AA$3:$AE$36,4,FALSE),0) -> 0 | AJ18: =SUM(X18:AI18) -> 0
A19: 04105-PAIHUANO | B19: 105476-P.S.R. MONTE GRANDE | E19: =IFERROR(VLOOKUP($B19,[1]NUM13!$H$3:$J$144,2,FALSE),0) -> 1 | F19: =+E19+(K19+L19+M19)-(X19+Y19+Z19) -> 1 | H19: =+G19+(Q19+R19)-(AD19+AE19) -> 0 | I19: =+G19+(Q19+R19+S19+T19)-(AD19+AE19+AF19+AG19) -> 0 | K19: =IFERROR(VLOOKUP($B19,'[1]ACT NUM13'!$H$3:$L$66,2,FALSE),0) -> 0 | L19: =IFERROR(VLOOKUP($B19,'[1]ACT NUM13'!$H$3:$L$66,3,FALSE),0) -> 0 | M19: =IFERROR(VLOOKUP($B19,'[1]ACT NUM13'!$H$3:$L$66,4,FALSE),0) -> 0 | W19: =SUM(K19:V19) -> 0 | X19: =IFERROR(VLOOKUP($B19,'[1]ACT NUM13'!$AA$3:$AE$36,2,FALSE),0) -> 0 | Y19: =IFERROR(VLOOKUP($B19,'[1]ACT NUM13'!$AA$3:$AE$36,3,FALSE),0) -> 0 | Z19: =IFERROR(VLOOKUP($B19,'[1]ACT NUM13'!$AA$3:$AE$36,4,FALSE),0) -> 0 | AJ19: =SUM(X19:AI19) -> 0
A20: 04105-PAIHUANO | B20: 105477-P.S.R. PISCO ELQUI | E20: =IFERROR(VLOOKUP($B20,[1]NUM13!$H$3:$J$144,2,FALSE),0) -> 3 | F20: =+E20+(K20+L20+M20)-(X20+Y20+Z20) -> 3 | H20: =+G20+(Q20+R20)-(AD20+AE20) -> 0 | I20: =+G20+(Q20+R20+S20+T20)-(AD20+AE20+AF20+AG20) -> 0 | K20: =IFERROR(VLOOKUP($B20,'[1]ACT NUM13'!$H$3:$L$66,2,FALSE),0) -> 0 | L20: =IFERROR(VLOOKUP($B20,'[1]ACT NUM13'!$H$3:$L$66,3,FALSE),0) -> 0 | M20: =IFERROR(VLOOKUP($B20,'[1]ACT NUM13'!$H$3:$L$66,4,FALSE),0) -> 0 | W20: =SUM(K20:V20) -> 0 | X20: =IFERROR(VLOOKUP($B20,'[1]ACT NUM13'!$AA$3:$AE$36,2,FALSE),0) -> 0 | Y20: =IFERROR(VLOOKUP($B20,'[1]ACT NUM13'!$AA$3:$AE$36,3,FALSE),0) -> 0 | Z20: =IFERROR(VLOOKUP($B20,'[1]ACT NUM13'!$AA$3:$AE$36,4,FALSE),0) -> 0 | AJ20: =SUM(X20:AI20) -> 0
A21: TOTAL PAIHUANO | C21: =+D21/Metas!S36 -> 0.58395711 | D21: =+F21/AK21 -> 0.053140097 | E21: =SUM(E17:E20) -> 30 | F21: =SUM(F17:F20) -> 33 | G21: =SUM(G17:G20) -> 0 | H21: =SUM(H17:H20) -> 0 | I21: =SUM(I17:I20) -> 0 | J21: =SUM(J17:J20) -> 0 | K21: =SUM(K17:K20) -> 1 | L21: =SUM(L17:L20) -> 1 | ... AJ21: =SUM(AJ17:AJ20) -> 0 | AK21: 621
B22: TOTAL

Sheet META 14
A1: COMUNA | B1: ESTABLECIMIENTO | C1: CUMPLIMIENTO | D1: Indicador | E1: META 14 : CAPACITACIÓN A CUIDADORES DE PERSONAS CON DEPENDENCIA CON PAGO DE ESTIPENDIO
E2: NUMERADOR | G2: DENOMINADOR
E10: Nº de cuidadores de personas con dependencia severa con pago de estipendio capacitados | G10: Nº total de cuidadores de personas con dependencia severa con pago de estipendio
D11: Resultado | E11: A JUNIO | F11: A DICBRE | G11: A JUNIO | H11: A DICBRE
A12: 04104-LA HIGUERA | B12: 105314-CES. LA HIGUERA
A13: 04104-LA HIGUERA | B13: 105500-P.S.R. CALETA HORNOS
A14: 04104-LA HIGUERA | B14: 105505-P.S.R. LOS CHOROS
A15: 04104-LA HIGUERA | B15: 105506-P.S.R. EL TRAPICHE
A16: TOTAL LA HIGUERA | D16: =+E16/G16 -> #DIV/0! | E16: =SUM(E12:E15) -> 0 | F16: =SUM(F12:F15) -> 0 | G16: =SUM(G12:G15) -> 0 | H16: =SUM(H12:H15) -> 0
A17: 04105-PAIHUANO | B17: 105306-CES. PAIHUANO
A18: 04105-PAIHUANO | B18: 105475-P.S.R. HORCON
A19: 04105-PAIHUANO | B19: 105476-P.S.R. MONTE GRANDE
A20: 04105-PAIHUANO | B20: 105477-P.S.R. PISCO ELQUI
A21: TOTAL PAIHUANO | D21: =+E21/G21 -> #DIV/0! | E21: =SUM(E17:E20) -> 0 | F21: =SUM(F17:F20) -> 0 | G21: =SUM(G17:G20) -> 0 | H21: =SUM(H17:H20) -> 0
B22: TOTAL

Sheet META 17
A1: COMUNA | B1: ESTABLECIMIENTO | C1: CUMPLIMIENTO | D1: Indicador | E1: META 17: INGRESO PRECOZ A CONTROL DE EMBARAZO
E2: NUMERADOR | R2: DENOMINADOR
E10: Nº de mujeres embarazadas ingresadas antes de las 14 semanas a control | R10: Total de mujeres embarazadas ingresadas a control
D11: Resultado | E11: ENERO | F11: FEBRERO | G11: MARZO | H11: ABRIL | I11: MAYO | J11: JUNIO | K11: JULIO | L11: AGOSTO | M11: SEPBRE | N11: OCTBRE | O11: NOVBRE | P11: DICBRE | Q11: TOTAL | R11: ENERO | S11: FEBRERO | T11: MARZO | U11: ABRIL | V11: MAYO | W11: JUNIO | X11: JULIO | Y11: AGOSTO | Z11: SEPBRE | AA11: OCTBRE | AB11: NOVBRE | AC11: DICBRE | AD11: TOTAL
A12: 04104-LA HIGUERA | B12: 105314-CES. LA HIGUERA | E12: =IFERROR(VLOOKUP($B12,[1]NUM17!$H$3:$L$116,2,FALSE),0) -> 0 | F12: =IFERROR(VLOOKUP($B12,[1]NUM17!$H$3:$L$116,3,FALSE),0) -> 0 | G12: =IFERROR(VLOOKUP($B12,[1]NUM17!$H$3:$L$116,4,FALSE),0) -> 2 | Q12: =SUM(E12:P12) -> 2 | R12: =IFERROR(VLOOKUP($B12,[1]DEN17!$H$3:$L$120,2,FALSE),0) -> 0 | S12: =IFERROR(VLOOKUP($B12,[1]DEN17!$H$3:$L$120,3,FALSE),0) -> 2 | T12: =IFERROR(VLOOKUP($B12,[1]DEN17!$H$3:$L$120,4,FALSE),0) -> 2 | AD12: =SUM(R12:AC12) -> 4
A13: 04104-LA HIGUERA | B13: 105500-P.S.R. CALETA HORNOS | E13: =IFERROR(VLOOKUP($B13,[1]NUM17!$H$3:$L$116,2,FALSE),0) -> 0 | F13: =IFERROR(VLOOKUP($B13,[1]NUM17!$H$3:$L$116,3,FALSE),0) -> 0 | G13: =IFERROR(VLOOKUP($B13,[1]NUM17!$H$3:$L$116,4,FALSE),0) -> 2 | Q13: =SUM(E13:P13) -> 2 | R13: =IFERROR(VLOOKUP($B13,[1]DEN17!$H$3:$L$120,2,FALSE),0) -> 0 | S13: =IFERROR(VLOOKUP($B13,[1]DEN17!$H$3:$L$120,3,FALSE),0) -> 0 | T13: =IFERROR(VLOOKUP($B13,[1]DEN17!$H$3:$L$120,4,FALSE),0) -> 2 | AD13: =SUM(R13:AC13) -> 2
A14: 04104-LA HIGUERA | B14: 105505-P.S.R. LOS CHOROS | E14: =IFERROR(VLOOKUP($B14,[1]NUM17!$H$3:$L$116,2,FALSE),0) -> 0 | F14: =IFERROR(VLOOKUP($B14,[1]NUM17!$H$3:$L$116,3,FALSE),0) -> 1 | G14: =IFERROR(VLOOKUP($B14,[1]NUM17!$H$3:$L$116,4,FALSE),0) -> 0 | Q14: =SUM(E14:P14) -> 1 | R14: =IFERROR(VLOOKUP($B14,[1]DEN17!$H$3:$L$120,2,FALSE),0) -> 0 | S14: =IFERROR(VLOOKUP($B14,[1]DEN17!$H$3:$L$120,3,FALSE),0) -> 1 | T14: =IFERROR(VLOOKUP($B14,[1]DEN17!$H$3:$L$120,4,FALSE),0) -> 0 | AD14: =SUM(R14:AC14) -> 1
A15: 04104-LA HIGUERA | B15: 105506-P.S.R. EL TRAPICHE | E15: =IFERROR(VLOOKUP($B15,[1]NUM17!$H$3:$L$116,2,FALSE),0) -> 1 | F15: =IFERROR(VLOOKUP($B15,[1]NUM17!$H$3:$L$116,3,FALSE),0) -> 2 | G15: =IFERROR(VLOOKUP($B15,[1]NUM17!$H$3:$L$116,4,FALSE),0) -> 1 | Q15: =SUM(E15:P15) -> 4 | R15: =IFERROR(VLOOKUP($B15,[1]DEN17!$H$3:$L$120,2,FALSE),0) -> 1 | S15: =IFERROR(VLOOKUP($B15,[1]DEN17!$H$3:$L$120,3,FALSE),0) -> 2 | T15: =IFERROR(VLOOKUP($B15,[1]DEN17!$H$3:$L$120,4,FALSE),0) -> 1 | AD15: =SUM(R15:AC15) -> 4
A16: TOTAL LA HIGUERA | C16: =+D16/Metas!U37 -> 0.91837672 | D16: =+Q16/AD16 -> 0.81818182 | E16: =SUM(E12:E15) -> 1 | F16: =SUM(F12:F15) -> 3 | G16: =SUM(G12:G15) -> 5 | H16: =SUM(H12:H15) -> 0 | I16: =SUM(I12:I15) -> 0 | J16: =SUM(J12:J15) -> 0 | K16: =SUM(K12:K15) -> 0 | L16: =SUM(L12:L15) -> 0 | ... AD16: =SUM(AD12:AD15) -> 11
A17: 04105-PAIHUANO | B17: 105306-CES. PAIHUANO | E17: =IFERROR(VLOOKUP($B17,[1]NUM17!$H$3:$L$116,2,FALSE),0) -> 2 | F17: =IFERROR(VLOOKUP($B17,[1]NUM17!$H$3:$L$116,3,FALSE),0) -> 2 | G17: =IFERROR(VLOOKUP($B17,[1]NUM17!$H$3:$L$116,4,FALSE),0) -> 0 | Q17: =SUM(E17:P17) -> 4 | R17: =IFERROR(VLOOKUP($B17,[1]DEN17!$H$3:$L$120,2,FALSE),0) -> 2 | S17: =IFERROR(VLOOKUP($B17,[1]DEN17!$H$3:$L$120,3,FALSE),0) -> 2 | T17: =IFERROR(VLOOKUP($B17,[1]DEN17!$H$3:$L$120,4,FALSE),0) -> 0 | AD17: =SUM(R17:AC17) -> 4
A18: 04105-PAIHUANO | B18: 105475-P.S.R. HORCON | E18: =IFERROR(VLOOKUP($B18,[1]NUM17!$H$3:$L$116,2,FALSE),0) -> 1 | F18: =IFERROR(VLOOKUP($B18,[1]NUM17!$H$3:$L$116,3,FALSE),0) -> 0 | G18: =IFERROR(VLOOKUP($B18,[1]NUM17!$H$3:$L$116,4,FALSE),0) -> 1 | Q18: =SUM(E18:P18) -> 2 | R18: =IFERROR(VLOOKUP($B18,[1]DEN17!$H$3:$L$120,2,FALSE),0) -> 1 | S18: =IFERROR(VLOOKUP($B18,[1]DEN17!$H$3:$L$120,3,FALSE),0) -> 0 | T18: =IFERROR(VLOOKUP($B18,[1]DEN17!$H$3:$L$120,4,FALSE),0) -> 1 | AD18: =SUM(R18:AC18) -> 2
A19: 04105-PAIHUANO | B19: 105476-P.S.R. MONTE GRANDE | E19: =IFERROR(VLOOKUP($B19,[1]NUM17!$H$3:$L$116,2,FALSE),0) -> 0 | F19: =IFERROR(VLOOKUP($B19,[1]NUM17!$H$3:$L$116,3,FALSE),0) -> 1 | G19: =IFERROR(VLOOKUP($B19,[1]NUM17!$H$3:$L$116,4,FALSE),0) -> 1 | Q19: =SUM(E19:P19) -> 2 | R19: =IFERROR(VLOOKUP($B19,[1]DEN17!$H$3:$L$120,2,FALSE),0) -> 0 | S19: =IFERROR(VLOOKUP($B19,[1]DEN17!$H$3:$L$120,3,FALSE),0) -> 1 | T19: =IFERROR(VLOOKUP($B19,[1]DEN17!$H$3:$L$120,4,FALSE),0) -> 1 | AD19: =SUM(R19:AC19) -> 2
A20: 04105-PAIHUANO | B20: 105477-P.S.R. PISCO ELQUI | E20: =IFERROR(VLOOKUP($B20,[1]NUM17!$H$3:$L$116,2,FALSE),0) -> 3 | F20: =IFERROR(VLOOKUP($B20,[1]NUM17!$H$3:$L$116,3,FALSE),0) -> 1 | G20: =IFERROR(VLOOKUP($B20,[1]NUM17!$H$3:$L$116,4,FALSE),0) -> 0 | Q20: =SUM(E20:P20) -> 4 | R20: =IFERROR(VLOOKUP($B20,[1]DEN17!$H$3:$L$120,2,FALSE),0) -> 3 | S20: =IFERROR(VLOOKUP($B20,[1]DEN17!$H$3:$L$120,3,FALSE),0) -> 1 | T20: =IFERROR(VLOOKUP($B20,[1]DEN17!$H$3:$L$120,4,FALSE),0) -> 0 | AD20: =SUM(R20:AC20) -> 4
A21: TOTAL PAIHUANO | C21: =+D21/Metas!U36 -> 1.1085246 | D21: =+Q21/AD21 -> 1 | E21: =SUM(E17:E20) -> 6 | F21: =SUM(F17:F20) -> 4 | G21: =SUM(G17:G20) -> 2 | H21: =SUM(H17:H20) -> 0 | I21: =SUM(I17:I20) -> 0 | J21: =SUM(J17:J20) -> 0 | K21: =SUM(K17:K20) -> 0 | L21: =SUM(L17:L20) -> 0 | ... AD21: =SUM(AD17:AD20) -> 12
B22: TOTAL | D22: =+D16+D21 -> 1.8181818 | E22: =+E16+E21 -> 7 | F22: =+F16+F21 -> 7 | G22: =+G16+G21 -> 7 | H22: =+H16+H21 -> 0 | I22: =+I16+I21 -> 0 | J22: =+J16+J21 -> 0 | K22: =+K16+K21 -> 0 | ... AD22: =+AD16+AD21 -> 23

Sheet META 18
A1: COMUNA | B1: ESTABLECIMIENTO | C1: CUMPLIMIENTO | D1: Indicador | E1: META 18 : COBERTURA DE MÉTODOS ANTICONCEPTIVOS EN ADOLESCENTES
E2: NUMERADOR | G2: DENOMINADOR
E10: Nº de adolescentes de 15 a 19 años estimados que usan métodos de regulación de fertilidad (Bajo Control) | G10: Total de adolescentes de 15 a 19 años estimados
D11: Resultado | E11: A JUNIO | F11: A DICBRE
A12: 04104-LA HIGUERA | B12: 105314-CES. LA HIGUERA
A13: 04104-LA HIGUERA | B13: 105500-P.S.R. CALETA HORNOS
A14: 04104-LA HIGUERA | B14: 105505-P.S.R. LOS CHOROS
A15: 04104-LA HIGUERA | B15: 105506-P.S.R. EL TRAPICHE
A16: TOTAL LA HIGUERA | D16: =+E16/G16 -> 0 | E16: =SUM(E12:E15) -> 0 | F16: =SUM(F12:F15) -> 0 | G16: 223
A17: 04105-PAIHUANO | B17: 105306-CES. PAIHUANO
A18: 04105-PAIHUANO | B18: 105475-P.S.R. HORCON
A19: 04105-PAIHUANO | B19: 105476-P.S.R. MONTE GRANDE
A20: 04105-PAIHUANO | B20: 105477-P.S.R. PISCO ELQUI
A21: TOTAL PAIHUANO | D21: =+E21/G21 -> 0 | E21: =SUM(E17:E20) -> 0 | F21: =SUM(F17:F20) -> 0 | G21: 252
B22: TOTAL

Sheet META 19
A1: COMUNA | B1: ESTABLECIMIENTO | C1: CUMPLIMIENTO | D1: Indicador | E1: META 19: COBERTURA EFECTIVA DE TRATAMIENTO EN PERSONAS DE 15 AÑOS Y MAS CON DIABETES MELLITUS 2
E2: NUMERADOR | K2: DENOMINADOR
E10: Nº de personas con DM2 que cumplen Metas de Compensación definidas | G10: Nº de personas con DM 2 de 15 a 79 años con Hb A1c bajo 7% | I10: Nº de personas con DM 2 de 80 y más años con Hb A1c bajo 8% | K10: Nº de diabéticos de 15 y más, esperados según prevalencia
D11: Resultado | E11: A JUNIO | F11: A DICBRE | G11: A JUNIO | H11: A DICBRE | I11: A JUNIO | J11: A DICBRE
A12: 04104-LA HIGUERA | B12: 105314-CES. LA HIGUERA | E12: =+G12+I12 -> 0 | F12: =+H12+J12 -> 0
A13: 04104-LA HIGUERA | B13: 105500-P.S.R. CALETA HORNOS | E13: =+G13+I13 -> 0 | F13: =+H13+J13 -> 0
A14: 04104-LA HIGUERA | B14: 105505-P.S.R. LOS CHOROS | E14: =+G14+I14 -> 0 | F14: =+H14+J14 -> 0
A15: 04104-LA HIGUERA | B15: 105506-P.S.R. EL TRAPICHE | E15: =+G15+I15 -> 0 | F15: =+H15+J15 -> 0
A16: TOTAL LA HIGUERA | D16: =+E16/K16 -> 0 | E16: =SUM(E12:E15) -> 0 | F16: =SUM(F12:F15) -> 0 | G16: =SUM(G12:G15) -> 0 | H16: =SUM(H12:H15) -> 0 | I16: =SUM(I12:I15) -> 0 | J16: =SUM(J12:J15) -> 0 | K16: 636
A17: 04105-PAIHUANO | B17: 105306-CES. PAIHUANO | E17: =+G17+I17 -> 0 | F17: =+H17+J17 -> 0
A18: 04105-PAIHUANO | B18: 105475-P.S.R. HORCON | E18: =+G18+I18 -> 0 | F18: =+H18+J18 -> 0
A19: 04105-PAIHUANO | B19: 105476-P.S.R. MONTE GRANDE | E19: =+G19+I19 -> 0 | F19: =+H19+J19 -> 0
A20: 04105-PAIHUANO | B20: 105477-P.S.R. PISCO ELQUI
A21: TOTAL PAIHUANO | D21: =+E21/K21 -> 0 | E21: =SUM(E17:E20) -> 0 | F21: =SUM(F17:F20) -> 0 | G21: =SUM(G17:G20) -> 0 | H21: =SUM(H17:H20) -> 0 | I21: =SUM(I17:I20) -> 0 | J21: =SUM(J17:J20) -> 0 | K21: 466
B22: TOTAL | D22: =+D16+D21 -> 0 | E22: =+E21+E16 -> 0 | F22: =+F21+F16 -> 0 | G22: =+G21+G16 -> 0 | H22: =+H21+H16 -> 0 | I22: =+I21+I16 -> 0 | J22: =+J21+J16 -> 0

Sheet META 20
A1: COMUNA | B1: ESTABLECIMIENTO | C1: CUMPLIMIENTO | D1: Indicador | E1: META 20: COBERTURA EFECTIVA DE TRATAMIENTO EN PERSONAS DE 15 AÑOS Y MAS CON HIPERTENSION ARTERIAL
E2: NUMERADOR | K2: DENOMINADOR
E10: Nº de personas hipertensas que cumplen Metas de Compensación definidas | G10: Nº de personas hipertensas de 15 a 79 años con PA< 140/90 mm Hg | I10: Nº de personas hipertensas de 80 y más años con PA< 150/90 mm Hg | K10: Nº de Hipertensos de 15 y más, esperados según prevalencia
D11: Resultado | E11: A JUNIO | F11: A DICBRE | G11: A JUNIO | H11: A DICBRE | I11: A JUNIO | J11: A DICBRE
A12: 04104-LA HIGUERA | B12: 105314-CES. LA HIGUERA | E12: =+G12+I12 -> 0 | F12: =+H12+J12 -> 0
A13: 04104-LA HIGUERA | B13: 105500-P.S.R. CALETA HORNOS | E13: =+G13+I13 -> 0 | F13: =+H13+J13 -> 0
A14: 04104-LA HIGUERA | B14: 105505-P.S.R. LOS CHOROS | E14: =+G14+I14 -> 0 | F14: =+H14+J14 -> 0
A15: 04104-LA HIGUERA | B15: 105506-P.S.R. EL TRAPICHE | E15: =+G15+I15 -> 0 | F15: =+H15+J15 -> 0
A16: TOTAL LA HIGUERA | D16: =+E16/K16 -> 0 | E16: =SUM(E12:E15) -> 0 | F16: =SUM(F12:F15) -> 0 | G16: =SUM(G12:G15) -> 0 | H16: =SUM(H12:H15) -> 0 | I16: =SUM(I12:I15) -> 0 | J16: =SUM(J12:J15) -> 0 | K16: 1372
A17: 04105-PAIHUANO | B17: 105306-CES. PAIHUANO | E17: =+G17+I17 -> 0 | F17: =+H17+J17 -> 0
A18: 04105-PAIHUANO | B18: 105475-P.S.R. HORCON | E18: =+G18+I18 -> 0 | F18: =+H18+J18 -> 0
A19: 04105-PAIHUANO | B19: 105476-P.S.R. MONTE GRANDE | E19: =+G19+I19 -> 0 | F19: =+H19+J19 -> 0
A20: 04105-PAIHUANO | B20: 105477-P.S.R. PISCO ELQUI | E20: =+G20+I20 -> 0 | F20: =+H20+J20 -> 0
A21: TOTAL PAIHUANO | D21: =+E21/K21 -> 0 | E21: =SUM(E17:E20) -> 0 | F21: =SUM(F17:F20) -> 0 | G21: =SUM(G17:G20) -> 0 | H21: =SUM(H17:H20) -> 0 | I21: =SUM(I17:I20) -> 0 | J21: =SUM(J17:J20) -> 0 | K21: 892
B22: TOTAL | D22: =+D16+D21 -> 0 | E22: =+E21+E16 -> 0 | F22: =+F21+F16 -> 0 | G22: =+G21+G16 -> 0 | H22: =+H21+H16 -> 0 | I22: =+I21+I16 -> 0 | J22: =+J21+J16 -> 0

Sheet META 21
A1: COMUNA | B1: ESTABLECIMIENTO | C1: CUMPLIMIENTO | D1: Indicador | E1: META 21: PROPORCIÓN DE NIÑAS Y NIÑOS DE 3 AÑOS LIBRE DE CARIES
E2: NUMERADOR | R2: DENOMINADOR
E10: Nº de niñas y niños menores de 3 años con regsitro de CEOD=0 | R10: Nº de niñas y niños menores de 3 años estimados
D11: Resultado | E11: ENERO | F11: FEBRERO | G11: MARZO | H11: ABRIL | I11: MAYO | J11: JUNIO | K11: JULIO | L11: AGOSTO | M11: SEPBRE | N11: OCTBRE | O11: NOVBRE | P11: DICBRE | Q11: TOTAL
A12: 04104-LA HIGUERA | B12: 105314-CES. LA HIGUERA | E12: =IFERROR(VLOOKUP($B12,[1]NUM21!$H$3:$L$93,2,FALSE),0) -> 1 | F12: =IFERROR(VLOOKUP($B12,[1]NUM21!$H$3:$L$93,3,FALSE),0) -> 0 | G12: =IFERROR(VLOOKUP($B12,[1]NUM21!$H$3:$L$93,4,FALSE),0) -> 1 | Q12: =SUM(E12:P12) -> 2
A13: 04104-LA HIGUERA | B13: 105500-P.S.R. CALETA HORNOS | E13: =IFERROR(VLOOKUP($B13,[1]NUM21!$H$3:$L$93,2,FALSE),0) -> 4 | F13: =IFERROR(VLOOKUP($B13,[1]NUM21!$H$3:$L$93,3,FALSE),0) -> 1 | G13: =IFERROR(VLOOKUP($B13,[1]NUM21!$H$3:$L$93,4,FALSE),0) -> 0 | Q13: =SUM(E13:P13) -> 5
A14: 04104-LA HIGUERA | B14: 105505-P.S.R. LOS CHOROS | E14: =IFERROR(VLOOKUP($B14,[1]NUM21!$H$3:$L$93,2,FALSE),0) -> 0 | F14: =IFERROR(VLOOKUP($B14,[1]NUM21!$H$3:$L$93,3,FALSE),0) -> 0 | G14: =IFERROR(VLOOKUP($B14,[1]NUM21!$H$3:$L$93,4,FALSE),0) -> 1 | Q14: =SUM(E14:P14) -> 1
A15: 04104-LA HIGUERA | B15: 105506-P.S.R. EL TRAPICHE | E15: =IFERROR(VLOOKUP($B15,[1]NUM21!$H$3:$L$93,2,FALSE),0) -> 0 | F15: =IFERROR(VLOOKUP($B15,[1]NUM21!$H$3:$L$93,3,FALSE),0) -> 0 | G15: =IFERROR(VLOOKUP($B15,[1]NUM21!$H$3:$L$93,4,FALSE),0) -> 1 | Q15: =SUM(E15:P15) -> 1
A16: TOTAL LA HIGUERA | C16: =IF(Q16<>0,"SI", "NO") -> SI | D16: =+Q16/R16 -> 0.053254438 | E16: =SUM(E12:E15) -> 5 | F16: =SUM(F12:F15) -> 1 | G16: =SUM(G12:G15) -> 3 | H16: =SUM(H12:H15) -> 0 | I16: =SUM(I12:I15) -> 0 | J16: =SUM(J12:J15) -> 0 | K16: =SUM(K12:K15) -> 0 | L16: =SUM(L12:L15) -> 0 | ... Q16: =SUM(Q12:Q15) -> 9 | R16: 169
A17: 04105-PAIHUANO | B17: 105306-CES. PAIHUANO | E17: =IFERROR(VLOOKUP($B17,[1]NUM21!$H$3:$L$93,2,FALSE),0) -> 0 | F17: =IFERROR(VLOOKUP($B17,[1]NUM21!$H$3:$L$93,3,FALSE),0) -> 0 | G17: =IFERROR(VLOOKUP($B17,[1]NUM21!$H$3:$L$93,4,FALSE),0) -> 1 | Q17: =SUM(E17:P17) -> 1
A18: 04105-PAIHUANO | B18: 105475-P.S.R. HORCON | E18: =IFERROR(VLOOKUP($B18,[1]NUM21!$H$3:$L$93,2,FALSE),0) -> 0 | F18: =IFERROR(VLOOKUP($B18,[1]NUM21!$H$3:$L$93,3,FALSE),0) -> 0 | G18: =IFERROR(VLOOKUP($B18,[1]NUM21!$H$3:$L$93,4,FALSE),0) -> 0 | Q18: =SUM(E18:P18) -> 0
A19: 04105-PAIHUANO | B19: 105476-P.S.R. MONTE GRANDE | E19: =IFERROR(VLOOKUP($B19,[1]NUM21!$H$3:$L$93,2,FALSE),0) -> 0 | F19: =IFERROR(VLOOKUP($B19,[1]NUM21!$H$3:$L$93,3,FALSE),0) -> 0 | G19: =IFERROR(VLOOKUP($B19,[1]NUM21!$H$3:$L$93,4,FALSE),0) -> 0 | Q19: =SUM(E19:P19) -> 0
A20: 04105-PAIHUANO | B20: 105477-P.S.R. PISCO ELQUI | E20: =IFERROR(VLOOKUP($B20,[1]NUM21!$H$3:$L$93,2,FALSE),0) -> 0 | F20: =IFERROR(VLOOKUP($B20,[1]NUM21!$H$3:$L$93,3,FALSE),0) -> 0 | G20: =IFERROR(VLOOKUP($B20,[1]NUM21!$H$3:$L$93,4,FALSE),0) -> 0 | Q20: =SUM(E20:P20) -> 0
A21: TOTAL PAIHUANO | C21: =IF(Q21<>0,"SI", "NO") -> SI | D21: =+Q21/R21 -> 0.0050505051 | E21: =SUM(E17:E20) -> 0 | F21: =SUM(F17:F20) -> 0 | G21: =SUM(G17:G20) -> 1 | H21: =SUM(H17:H20) -> 0 | I21: =SUM(I17:I20) -> 0 | J21: =SUM(J17:J20) -> 0 | K21: =SUM(K17:K20) -> 0 | L21: =SUM(L17:L20) -> 0 | ... Q21: =SUM(Q17:Q20) -> 1 | R21: 198
B22: TOTAL | D22: =+D16+D21 -> 0.058304943 | E22: =+E16+E21 -> 5 | F22: =+F16+F21 -> 1 | G22: =+G16+G21 -> 4 | H22: =+H16+H21 -> 0 | I22: =+I16+I21 -> 0 | J22: =+J16+J21 -> 0 | K22: =+K16+K21 -> 0 | ... R22: =+R16+R21 -> 367

Sheet Metas
A1: METAS ANUALES
E2: CODIGO COMUNA | F2: TIPO | G2: METAS COMPONENTE ACTIVIDAD GENERAL | AE2: 2016 | AF2: 2016 | AG2: 2017 | AH2: 2017 | AK2: A ABRIL | AM2: A JULIO | AO2: A OCTUBRE | AQ2: A DICIEMBRE
G3: META Nº 2 | H3: META Nº 3.1 | I3: META Nº 5 | J3: META Nº 6 | K3: META Nº 7 | L3: META Nº 8.1 | M3: META Nº 8.2 | N3: META Nº 8.3 | O3: META Nº9 | P3: META Nº10 | Q3: META Nº11 | R3: META Nº12 | S3: META Nº13 | T3: META Nº14 | U3: META Nº17 | V3: META Nº18 | W3: META Nº19 | X3: META Nº20 | Y3: META Nº21 | AE3: META Nº12 | AF3: META Nº13 | AG3: META Nº12 | AH3: META Nº13 | AI3: DIF 2017-2016 | AK3: META Nº12 | AL3: META Nº13 | AM3: META Nº12 | AN3: META Nº13 | AO3: META Nº12 | AP3: META Nº13 | AQ3: META Nº12 | AR3: META Nº13
A4: Nº | B4: SERVICIOS DE SALUD | C4: Nº | D4: COMUNA | G4: Porcentaje de familias evaluadas según riesgo familiar | H4: Gestión de reclamos en APS con enfoque participativo (porcentaje de reclamos respondidos dentro de plazo) | I4: Tasa de consultas de morbilidad y de controles médicos, por habitante año | J4: SIC derivadas desde APS al Nivel Secundario | K4: Tasa de Visita Domiciliaria Integral | L4: EMP hombres 20 a 64 años | M4: EMP mujeres de 45 a 64 años | N4: EMP hombres y mujeres de 65 y mas años | O4: Cobertura de Evaluación del desarrollo Psicomotor en niños y niñas de 12 a 23 meses bajo control. | P4: Cobertura de control de salud integral a adolescentes de 10 a 14 años | Q4: Proporción de menores de 20 años con alta odontologica total | R4: Cobertura de atención Integral a personas de 5 y más años con trastornos mentales | S4: Cobertura de atención de Asma en población general y EPOC en personas de 40 y más años | T4: Cobertura de capacitación a cuidadores de personas con dependencia severa con pago de estipendio | U4: Ingreso precoz de mujeres a control de embarazo | V4: Cobertura de método anticonceptivos en adolescentes de 15 a 19 años estimados que usan métodos de regulación de la fertilidad | W4: Cobertura efectiva de Tratamiento en personas con Diabetes Mellitus 2, de 15 y más años | X4: Cobertura efectiva de Tratamiento en personas de 15 y más años, con Hipertensión Arterial | Y4: Proporción de niñas y niños menores de 3 años libre de caries en población estimada | AE4: Cobertura de atención Integral a personas de 5 y más años con trastornos mentales | AF4: Cobertura de atención de Asma en población general y EPOC en personas de 40 y más años | AG4: Cobertura de atención Integral a personas de 5 y más años con trastornos mentales | AH4: Cobertura de atención de Asma en población general y EPOC en personas de 40 y más años | AI4: Cobertura de atención Integral a personas de 5 y más años con trastornos mentales | AJ4: Cobertura de atención de Asma en población general y EPOC en personas de 40 y más años | AK4: Cobertura de atención Integral a personas de 5 y más años con trastornos mentales | AL4: Cobertura de atención de Asma en población general y EPOC en personas de 40 y más años | AM4: Cobertura de atención Integral a personas de 5 y más años con trastornos mentales | AN4: Cobertura de atención de Asma en población general y EPOC en personas de 40 y más años | AO4: Cobertura de atención Integral a personas de 5 y más años con trastornos mentales | AP4: Cobertura de atención de Asma en población general y EPOC en personas de 40 y más años | AQ4: Cobertura de atención Integral a personas de 5 y más años con trastornos mentales | AR4: Cobertura de atención de Asma en población general y EPOC en personas de 40 y más años
G5: 0.15 | H5: 0.97 | I5: 1 | J5: 0.1 | K5: 0.22 | L5: 0.2 | M5: 0.25 | N5: 0.55 | O5: 0.94 | P5: 0.15 | Q5: 0.24 | R5: 0.17 | S5: 0.22 | T5: 0.9 | U5: 0.9 | V5: 0.19 | W5: 0.29 | X5: 0.54
A6: 17 | B6: COQUIMBO | C6: 5 | D6: PAIHUANO | E6: 4202 | F6: COSTO FIJO | G6: 0.0777 | H6: 0.98 | I6: 1.2 | J6: 0.1 | K6: 0.38 | L6: 0.1405 | M6: 0.2404 | N6: 0.553 | O6: 0.94 | P6: 0.5054 | Q6: 0.24 | R6: 0.2361 | S6: 0.2206 | T6: 0.909 | U6: 0.9021 | V6: 0.1905 | W6: 0.2918 | X6: 0.4507 | AE6: 0.2635 | AF6: 0.0478 | AG6: 0.2361 | AH6: 0.2206 | AI6: =AG6-AE6 -> -0.0274 | AJ6: =+AH6-AF6 -> 0.1728 | AK6: =+AE6+(AI6/4) -> 0.25665 | AL6: =+AF6+(AJ6/4) -> 0.091 | AM6: =+AE6+(AI6/2) -> 0.2498 | AN6: =+AF6+(AJ6/2) -> 0.1342 | AO6: =+AE6+(AI6*0.75) -> 0.24295 | AP6: =+AF6+(AJ6*0.75) -> 0.1774 | AQ6: =+AE6+AI6 -> 0.2361 | AR6: =+AF6+AJ6 -> 0.2206
A7: 18 | B7: COQUIMBO | C7: 5 | D7: LA HIGUERA | E7: 4302 | F7: COSTO FIJO | G7: 0.0753 | H7: 0.98 | I7: 1.1 | J7: 0.1 | K7: 0.31 | L7: 0.1006 | M7: 0.2425 | N7: 0.5508 | O7: 0.94 | P7: 0.1538 | Q7: 0.24 | R7: 0.3109 | S7: 0.3492 | T7: 0.916 | U7: 0.8909 | V7: 0.1928 | W7: 0.1903 | X7: 0.3703 | AE7: 0.2801 | AF7: 0.3443 | AG7: 0.3109 | AH7: 0.3492 | AI7: =AG7-AE7 -> 0.0308 | AJ7: =+AH7-AF7 -> 0.0049 | AK7: =+AE7+(AI7/4) -> 0.2878 | AL7: =+AF7+(AJ7/4) -> 0.345525 | AM7: =+AE7+(AI7/2) -> 0.2955 | AN7: =+AF7+(AJ7/2) -> 0.34675 | AO7: =+AE7+(AI7*0.75) -> 0.3032 | AP7: =+AF7+(AJ7*0.75) -> 0.347975 | AQ7: =+AE7+AI7 -> 0.3109 | AR7: =+AF7+AJ7 -> 0.3492
AI8: =AG8-AE8 -> 0 | AM8: =+AF8+(AJ8/2) -> 0
AI9: =AG9-AE9 -> 0 | AM9: =+AF9+(AJ9/2) -> 0
AI10: =AG10-AE10 -> 0 | AM10: =+AF10+(AJ10/2) -> 0
A11: METAS A MARZO | AI11: =AG11-AE11 -> 0 | AM11: =+AF11+(AJ11/2) -> 0
E12: CODIGO COMUNA | F12: TIPO | G12: METAS COMPONENTE ACTIVIDAD GENERAL | AI12: =AG12-AE12 -> 0 | AM12: =+AF12+(AJ12/2) -> 0
G13: META Nº1 | H13: META Nº2 | I13: META Nº3 | J13: META Nº4 | K13: META Nº5 | L13: META Nº6 | M13: META Nº7 | N13: META Nº8 | O13: META Nº9 | P13: META Nº10 | Q13: META Nº11 | R13: META Nº12 | S13: META Nº13 | T13: META Nº11 | U13: META Nº12 | V13: META Nº13 | W13: META Nº11 | X13: META Nº12 | Y13: META Nº13 | AE13: META Nº12 | AF13: META Nº13 | AI13: =AG13-AE13 -> #VALUE! | AM13: =+AF13+(AJ13/2) -> #VALUE!
A14: Nº | B14: SERVICIOS DE SALUD | C14: Nº | D14: COMUNA | G14: EMP hombres 20 a 44 años (25%) | H14: EMP mujeres de 45 a 64 años (26%) | I14: EMP 65 y mas años (55%) | J14: Control embarazada (87%) | K14: Alta odontologica menores de 20 años (24%) | L14: Gestion de reclamos(97%) | M14: Cobertura DM2 en personas de 15 y mas años (55%) | N14: Cobertutra HTA en personas de 15 y mas años (71%) | O14: Cobertura de Evaluación del desarrollo Psicomotor de niños/as de 12 a 23 meses bajo control. (94%) | P14: Visita domiciliaria integral (0,22) | Q14: Cobertura de Atención de Asma en Población general y EPOC en personas de 40 años y más (22%) | R14: Cobertura de Atención Integral de trastornos mentales en personas de 5 y más años (17%) | S14: Cobertura de control de salud integral a adolescentes de 10 a 14 años | T14: Cobertura de Atención de Asma en Población general y EPOC en personas de 40 años y más (22%) | U14: Cobertura de Atención Integral de trastornos mentales en personas de 5 y más años (17%) | V14: Cobertura de control de salud integral a adolescentes de 10 a 14 años | W14: Cobertura de Atención de Asma en Población general y EPOC en personas de 40 años y más (22%) | X14: Cobertura de Atención Integral de trastornos mentales en personas de 5 y más años (17%) | Y14: Cobertura de control de salud integral a adolescentes de 10 a 14 años | AE14: Cobertura de Atención Integral de trastornos mentales en personas de 5 y más años (17%) | AF14: Cobertura de control de salud integral a adolescentes de 10 a 14 años | AI14: =AG14-AE14 -> #VALUE! | AM14: =+AF14+(AJ14/2) -> #VALUE!
G15: 0.1 | H15: 0.1 | I15: 0.1 | J15: 1 | K15: 0.1 | L15: 1 | M15: 1 | N15: 1 | O15: 0.1 | P15: 0.1 | S15: 0.1 | V15: 0.1 | Y15: 0.1 | AF15: 0.1 | AI15: =AG15-AE15 -> 0 | AM15: =+AF15+(AJ15/2) -> 0.1
A16: 17 | B16: COQUIMBO | C16: 5 | D16: CANELA | E16: 4202 | F16: RURAL | G16: =+G6*$G$15 -> 0.00777 | H16: =+H6*$H$15 -> 0.098 | I16: =+I6*$I$15 -> 0.12 | J16: =+J6*$J$15 -> 0.1 | K16: =+K6*$K$15 -> 0.038 | L16: =+L6*$L$15 -> 0.1405 | M16: =+M6*$M$15 -> 0.2404 | N16: =+N6*$N$15 -> 0.553 | O16: =+O6*$O$15 -> 0.094 | P16: =+P6*$P$15 -> 0.05054 | Q16: 0.1405 | R16: 0.1125 | S16: =+S6*$S$15 -> 0.02206 | T16: 0.1405 | U16: 0.1125 | V16: =+V6*$S$15 -> 0.01905 | W16: 0.1405 | X16: 0.1125 | Y16: =+Y6*$S$15 -> 0 | AE16: 0.1125 | AF16: =+AF6*$S$15 -> 0.00478 | AI16: =AG16-AE16 -> -0.1125 | AM16: =+AF16+(AJ16/2) -> 0.00478
A17: 18 | B17: COQUIMBO | C17: 5 | D17: COMBARBALA | E17: 4302 | F17: RURAL | G17: =+G7*$G$15 -> 0.00753 | H17: =+H7*$H$15 -> 0.098 | I17: =+I7*$I$15 -> 0.11 | J17: =+J7*$J$15 -> 0.1 | K17: =+K7*$K$15 -> 0.031 | L17: =+L7*$L$15 -> 0.1006 | M17: =+M7*$M$15 -> 0.2425 | N17: =+N7*$N$15 -> 0.5508 | O17: =+O7*$O$15 -> 0.094 | P17: =+P7*$P$15 -> 0.01538 | Q17: 0.1465 | R17: 0.155 | S17: =+S7*$S$15 -> 0.03492 | T17: 0.1465 | U17: 0.155 | V17: =+V7*$S$15 -> 0.01928 | W17: 0.1465 | X17: 0.155 | Y17: =+Y7*$S$15 -> 0 | AE17: 0.155 | AF17: =+AF7*$S$15 -> 0.03443 | AI17: =AG17-AE17 -> -0.155 | AM17: =+AF17+(AJ17/2) -> 0.03443
A18: 19 | B18: COQUIMBO | C18: 5 | D18: COQUIMBO | E18: 4102 | F18: URBANA | G18: =+#REF!*$G$15 -> #REF! | H18: =+#REF!*$H$15 -> #REF! | I18: =+#REF!*$I$15 -> #REF! | J18: =+#REF!*$J$15 -> #REF! | K18: =+#REF!*$K$15 -> #REF! | L18: =+#REF!*$L$15 -> #REF! | M18: =+#REF!*$M$15 -> #REF! | N18: =+#REF!*$N$15 -> #REF! | O18: =+#REF!*$O$15 -> #REF! | P18: =+#REF!*$P$15 -> #REF! | Q18: 0.1465 | R18: 0.17 | S18: =+#REF!*$S$15 -> #REF! | T18: 0.1465 | U18: 0.17 | V18: =+#REF!*$S$15 -> #REF! | W18: 0.1465 | X18: 0.17 | Y18: =+#REF!*$S$15 -> #REF! | AE18: 0.17 | AF18: =+#REF!*$S$15 -> #REF! | AI18: =AG18-AE18 -> -0.17 | AM18: =+AF18+(AJ18/2) -> #REF!
A19: 20 | B19: COQUIMBO | C19: 5 | D19: ILLAPEL | E19: 4201 | F19: RURAL | G19: =+#REF!*$G$15 -> #REF! | H19: =+#REF!*$H$15 -> #REF! | I19: =+#REF!*$I$15 -> #REF! | J19: =+#REF!*$J$15 -> #REF! | K19: =+#REF!*$K$15 -> #REF! | L19: =+#REF!*$L$15 -> #REF! | M19: =+#REF!*$M$15 -> #REF! | N19: =+#REF!*$N$15 -> #REF! | O19: =+#REF!*$O$15 -> #REF! | P19: =+#REF!*$P$15 -> #REF! | Q19: 0.1375 | R19: 0.14 | S19: =+#REF!*$S$15 -> #REF! | T19: 0.1375 | U19: 0.14 | V19: =+#REF!*$S$15 -> #REF! | W19: 0.1375 | X19: 0.14 | Y19: =+#REF!*$S$15 -> #REF! | AE19: 0.14 | AF19: =+#REF!*$S$15 -> #REF! | AI19: =AG19-AE19 -> -0.14 | AM19: =+AF19+(AJ19/2) -> #REF!
A20: 21 | B20: COQUIMBO | C20: 5 | D20: LA SERENA | E20: 4101 | F20: URBANA | G20: =+#REF!*$G$15 -> #REF! | H20: =+#REF!*$H$15 -> #REF! | I20: =+#REF!*$I$15 -> #REF! | J20: =+#REF!*$J$15 -> #REF! | K20: =+#REF!*$K$15 -> #REF! | L20: =+#REF!*$L$15 -> #REF! | M20: =+#REF!*$M$15 -> #REF! | N20: =+#REF!*$N$15 -> #REF! | O20: =+#REF!*$O$15 -> #REF! | P20: =+#REF!*$P$15 -> #REF! | Q20: 0.1375 | R20: 0.1475 | S20: =+#REF!*$S$15 -> #REF! | T20: 0.1375 | U20: 0.1475 | V20: =+#REF!*$S$15 -> #REF! | W20: 0.1375 | X20: 0.1475 | Y20: =+#REF!*$S$15 -> #REF! | AE20: 0.1475 | AF20: =+#REF!*$S$15 -> #REF! | AI20: =AG20-AE20 -> -0.1475 | AM20: =+AF20+(AJ20/2) -> #REF!
A21: 22 | B21: COQUIMBO | C21: 5 | D21: LOS VILOS | E21: 4203 | F21: RURAL | G21: =+#REF!*$G$15 -> #REF! | H21: =+#REF!*$H$15 -> #REF! | I21: =+#REF!*$I$15 -> #REF! | J21: =+#REF!*$J$15 -> #REF! | K21: =+#REF!*$K$15 -> #REF! | L21: =+#REF!*$L$15 -> #REF! | M21: =+#REF!*$M$15 -> #REF! | N21: =+#REF!*$N$15 -> #REF! | O21: =+#REF!*$O$15 -> #REF! | P21: =+#REF!*$P$15 -> #REF! | Q21: 0.1375 | R21: 0.175 | S21: =+#REF!*$S$15 -> #REF! | T21: 0.1375 | U21: 0.175 | V21: =+#REF!*$S$15 -> #REF! | W21: 0.1375 | X21: 0.175 | Y21: =+#REF!*$S$15 -> #REF! | AE21: 0.175 | AF21: =+#REF!*$S$15 -> #REF! | AI21: =AG21-AE21 -> -0.175 | AM21: =+AF21+(AJ21/2) -> #REF!
A22: 23 | B22: COQUIMBO | C22: 5 | D22: MONTE PATRIA | E22: 4303 | F22: RURAL | G22: =+#REF!*$G$15 -> #REF! | H22: =+#REF!*$H$15 -> #REF! | I22: =+#REF!*$I$15 -> #REF! | J22: =+#REF!*$J$15 -> #REF! | K22: =+#REF!*$K$15 -> #REF! | L22: =+#REF!*$L$15 -> #REF! | M22: =+#REF!*$M$15 -> #REF! | N22: =+#REF!*$N$15 -> #REF! | O22: =+#REF!*$O$15 -> #REF! | P22: =+#REF!*$P$15 -> #REF! | Q22: 0.1375 | R22: 0.1475 | S22: =+#REF!*$S$15 -> #REF! | T22: 0.1375 | U22: 0.1475 | V22: =+#REF!*$S$15 -> #REF! | W22: 0.1375 | X22: 0.1475 | Y22: =+#REF!*$S$15 -> #REF! | AE22: 0.1475 | AF22: =+#REF!*$S$15 -> #REF! | AI22: =AG22-AE22 -> -0.1475 | AM22: =+AF22+(AJ22/2) -> #REF!
A23: 24 | B23: COQUIMBO | C23: 5 | D23: OVALLE | E23: 4301 | F23: RURAL | G23: =+#REF!*$G$15 -> #REF! | H23: =+#REF!*$H$15 -> #REF! | I23: =+#REF!*$I$15 -> #REF! | J23: =+#REF!*$J$15 -> #REF! | K23: =+#REF!*$K$15 -> #REF! | L23: =+#REF!*$L$15 -> #REF! | M23: =+#REF!*$M$15 -> #REF! | N23: =+#REF!*$N$15 -> #REF! | O23: =+#REF!*$O$15 -> #REF! | P23: =+#REF!*$P$15 -> #REF! | Q23: 0.1375 | R23: 0.1625 | S23: =+#REF!*$S$15 -> #REF! | T23: 0.1375 | U23: 0.1625 | V23: =+#REF!*$S$15 -> #REF! | W23: 0.1375 | X23: 0.1625 | Y23: =+#REF!*$S$15 -> #REF! | AE23: 0.1625 | AF23: =+#REF!*$S$15 -> #REF! | AI23: =AG23-AE23 -> -0.1625 | AM23: =+AF23+(AJ23/2) -> #REF!
A24: 25 | B24: COQUIMBO | C24: 5 | D24: PUNITAQUI | E24: 4304 | F24: RURAL | G24: =+#REF!*$G$15 -> #REF! | H24: =+#REF!*$H$15 -> #REF! | I24: =+#REF!*$I$15 -> #REF! | J24: =+#REF!*$J$15 -> #REF! | K24: =+#REF!*$K$15 -> #REF! | L24: =+#REF!*$L$15 -> #REF! | M24: =+#REF!*$M$15 -> #REF! | N24: =+#REF!*$N$15 -> #REF! | O24: =+#REF!*$O$15 -> #REF! | P24: =+#REF!*$P$15 -> #REF! | Q24: 0.16 | R24: 0.1325 | S24: =+#REF!*$S$15 -> #REF! | T24: 0.16 | U24: 0.1325 | V24: =+#REF!*$S$15 -> #REF! | W24: 0.16 | X24: 0.1325 | Y24: =+#REF!*$S$15 -> #REF! | AE24: 0.1325 | AF24: =+#REF!*$S$15 -> #REF! | AI24: =AG24-AE24 -> -0.1325 | AM24: =+AF24+(AJ24/2) -> #REF!
A25: 26 | B25: COQUIMBO | C25: 5 | D25: RIO HURTADO | E25: 4305 | F25: RURAL | G25: =+#REF!*$G$15 -> #REF! | H25: =+#REF!*$H$15 -> #REF! | I25: =+#REF!*$I$15 -> #REF! | J25: =+#REF!*$J$15 -> #REF! | K25: =+#REF!*$K$15 -> #REF! | L25: =+#REF!*$L$15 -> #REF! | M25: =+#REF!*$M$15 -> #REF! | N25: =+#REF!*$N$15 -> #REF! | O25: =+#REF!*$O$15 -> #REF! | P25: =+#REF!*$P$15 -> #REF! | Q25: 0.2525 | R25: 0.2075 | S25: =+#REF!*$S$15 -> #REF! | T25: 0.2525 | U25: 0.2075 | V25: =+#REF!*$S$15 -> #REF! | W25: 0.2525 | X25: 0.2075 | Y25: =+#REF!*$S$15 -> #REF! | AE25: 0.2075 | AF25: =+#REF!*$S$15 -> #REF! | AI25: =AG25-AE25 -> -0.2075 | AM25: =+AF25+(AJ25/2) -> #REF!
A26: 27 | B26: COQUIMBO | C26: 5 | D26: SALAMANCA | E26: 4204 | F26: RURAL | G26: =+#REF!*$G$15 -> #REF! | H26: =+#REF!*$H$15 -> #REF! | I26: =+#REF!*$I$15 -> #REF! | J26: =+#REF!*$J$15 -> #REF! | K26: =+#REF!*$K$15 -> #REF! | L26: =+#REF!*$L$15 -> #REF! | M26: =+#REF!*$M$15 -> #REF! | N26: =+#REF!*$N$15 -> #REF! | O26: =+#REF!*$O$15 -> #REF! | P26: =+#REF!*$P$15 -> #REF! | Q26: 0.1375 | R26: 0.1825 | S26: =+#REF!*$S$15 -> #REF! | T26: 0.1375 | U26: 0.1825 | V26: =+#REF!*$S$15 -> #REF! | W26: 0.1375 | X26: 0.1825 | Y26: =+#REF!*$S$15 -> #REF! | AE26: 0.1825 | AF26: =+#REF!*$S$15 -> #REF! | AI26: =AG26-AE26 -> -0.1825 | AM26: =+AF26+(AJ26/2) -> #REF!
A27: 28 | B27: COQUIMBO | C27: 5 | D27: VICUÑA | E27: 4106 | F27: RURAL | G27: =+#REF!*$G$15 -> #REF! | H27: =+#REF!*$H$15 -> #REF! | I27: =+#REF!*$I$15 -> #REF! | J27: =+#REF!*$J$15 -> #REF! | K27: =+#REF!*$K$15 -> #REF! | L27: =+#REF!*$L$15 -> #REF! | M27: =+#REF!*$M$15 -> #REF! | N27: =+#REF!*$N$15 -> #REF! | O27: =+#REF!*$O$15 -> #REF! | P27: =+#REF!*$P$15 -> #REF! | Q27: 0.1375 | R27: 0.185 | S27: =+#REF!*$S$15 -> #REF! | T27: 0.1375 | U27: 0.185 | V27: =+#REF!*$S$15 -> #REF! | W27: 0.1375 | X27: 0.185 | Y27: =+#REF!*$S$15 -> #REF! | AE27: 0.185 | AF27: =+#REF!*$S$15 -> #REF! | AI27: =AG27-AE27 -> -0.185 | AM27: =+AF27+(AJ27/2) -> #REF!
AI28: =AG28-AE28 -> 0 | AM28: =+AF28+(AJ28/2) -> 0
AI29: =AG29-AE29 -> 0 | AM29: =+AF29+(AJ29/2) -> 0
AI30: =AG30-AE30 -> 0 | AM30: =+AF30+(AJ30/2) -> 0
A31: METAS A ABRIL
E32: CODIGO COMUNA | F32: TIPO | G32: METAS COMPONENTE ACTIVIDAD GENERAL
G33: META Nº 2 | H33: META Nº 3.1 | I33: META Nº 5 | J33: META Nº 6 | K33: META Nº 7 | L33: META Nº 8.1 | M33: META Nº 8.2 | N33: META Nº 8.3 | O33: META Nº9 | P33: META Nº10 | Q33: META Nº11 | R33: META Nº12 | S33: META Nº13 | T33: META Nº14 | U33: META Nº17 | V33: META Nº18 | W33: META Nº19 | X33: META Nº20 | Y33: META Nº21 | AE33: META Nº12 | AF33: META Nº13
A34: Nº | B34: SERVICIOS DE SALUD | C34: Nº | D34: COMUNA | G34: Porcentaje de familias evaluadas según riesgo familiar | H34: Gestión de reclamos en APS con enfoque participativo (porcentaje de reclamos respondidos dentro de plazo) | I34: Tasa de consultas de morbilidad y de controles médicos, por habitante año | J34: SIC derivadas desde APS al Nivel Secundario | K34: Tasa de Visita Domiciliaria Integral | L34: EMP hombres 20 a 64 años | M34: EMP mujeres de 45 a 64 años | N34: EMP hombres y mujeres de 65 y mas años | O34: Cobertura de Evaluación del desarrollo Psicomotor en niños y niñas de 12 a 23 meses bajo control. | P34: Cobertura de control de salud integral a adolescentes de 10 a 14 años | Q34: Proporción de menores de 20 años con alta odontologica total | R34: Cobertura de atención Integral a personas de 5 y más años con trastornos mentales | S34: Cobertura de atención de Asma en población general y EPOC en personas de 40 y más años | T34: Cobertura de capacitación a cuidadores de personas con dependencia severa con pago de estipendio | U34: Ingreso precoz de mujeres a control de embarazo | V34: Cobertura de método anticonceptivos en adolescentes de 15 a 19 años estimados que usan métodos de regulación de la fertilidad | W34: Cobertura efectiva de Tratamiento en personas con Diabetes Mellitus 2, de 15 y más años | X34: Cobertura efectiva de Tratamiento en personas de 15 y más años, con Hipertensión Arterial | Y34: Proporción de niñas y niños menores de 3 años libre de caries en población estimada | AE34: Cobertura de atención Integral a personas de 5 y más años con trastornos mentales | AF34: Cobertura de atención de Asma en población general y EPOC en personas de 40 y más años
G35: 0.15 | H35: 1 | I35: 0.15 | J35: 1 | K35: 0.15 | L35: 0.15 | M35: 0.15 | N35: 0.15 | O35: 1 | P35: 0.15 | Q35: 0.15 | T35: 0.15 | U35: 1 | V35: 0.15 | W35: 1 | X35: 1 | AE35: 0.15 | AF35: 0.15
A36: 17 | B36: COQUIMBO | C36: 5 | D36: PAIHUANO | E36: 4202 | F36: RURAL | G36: =+$G6*$G$35 -> 0.011655 | H36: =+$H6*$H$35 -> 0.98 | I36: =+$I6*$I$35 -> 0.18 | J36: =+$J6*$J$35 -> 0.1 | K36: =+$K6*$K$35 -> 0.057 | L36: =+$L6*$L$35 -> 0.021075 | M36: =+$M6*$M$35 -> 0.03606 | N36: =+$N6*$N$35 -> 0.08295 | O36: =+$O6*$O$35 -> 0.94 | P36: =+$P6*$P$35 -> 0.07581 | Q36: =+$Q6*$Q$35 -> 0.036 | S36: 0.091 | T36: =+$T6*$T$35 -> 0.13635 | U36: =+$U6*$U$35 -> 0.9021 | V36: =+$V6*$V$35 -> 0.028575 | W36: =+$W6*$W$35 -> 0.2918 | X36: =+$X6*$X$35 -> 0.4507 | AE36: =+$R6*$R$35 -> 0 | AF36: =+$S6*$S$35 -> 0
A37: 18 | B37: COQUIMBO | C37: 5 | D37: LA HIGUERA | E37: 4302 | F37: RURAL | G37: =+$G7*$G$35 -> 0.011295 | H37: =+$H7*$H$35 -> 0.98 | I37: =+$I7*$I$35 -> 0.165 | J37: =+$J7*$J$35 -> 0.1 | K37: =+$K7*$K$35 -> 0.0465 | L37: =+$L7*$L$35 -> 0.01509 | M37: =+$M7*$M$35 -> 0.036375 | N37: =+$N7*$N$35 -> 0.08262 | O37: =+$O7*$O$35 -> 0.94 | P37: =+$P7*$P$35 -> 0.02307 | Q37: =+$Q7*$Q$35 -> 0.036 | R37: 0.2878 | S37: 0.345525 | T37: =+$T7*$T$35 -> 0.1374 | U37: =+$U7*$U$35 -> 0.8909 | V37: =+$V7*$V$35 -> 0.02892 | W37: =+$W7*$W$35 -> 0.1903 | X37: =+$X7*$X$35 -> 0.3703 | AE37: =+$R7*$R$35 -> 0 | AF37: =+$S7*$S$35 -> 0
A41: METAS A JULIO
E42: CODIGO COMUNA | F42: TIPO | G42: METAS COMPONENTE ACTIVIDAD GENERAL
G43: META Nº 2 | H43: META Nº 3.1 | I43: META Nº 5 | J43: META Nº 6 | K43: META Nº 7 | L43: META Nº 8.1 | M43: META Nº 8.2 | N43: META Nº 8.3 | O43: META Nº9 | P43: META Nº10 | Q43: META Nº11 | R43: META Nº12 | S43: META Nº13 | T43: META Nº14 | U43: META Nº17 | V43: META Nº18 | W43: META Nº19 | X43: META Nº20 | Y43: META Nº21 | AE43: META Nº12 | AF43: META Nº13
A44: Nº | B44: SERVICIOS DE SALUD | C44: Nº | D44: COMUNA | G44: Porcentaje de familias evaluadas según riesgo familiar | H44: Gestión de reclamos en APS con enfoque participativo (porcentaje de reclamos respondidos dentro de plazo) | I44: Tasa de consultas de morbilidad y de controles médicos, por habitante año | J44: SIC derivadas desde APS al Nivel Secundario | K44: Tasa de Visita Domiciliaria Integral | L44: EMP hombres 20 a 64 años | M44: EMP mujeres de 45 a 64 años | N44: EMP hombres y mujeres de 65 y mas años | O44: Cobertura de Evaluación del desarrollo Psicomotor en niños y niñas de 12 a 23 meses bajo control. | P44: Cobertura de control de salud integral a adolescentes de 10 a 14 años | Q44: Proporción de menores de 20 años con alta odontologica total | R44: Cobertura de atención Integral a personas de 5 y más años con trastornos mentales | S44: Cobertura de atención de Asma en población general y EPOC en personas de 40 y más años | T44: Cobertura de capacitación a cuidadores de personas con dependencia severa con pago de estipendio | U44: Ingreso precoz de mujeres a control de embarazo | V44: Cobertura de método anticonceptivos en adolescentes de 15 a 19 años estimados que usan métodos de regulación de la fertilidad | W44: Cobertura efectiva de Tratamiento en personas con Diabetes Mellitus 2, de 15 y más años | X44: Cobertura efectiva de Tratamiento en personas de 15 y más años, con Hipertensión Arterial | Y44: Proporción de niñas y niños menores de 3 años libre de caries en población estimada | AE44: Cobertura de atención Integral a personas de 5 y más años con trastornos mentales | AF44: Cobertura de atención de Asma en población general y EPOC en personas de 40 y más años
G45: 0.15 | H45: 0.97 | I45: 1 | J45: 0.1 | K45: 0.22 | L45: 0.2 | M45: 0.25 | N45: 0.55 | O45: 0.94 | P45: 0.15 | Q45: 0.24 | R45: 0.17 | S45: 0.22 | T45: 0.9 | U45: 0.9 | V45: 0.19 | W45: 0.29 | X45: 0.54 | AE45: 0.17 | AF45: 0.22
A46: 17 | B46: COQUIMBO | C46: 5 | D46: CANELA | E46: 4202 | F46: RURAL
A47: 18 | B47: COQUIMBO | C47: 5 | D47: COMBARBALA | E47: 4302 | F47: RURAL
A48: 19 | B48: COQUIMBO | C48: 5 | D48: COQUIMBO | E48: 4102 | F48: URBANA
A49: 20 | B49: COQUIMBO | C49: 5 | D49: ILLAPEL | E49: 4201 | F49: RURAL
A50: 21 | B50: COQUIMBO | C50: 5 | D50: LA SERENA | E50: 4101 | F50: URBANA
A51: 22 | B51: COQUIMBO | C51: 5 | D51: LOS VILOS | E51: 4203 | F51: RURAL
A52: 23 | B52: COQUIMBO | C52: 5 | D52: MONTE PATRIA | E52: 4303 | F52: RURAL
A53: 24 | B53: COQUIMBO | C53: 5 | D53: OVALLE | E53: 4301 | F53: RURAL
A54: 25 | B54: COQUIMBO | C54: 5 | D54: PUNITAQUI | E54: 4304 | F54: RURAL
A55: 26 | B55: COQUIMBO | C55: 5 | D55: RIO HURTADO | E55: 4305 | F55: RURAL
A56: 27 | B56: COQUIMBO | C56: 5 | D56: SALAMANCA | E56: 4204 | F56: RURAL
A57: 28 | B57: COQUIMBO | C57: 5 | D57: VICUÑA | E57: 4106 | F57: RURAL
A61: METAS A OCTUBRE
E62: CODIGO COMUNA | F62: TIPO | G62: METAS COMPONENTE ACTIVIDAD GENERAL
G63: META Nº 2 | H63: META Nº 3.1 | I63: META Nº 5 | J63: META Nº 6 | K63: META Nº 7 | L63: META Nº 8.1 | M63: META Nº 8.2 | N63: META Nº 8.3 | O63: META Nº9 | P63: META Nº10 | Q63: META Nº11 | R63: META Nº12 | S63: META Nº13 | T63: META Nº14 | U63: META Nº17 | V63: META Nº18 | W63: META Nº19 | X63: META Nº20 | Y63: META Nº21 | AE63: META Nº12 | AF63: META Nº13
A64: Nº | B64: SERVICIOS DE SALUD | C64: Nº | D64: COMUNA | G64: Porcentaje de familias evaluadas según riesgo familiar | H64: Gestión de reclamos en APS con enfoque participativo (porcentaje de reclamos respondidos dentro de plazo) | I64: Tasa de consultas de morbilidad y de controles médicos, por habitante año | J64: SIC derivadas desde APS al Nivel Secundario | K64: Tasa de Visita Domiciliaria Integral | L64: EMP hombres 20 a 64 años | M64: EMP mujeres de 45 a 64 años | N64: EMP hombres y mujeres de 65 y mas años | O64: Cobertura de Evaluación del desarrollo Psicomotor en niños y niñas de 12 a 23 meses bajo control. | P64: Cobertura de control de salud integral a adolescentes de 10 a 14 años | Q64: Proporción de menores de 20 años con alta odontologica total | R64: Cobertura de atención Integral a personas de 5 y más años con trastornos mentales | S64: Cobertura de atención de Asma en población general y EPOC en personas de 40 y más años | T64: Cobertura de capacitación a cuidadores de personas con dependencia severa con pago de estipendio | U64: Ingreso precoz de mujeres a control de embarazo | V64: Cobertura de método anticonceptivos en adolescentes de 15 a 19 años estimados que usan métodos de regulación de la fertilidad | W64: Cobertura efectiva de Tratamiento en personas con Diabetes Mellitus 2, de 15 y más años | X64: Cobertura efectiva de Tratamiento en personas de 15 y más años, con Hipertensión Arterial | Y64: Proporción de niñas y niños menores de 3 años libre de caries en población estimada | AE64: Cobertura de atención Integral a personas de 5 y más años con trastornos mentales | AF64: Cobertura de atención de Asma en población general y EPOC en personas de 40 y más años
G65: 0.15 | H65: 0.97 | I65: 1 | J65: 0.1 | K65: 0.22 | L65: 0.2 | M65: 0.25 | N65: 0.55 | O65: 0.94 | P65: 0.15 | Q65: 0.24 | R65: 0.17 | S65: 0.22 | T65: 0.9 | U65: 0.9 | V65: 0.19 | W65: 0.29 | X65: 0.54 | AE65: 0.17 | AF65: 0.22
A66: 17 | B66: COQUIMBO | C66: 5 | D66: CANELA | E66: 4202 | F66: RURAL | G66: =+G6*$G$65 -> 0.011655 | H66: =+H6*$H$65 -> 0.9506 | I66: =+I6*$I$65 -> 1.2 | J66: =+J6*$J$65 -> 0.01 | K66: =+K6*$K$65 -> 0.0836 | L66: =+L6*$L$65 -> 0.0281 | M66: =+M6*$M$65 -> 0.0601 | N66: =+N6*$N$65 -> 0.30415 | O66: =+O6*$O$65 -> 0.8836 | P66: =+P6*$P$65 -> 0.07581 | Q66: 0.22 | R66: 0.15 | S66: =+S46*$S$65 -> 0 | T66: 0.22 | U66: 0.15 | V66: =+V46*$S$65 -> 0 | W66: 0.22 | X66: 0.15 | Y66: =+Y46*$S$65 -> 0 | AE66: 0.15 | AF66: =+AF46*$S$65 -> 0
A67: 18 | B67: COQUIMBO | C67: 5 | D67: COMBARBALA | E67: 4302 | F67: RURAL | G67: =+G7*$G$65 -> 0.011295 | H67: =+H7*$H$65 -> 0.9506 | I67: =+I7*$I$65 -> 1.1 | J67: =+J7*$J$65 -> 0.01 | K67: =+K7*$K$65 -> 0.0682 | L67: =+L7*$L$65 -> 0.02012 | M67: =+M7*$M$65 -> 0.060625 | N67: =+N7*$N$65 -> 0.30294 | O67: =+O7*$O$65 -> 0.8836 | P67: =+P7*$P$65 -> 0.02307 | Q67: 0.22 | R67: 0.17 | S67: =+S7*$S$65 -> 0.076824 | T67: 0.22 | U67: 0.17 | V67: =+V7*$S$65 -> 0.042416 | W67: 0.22 | X67: 0.17 | Y67: =+Y7*$S$65 -> 0 | AE67: 0.17 | AF67: =+AF7*$S$65 -> 0.075746
A68: 19 | B68: COQUIMBO | C68: 5 | D68: COQUIMBO | E68: 4102 | F68: URBANA | G68: =+#REF!*$G$65 -> #REF! | H68: =+#REF!*$H$65 -> #REF! | I68: =+#REF!*$I$65 -> #REF! | J68: =+#REF!*$J$65 -> #REF! | K68: =+#REF!*$K$65 -> #REF! | L68: =+#REF!*$L$65 -> #REF! | M68: =+#REF!*$M$65 -> #REF! | N68: =+#REF!*$N$65 -> #REF! | O68: =+#REF!*$O$65 -> #REF! | P68: =+#REF!*$P$65 -> #REF! | Q68: 0.22 | R68: 0.17 | S68: =+#REF!*$S$65 -> #REF! | T68: 0.22 | U68: 0.17 | V68: =+#REF!*$S$65 -> #REF! | W68: 0.22 | X68: 0.17 | Y68: =+#REF!*$S$65 -> #REF! | AE68: 0.17 | AF68: =+#REF!*$S$65 -> #REF!
A69: 20 | B69: COQUIMBO | C69: 5 | D69: ILLAPEL | E69: 4201 | F69: RURAL | G69: =+#REF!*$G$65 -> #REF! | H69: =+#REF!*$H$65 -> #REF! | I69: =+#REF!*$I$65 -> #REF! | J69: =+#REF!*$J$65 -> #REF! | K69: =+#REF!*$K$65 -> #REF! | L69: =+#REF!*$L$65 -> #REF! | M69: =+#REF!*$M$65 -> #REF! | N69: =+#REF!*$N$65 -> #REF! | O69: =+#REF!*$O$65 -> #REF! | P69: =+#REF!*$P$65 -> #REF! | Q69: 0.22 | R69: 0.17 | S69: =+#REF!*$S$65 -> #REF! | T69: 0.22 | U69: 0.17 | V69: =+#REF!*$S$65 -> #REF! | W69: 0.22 | X69: 0.17 | Y69: =+#REF!*$S$65 -> #REF! | AE69: 0.17 | AF69: =+#REF!*$S$65 -> #REF!
A70: 21 | B70: COQUIMBO | C70: 5 | D70: LA SERENA | E70: 4101 | F70: URBANA | G70: =+#REF!*$G$65 -> #REF! | H70: =+#REF!*$H$65 -> #REF! | I70: =+#REF!*$I$65 -> #REF! | J70: =+#REF!*$J$65 -> #REF! | K70: =+#REF!*$K$65 -> #REF! | L70: =+#REF!*$L$65 -> #REF! | M70: =+#REF!*$M$65 -> #REF! | N70: =+#REF!*$N$65 -> #REF! | O70: =+#REF!*$O$65 -> #REF! | P70: =+#REF!*$P$65 -> #REF! | Q70: 0.22 | R70: 0.17 | S70: =+#REF!*$S$65 -> #REF! | T70: 0.22 | U70: 0.17 | V70: =+#REF!*$S$65 -> #REF! | W70: 0.22 | X70: 0.17 | Y70: =+#REF!*$S$65 -> #REF! | AE70: 0.17 | AF70: =+#REF!*$S$65 -> #REF!
A71: 22 | B71: COQUIMBO | C71: 5 | D71: LOS VILOS | E71: 4203 | F71: RURAL | G71: =+#REF!*$G$65 -> #REF! | H71: =+#REF!*$H$65 -> #REF! | I71: =+#REF!*$I$65 -> #REF! | J71: =+#REF!*$J$65 -> #REF! | K71: =+#REF!*$K$65 -> #REF! | L71: =+#REF!*$L$65 -> #REF! | M71: =+#REF!*$M$65 -> #REF! | N71: =+#REF!*$N$65 -> #REF! | O71: =+#REF!*$O$65 -> #REF! | P71: =+#REF!*$P$65 -> #REF! | Q71: 0.22 | R71: 0.19 | S71: =+#REF!*$S$65 -> #REF! | T71: 0.22 | U71: 0.19 | V71: =+#REF!*$S$65 -> #REF! | W71: 0.22 | X71: 0.19 | Y71: =+#REF!*$S$65 -> #REF! | AE71: 0.19 | AF71: =+#REF!*$S$65 -> #REF!
A72: 23 | B72: COQUIMBO | C72: 5 | D72: MONTE PATRIA | E72: 4303 | F72: RURAL | G72: =+#REF!*$G$65 -> #REF! | H72: =+#REF!*$H$65 -> #REF! | I72: =+#REF!*$I$65 -> #REF! | J72: =+#REF!*$J$65 -> #REF! | K72: =+#REF!*$K$65 -> #REF! | L72: =+#REF!*$L$65 -> #REF! | M72: =+#REF!*$M$65 -> #REF! | N72: =+#REF!*$N$65 -> #REF! | O72: =+#REF!*$O$65 -> #REF! | P72: =+#REF!*$P$65 -> #REF! | Q72: 0.22 | R72: 0.17 | S72: =+#REF!*$S$65 -> #REF! | T72: 0.22 | U72: 0.17 | V72: =+#REF!*$S$65 -> #REF! | W72: 0.22 | X72: 0.17 | Y72: =+#REF!*$S$65 -> #REF! | AE72: 0.17 | AF72: =+#REF!*$S$65 -> #REF!
A73: 24 | B73: COQUIMBO | C73: 5 | D73: OVALLE | E73: 4301 | F73: RURAL | G73: =+#REF!*$G$65 -> #REF! | H73: =+#REF!*$H$65 -> #REF! | I73: =+#REF!*$I$65 -> #REF! | J73: =+#REF!*$J$65 -> #REF! | K73: =+#REF!*$K$65 -> #REF! | L73: =+#REF!*$L$65 -> #REF! | M73: =+#REF!*$M$65 -> #REF! | N73: =+#REF!*$N$65 -> #REF! | O73: =+#REF!*$O$65 -> #REF! | P73: =+#REF!*$P$65 -> #REF! | Q73: 0.22 | R73: 0.17 | S73: =+#REF!*$S$65 -> #REF! | T73: 0.22 | U73: 0.17 | V73: =+#REF!*$S$65 -> #REF! | W73: 0.22 | X73: 0.17 | Y73: =+#REF!*$S$65 -> #REF! | AE73: 0.17 | AF73: =+#REF!*$S$65 -> #REF!
A74: 25 | B74: COQUIMBO | C74: 5 | D74: PUNITAQUI | E74: 4304 | F74: RURAL | G74: =+#REF!*$G$65 -> #REF! | H74: =+#REF!*$H$65 -> #REF! | I74: =+#REF!*$I$65 -> #REF! | J74: =+#REF!*$J$65 -> #REF! | K74: =+#REF!*$K$65 -> #REF! | L74: =+#REF!*$L$65 -> #REF! | M74: =+#REF!*$M$65 -> #REF! | N74: =+#REF!*$N$65 -> #REF! | O74: =+#REF!*$O$65 -> #REF! | P74: =+#REF!*$P$65 -> #REF! | Q74: 0.22 | R74: 0.17 | S74: =+#REF!*$S$65 -> #REF! | T74: 0.22 | U74: 0.17 | V74: =+#REF!*$S$65 -> #REF! | W74: 0.22 | X74: 0.17 | Y74: =+#REF!*$S$65 -> #REF! | AE74: 0.17 | AF74: =+#REF!*$S$65 -> #REF!
A75: 26 | B75: COQUIMBO | C75: 5 | D75: RIO HURTADO | E75: 4305 | F75: RURAL | G75: =+#REF!*$G$65 -> #REF! | H75: =+#REF!*$H$65 -> #REF! | I75: =+#REF!*$I$65 -> #REF! | J75: =+#REF!*$J$65 -> #REF! | K75: =+#REF!*$K$65 -> #REF! | L75: =+#REF!*$L$65 -> #REF! | M75: =+#REF!*$M$65 -> #REF! | N75: =+#REF!*$N$65 -> #REF! | O75: =+#REF!*$O$65 -> #REF! | P75: =+#REF!*$P$65 -> #REF! | Q75: 0.35 | R75: 0.32 | S75: =+#REF!*$S$65 -> #REF! | T75: 0.35 | U75: 0.32 | V75: =+#REF!*$S$65 -> #REF! | W75: 0.35 | X75: 0.32 | Y75: =+#REF!*$S$65 -> #REF! | AE75: 0.32 | AF75: =+#REF!*$S$65 -> #REF!
A76: 27 | B76: COQUIMBO | C76: 5 | D76: SALAMANCA | E76: 4204 | F76: RURAL | G76: =+#REF!*$G$65 -> #REF! | H76: =+#REF!*$H$65 -> #REF! | I76: =+#REF!*$I$65 -> #REF! | J76: =+#REF!*$J$65 -> #REF! | K76: =+#REF!*$K$65 -> #REF! | L76: =+#REF!*$L$65 -> #REF! | M76: =+#REF!*$M$65 -> #REF! | N76: =+#REF!*$N$65 -> #REF! | O76: =+#REF!*$O$65 -> #REF! | P76: =+#REF!*$P$65 -> #REF! | Q76: 0.22 | R76: 0.22 | S76: =+#REF!*$S$65 -> #REF! | T76: 0.22 | U76: 0.22 | V76: =+#REF!*$S$65 -> #REF! | W76: 0.22 | X76: 0.22 | Y76: =+#REF!*$S$65 -> #REF! | AE76: 0.22 | AF76: =+#REF!*$S$65 -> #REF!
A77: 28 | B77: COQUIMBO | C77: 5 | D77: VICUÑA | E77: 4106 | F77: RURAL | G77: =+#REF!*$G$65 -> #REF! | H77: =+#REF!*$H$65 -> #REF! | I77: =+#REF!*$I$65 -> #REF! | J77: =+#REF!*$J$65 -> #REF! | K77: =+#REF!*$K$65 -> #REF! | L77: =+#REF!*$L$65 -> #REF! | M77: =+#REF!*$M$65 -> #REF! | N77: =+#REF!*$N$65 -> #REF! | O77: =+#REF!*$O$65 -> #REF! | P77: =+#REF!*$P$65 -> #REF! | Q77: 0.22 | R77: 0.23 | S77: =+#REF!*$S$65 -> #REF! | T77: 0.22 | U77: 0.23 | V77: =+#REF!*$S$65 -> #REF! | W77: 0.22 | X77: 0.23 | Y77: =+#REF!*$S$65 -> #REF! | AE77: 0.23 | AF77: =+#REF!*$S$65 -> #REF!
A81: METAS A DICIEMBRE
E82: CODIGO COMUNA | F82: TIPO | G82: METAS COMPONENTE ACTIVIDAD GENERAL
G83: META Nº 2 | H83: META Nº 3.1 | I83: META Nº 5 | J83: META Nº 6 | K83: META Nº 7 | L83: META Nº 8.1 | M83: META Nº 8.2 | N83: META Nº 8.3 | O83: META Nº9 | P83: META Nº10 | Q83: META Nº11 | R83: META Nº12 | S83: META Nº13 | T83: META Nº14 | U83: META Nº17 | V83: META Nº18 | W83: META Nº19 | X83: META Nº20 | Y83: META Nº21 | AE83: META Nº12 | AF83: META Nº13
A84: Nº | B84: SERVICIOS DE SALUD | C84: Nº | D84: COMUNA | G84: Porcentaje de familias evaluadas según riesgo familiar | H84: Gestión de reclamos en APS con enfoque participativo (porcentaje de reclamos respondidos dentro de plazo) | I84: Tasa de consultas de morbilidad y de controles médicos, por habitante año | J84: SIC derivadas desde APS al Nivel Secundario | K84: Tasa de Visita Domiciliaria Integral | L84: EMP hombres 20 a 64 años | M84: EMP mujeres de 45 a 64 años | N84: EMP hombres y mujeres de 65 y mas años | O84: Cobertura de Evaluación del desarrollo Psicomotor en niños y niñas de 12 a 23 meses bajo control. | P84: Cobertura de control de salud integral a adolescentes de 10 a 14 años | Q84: Proporción de menores de 20 años con alta odontologica total | R84: Cobertura de atención Integral a personas de 5 y más años con trastornos mentales | S84: Cobertura de atención de Asma en población general y EPOC en personas de 40 y más años | T84: Cobertura de capacitación a cuidadores de personas con dependencia severa con pago de estipendio | U84: Ingreso precoz de mujeres a control de embarazo | V84: Cobertura de método anticonceptivos en adolescentes de 15 a 19 años estimados que usan métodos de regulación de la fertilidad | W84: Cobertura efectiva de Tratamiento en personas con Diabetes Mellitus 2, de 15 y más años | X84: Cobertura efectiva de Tratamiento en personas de 15 y más años, con Hipertensión Arterial | Y84: Proporción de niñas y niños menores de 3 años libre de caries en población estimada | AE84: Cobertura de atención Integral a personas de 5 y más años con trastornos mentales | AF84: Cobertura de atención de Asma en población general y EPOC en personas de 40 y más años
G85: 0.15 | H85: 0.97 | I85: 1 | J85: 0.1 | K85: 0.22 | L85: 0.2 | M85: 0.25 | N85: 0.55 | O85: 0.94 | P85: 0.15 | Q85: 0.24 | R85: 0.17 | S85: 0.22 | T85: 0.9 | U85: 0.9 | V85: 0.19 | W85: 0.29 | X85: 0.54 | AE85: 0.17 | AF85: 0.22
A86: 17 | B86: COQUIMBO | C86: 5 | D86: CANELA | E86: 4202 | F86: RURAL | G86: =+G6*$G$85 -> 0.011655 | H86: =+H6*$H$85 -> 0.9506 | I86: =+I6*$I$85 -> 1.2 | J86: =+J6*$J$85 -> 0.01 | K86: =+K6*$K$85 -> 0.0836 | L86: =+L6*$L$85 -> 0.0281 | M86: =+M6*$M$85 -> 0.0601 | N86: =+N6*$N$85 -> 0.30415 | O86: =+O6*$O$85 -> 0.8836 | P86: =+P6*$P$85 -> 0.07581 | Q86: 0.22 | R86: 0.15 | S86: =+S6*$S$85 -> 0.048532 | T86: 0.22 | U86: 0.15 | V86: =+V6*$S$85 -> 0.04191 | W86: 0.22 | X86: 0.15 | Y86: =+Y6*$S$85 -> 0 | AE86: 0.15 | AF86: =+AF6*$S$85 -> 0.010516
A87: 18 | B87: COQUIMBO | C87: 5 | D87: COMBARBALA | E87: 4302 | F87: RURAL | G87: =+G7*$G$85 -> 0.011295 | H87: =+H7*$H$85 -> 0.9506 | I87: =+I7*$I$85 -> 1.1 | J87: =+J7*$J$85 -> 0.01 | K87: =+K7*$K$85 -> 0.0682 | L87: =+L7*$L$85 -> 0.02012 | M87: =+M7*$M$85 -> 0.060625 | N87: =+N7*$N$85 -> 0.30294 | O87: =+O7*$O$85 -> 0.8836 | P87: =+P7*$P$85 -> 0.02307 | Q87: 0.22 | R87: 0.17 | S87: =+S7*$S$85 -> 0.076824 | T87: 0.22 | U87: 0.17 | V87: =+V7*$S$85 -> 0.042416 | W87: 0.22 | X87: 0.17 | Y87: =+Y7*$S$85 -> 0 | AE87: 0.17 | AF87: =+AF7*$S$85 -> 0.075746
A88: 19 | B88: COQUIMBO | C88: 5 | D88: COQUIMBO | E88: 4102 | F88: URBANA | G88: =+#REF!*$G$85 -> #REF! | H88: =+#REF!*$H$85 -> #REF! | I88: =+#REF!*$I$85 -> #REF! | J88: =+#REF!*$J$85 -> #REF! | K88: =+#REF!*$K$85 -> #REF! | L88: =+#REF!*$L$85 -> #REF! | M88: =+#REF!*$M$85 -> #REF! | N88: =+#REF!*$N$85 -> #REF! | O88: =+#REF!*$O$85 -> #REF! | P88: =+#REF!*$P$85 -> #REF! | Q88: 0.22 | R88: 0.17 | S88: =+#REF!*$S$85 -> #REF! | T88: 0.22 | U88: 0.17 | V88: =+#REF!*$S$85 -> #REF! | W88: 0.22 | X88: 0.17 | Y88: =+#REF!*$S$85 -> #REF! | AE88: 0.17 | AF88: =+#REF!*$S$85 -> #REF!
A89: 20 | B89: COQUIMBO | C89: 5 | D89: ILLAPEL | E89: 4201 | F89: RURAL | G89: =+#REF!*$G$85 -> #REF! | H89: =+#REF!*$H$85 -> #REF! | I89: =+#REF!*$I$85 -> #REF! | J89: =+#REF!*$J$85 -> #REF! | K89: =+#REF!*$K$85 -> #REF! | L89: =+#REF!*$L$85 -> #REF! | M89: =+#REF!*$M$85 -> #REF! | N89: =+#REF!*$N$85 -> #REF! | O89: =+#REF!*$O$85 -> #REF! | P89: =+#REF!*$P$85 -> #REF! | Q89: 0.22 | R89: 0.17 | S89: =+#REF!*$S$85 -> #REF! | T89: 0.22 | U89: 0.17 | V89: =+#REF!*$S$85 -> #REF! | W89: 0.22 | X89: 0.17 | Y89: =+#REF!*$S$85 -> #REF! | AE89: 0.17 | AF89: =+#REF!*$S$85 -> #REF!
A90: 21 | B90: COQUIMBO | C90: 5 | D90: LA SERENA | E90: 4101 | F90: URBANA | G90: =+#REF!*$G$85 -> #REF! | H90: =+#REF!*$H$85 -> #REF! | I90: =+#REF!*$I$85 -> #REF! | J90: =+#REF!*$J$85 -> #REF! | K90: =+#REF!*$K$85 -> #REF! | L90: =+#REF!*$L$85 -> #REF! | M90: =+#REF!*$M$85 -> #REF! | N90: =+#REF!*$N$85 -> #REF! | O90: =+#REF!*$O$85 -> #REF! | P90: =+#REF!*$P$85 -> #REF! | Q90: 0.22 | R90: 0.17 | S90: =+#REF!*$S$85 -> #REF! | T90: 0.22 | U90: 0.17 | V90: =+#REF!*$S$85 -> #REF! | W90: 0.22 | X90: 0.17 | Y90: =+#REF!*$S$85 -> #REF! | AE90: 0.17 | AF90: =+#REF!*$S$85 -> #REF!
A91: 22 | B91: COQUIMBO | C91: 5 | D91: LOS VILOS | E91: 4203 | F91: RURAL | G91: =+#REF!*$G$85 -> #REF! | H91: =+#REF!*$H$85 -> #REF! | I91: =+#REF!*$I$85 -> #REF! | J91: =+#REF!*$J$85 -> #REF! | K91: =+#REF!*$K$85 -> #REF! | L91: =+#REF!*$L$85 -> #REF! | M91: =+#REF!*$M$85 -> #REF! | N91: =+#REF!*$N$85 -> #REF! | O91: =+#REF!*$O$85 -> #REF! | P91: =+#REF!*$P$85 -> #REF! | Q91: 0.22 | R91: 0.19 | S91: =+#REF!*$S$85 -> #REF! | T91: 0.22 | U91: 0.19 | V91: =+#REF!*$S$85 -> #REF! | W91: 0.22 | X91: 0.19 | Y91: =+#REF!*$S$85 -> #REF! | AE91: 0.19 | AF91: =+#REF!*$S$85 -> #REF!
A92: 23 | B92: COQUIMBO | C92: 5 | D92: MONTE PATRIA | E92: 4303 | F92: RURAL | G92: =+#REF!*$G$85 -> #REF! | H92: =+#REF!*$H$85 -> #REF! | I92: =+#REF!*$I$85 -> #REF! | J92: =+#REF!*$J$85 -> #REF! | K92: =+#REF!*$K$85 -> #REF! | L92: =+#REF!*$L$85 -> #REF! | M92: =+#REF!*$M$85 -> #REF! | N92: =+#REF!*$N$85 -> #REF! | O92: =+#REF!*$O$85 -> #REF! | P92: =+#REF!*$P$85 -> #REF! | Q92: 0.22 | R92: 0.17 | S92: =+#REF!*$S$85 -> #REF! | T92: 0.22 | U92: 0.17 | V92: =+#REF!*$S$85 -> #REF! | W92: 0.22 | X92: 0.17 | Y92: =+#REF!*$S$85 -> #REF! | AE92: 0.17 | AF92: =+#REF!*$S$85 -> #REF!
A93: 24 | B93: COQUIMBO | C93: 5 | D93: OVALLE | E93: 4301 | F93: RURAL | G93: =+#REF!*$G$85 -> #REF! | H93: =+#REF!*$H$85 -> #REF! | I93: =+#REF!*$I$85 -> #REF! | J93: =+#REF!*$J$85 -> #REF! | K93: =+#REF!*$K$85 -> #REF! | L93: =+#REF!*$L$85 -> #REF! | M93: =+#REF!*$M$85 -> #REF! | N93: =+#REF!*$N$85 -> #REF! | O93: =+#REF!*$O$85 -> #REF! | P93: =+#REF!*$P$85 -> #REF! | Q93: 0.22 | R93: 0.17 | S93: =+#REF!*$S$85 -> #REF! | T93: 0.22 | U93: 0.17 | V93: =+#REF!*$S$85 -> #REF! | W93: 0.22 | X93: 0.17 | Y93: =+#REF!*$S$85 -> #REF! | AE93: 0.17 | AF93: =+#REF!*$S$85 -> #REF!
A94: 25 | B94: COQUIMBO | C94: 5 | D94: PUNITAQUI | E94: 4304 | F94: RURAL | G94: =+#REF!*$G$85 -> #REF! | H94: =+#REF!*$H$85 -> #REF! | I94: =+#REF!*$I$85 -> #REF! | J94: =+#REF!*$J$85 -> #REF! | K94: =+#REF!*$K$85 -> #REF! | L94: =+#REF!*$L$85 -> #REF! | M94: =+#REF!*$M$85 -> #REF! | N94: =+#REF!*$N$85 -> #REF! | O94: =+#REF!*$O$85 -> #REF! | P94: =+#REF!*$P$85 -> #REF! | Q94: 0.22 | R94: 0.17 | S94: =+#REF!*$S$85 -> #REF! | T94: 0.22 | U94: 0.17 | V94: =+#REF!*$S$85 -> #REF! | W94: 0.22 | X94: 0.17 | Y94: =+#REF!*$S$85 -> #REF! | AE94: 0.17 | AF94: =+#REF!*$S$85 -> #REF!
A95: 26 | B95: COQUIMBO | C95: 5 | D95: RIO HURTADO | E95: 4305 | F95: RURAL | G95: =+#REF!*$G$85 -> #REF! | H95: =+#REF!*$H$85 -> #REF! | I95: =+#REF!*$I$85 -> #REF! | J95: =+#REF!*$J$85 -> #REF! | K95: =+#REF!*$K$85 -> #REF! | L95: =+#REF!*$L$85 -> #REF! | M95: =+#REF!*$M$85 -> #REF! | N95: =+#REF!*$N$85 -> #REF! | O95: =+#REF!*$O$85 -> #REF! | P95: =+#REF!*$P$85 -> #REF! | Q95: 0.35 | R95: 0.32 | S95: =+#REF!*$S$85 -> #REF! | T95: 0.35 | U95: 0.32 | V95: =+#REF!*$S$85 -> #REF! | W95: 0.35 | X95: 0.32 | Y95: =+#REF!*$S$85 -> #REF! | AE95: 0.32 | AF95: =+#REF!*$S$85 -> #REF!
A96: 27 | B96: COQUIMBO | C96: 5 | D96: SALAMANCA | E96: 4204 | F96: RURAL | G96: =+#REF!*$G$85 -> #REF! | H96: =+#REF!*$H$85 -> #REF! | I96: =+#REF!*$I$85 -> #REF! | J96: =+#REF!*$J$85 -> #REF! | K96: =+#REF!*$K$85 -> #REF! | L96: =+#REF!*$L$85 -> #REF! | M96: =+#REF!*$M$85 -> #REF! | N96: =+#REF!*$N$85 -> #REF! | O96: =+#REF!*$O$85 -> #REF! | P96: =+#REF!*$P$85 -> #REF! | Q96: 0.22 | R96: 0.22 | S96: =+#REF!*$S$85 -> #REF! | T96: 0.22 | U96: 0.22 | V96: =+#REF!*$S$85 -> #REF! | W96: 0.22 | X96: 0.22 | Y96: =+#REF!*$S$85 -> #REF! | AE96: 0.22 | AF96: =+#REF!*$S$85 -> #REF!
A97: 28 | B97: COQUIMBO | C97: 5 | D97: VICUÑA | E97: 4106 | F97: RURAL | G97: =+#REF!*$G$85 -> #REF! | H97: =+#REF!*$H$85 -> #REF! | I97: =+#REF!*$I$85 -> #REF! | J97: =+#REF!*$J$85 -> #REF! | K97: =+#REF!*$K$85 -> #REF! | L97: =+#REF!*$L$85 -> #REF! | M97: =+#REF!*$M$85 -> #REF! | N97: =+#REF!*$N$85 -> #REF! | O97: =+#REF!*$O$85 -> #REF! | P97: =+#REF!*$P$85 -> #REF! | Q97: 0.22 | R97: 0.23 | S97: =+#REF!*$S$85 -> #REF! | T97: 0.22 | U97: 0.23 | V97: =+#REF!*$S$85 -> #REF! | W97: 0.22 | X97: 0.23 | Y97: =+#REF!*$S$85 -> #REF! | AE97: 0.23 | AF97: =+#REF!*$S$85 -> #REF!
